Workbook

Sheet Forside og oppsummering
B4: Søknad om Kommunalt kompetanse- og innovasjonstilskudd
B6: Instruksjoner til søknadsskjemaet
C7: Søknadsskjemaet er delt inn i flere faner:
D8: Forside og oppsummering: I denne fanen oppgir dere informasjon om kommunen. Her oppsummeres det også hva som er søkt om slik at en kan få en oversikt etter at søknaden er ferdig utfylt.
D9: Kompetansetilskudd og BPA: I denne fanen fyller dere inn for de utdannelsene / kursene det søkes om.
D10: Prosjekt (1-5): I disse fanene fyller dere inn prosjektbeskrivelse og budsjett for eventuelle innovasjonsprosjekter. Det kan maksimalt søkes om 5 ulike innovasjonsprosjekter
C12: Begreper i seksjonen for kompetansetilskudd:
D13: Ubrukte midler ønskes overført: Dersom dere har ubrukte midler igjen fra et tiltak i forrige periode så kan disse midlene søkes overført til kommende periode.
D14: Søknadsbeløp: Dette er hvor mye nytt tilskudd som søkes utbetalt til tiltaket.
D15: Eksempel: Dersom et tiltak totalt koster 20 000kr og dere har igjen 5 000kr i ubrukte midler som ønskes overført, så blir søknadsbeløpet 15 000kr.
C17: Det er bare cellene som er fargelagt med gul/lys gul som kan fylles ut
C19: Skjemaet skal sendes inn som excel-fil og ikke konverteres til PDF.
B22: 1. | C22: Informasjon om kommunen
C23: 1.1. | D23: Navn på kommunen
C24: 1.2. | D24: Org.nummer
C25: 1.3. | D25: Kontonummer
C26: 1.4. | D26: Kontaktperson Én person
C27: 1.5. | D27: E-post Til kontaktperson
C28: 1.6. | D28: Telefon Til kontaktperson
C29: 1.7. | D29: Merknad på utbetalingen
C30: 1.8. | D30: Har kommunen kompetanseplan? (Ja/Nei) Vedlegges søknaden
C32: Bekreftelse på tildelt myndighet
C33: Jeg, som innsender av søknadsskjemaet, bekrefter å ha blitt gitt fullmakt, av kommunaldirektør, eller den vedkommende har delegert myndighet til, til å søke på vegne av nevnte kommune. Min bekreftelse innebærer at kommunen aksepterer vilkårene for å motta tilskuddsmidler, som er oppført i regelverket for tilskuddsordningen.
C36: Sted/dato/navn
B41: 2. | C41: Oppsummering av Kompetansetiltak (grunn-, videre- og etterutdanning)
E43: ='Kompetansetilskudd og BPA'!F$6 -> Videreføring: Antall personer | F43: ='Kompetansetilskudd og BPA'!G$6 -> Antall nye personer | G43: ='Kompetansetilskudd og BPA'!I$6 -> Ubrukte midler som ønskes overført | H43: ='Kompetansetilskudd og BPA'!J$6 -> Søknads- beløp | I43: ='Kompetansetilskudd og BPA'!K$6 -> Ubrukte midler som tilbakebetales | J43: ='Kompetansetilskudd og BPA'!M$6 -> Totalt antall personer det søkes for | K43: ='Kompetansetilskudd og BPA'!N$6 -> Totalt beløp det søkes om til tiltaket
C44: 2.1. | D44: Videregående skole, fag- og yrkesopplæring innen helse (fagbrev) | E44: ='Kompetansetilskudd og BPA'!F10 -> 0 | F44: ='Kompetansetilskudd og BPA'!G10 -> 0 | G44: ='Kompetansetilskudd og BPA'!I10 -> 0 | H44: ='Kompetansetilskudd og BPA'!J10 -> 0 | I44: ='Kompetansetilskudd og BPA'!K10 -> 0 | J44: ='Kompetansetilskudd og BPA'!M10 -> 0 | K44: ='Kompetansetilskudd og BPA'!N10 -> 0
C45: 2.2. | D45: Fagskoleutdanning | E45: ='Kompetansetilskudd og BPA'!F25 -> 0 | F45: ='Kompetansetilskudd og BPA'!G25 -> 0 | G45: ='Kompetansetilskudd og BPA'!I25 -> 0 | H45: ='Kompetansetilskudd og BPA'!J25 -> 0 | I45: ='Kompetansetilskudd og BPA'!K25 -> 0 | J45: ='Kompetansetilskudd og BPA'!M25 -> 0 | K45: ='Kompetansetilskudd og BPA'!N25 -> 0
C46: 2.3. | D46: Bachelorutdanning helse- og sosialfag | E46: ='Kompetansetilskudd og BPA'!F43 -> 0 | F46: ='Kompetansetilskudd og BPA'!G43 -> 0 | G46: ='Kompetansetilskudd og BPA'!I43 -> 0 | H46: ='Kompetansetilskudd og BPA'!J43 -> 0 | I46: ='Kompetansetilskudd og BPA'!K43 -> 0 | J46: ='Kompetansetilskudd og BPA'!M43 -> 0 | K46: ='Kompetansetilskudd og BPA'!N43 -> 0
C47: 2.4. | D47: Videreutdanning og mastergradutdanning (påbygg bachelorutdanning) | E47: ='Kompetansetilskudd og BPA'!F61 -> 0 | F47: ='Kompetansetilskudd og BPA'!G61 -> 0 | G47: ='Kompetansetilskudd og BPA'!I61 -> 0 | H47: ='Kompetansetilskudd og BPA'!J61 -> 0 | I47: ='Kompetansetilskudd og BPA'!K61 -> 0 | J47: ='Kompetansetilskudd og BPA'!M61 -> 0 | K47: ='Kompetansetilskudd og BPA'!N61 -> 0
C48: 2.5. | D48: ABC-opplæring | E48: ='Kompetansetilskudd og BPA'!F74 -> 0 | F48: ='Kompetansetilskudd og BPA'!G74 -> 0 | G48: ='Kompetansetilskudd og BPA'!I74 -> 0 | H48: ='Kompetansetilskudd og BPA'!J74 -> 0 | I48: ='Kompetansetilskudd og BPA'!K74 -> 0 | J48: ='Kompetansetilskudd og BPA'!M74 -> 0 | K48: ='Kompetansetilskudd og BPA'!N74 -> 0
C49: 2.6. | D49: Annen internopplæring / korte etterutdanninger /kurs mv. | E49: ='Kompetansetilskudd og BPA'!F86 -> 0 | F49: ='Kompetansetilskudd og BPA'!G86 -> 0 | G49: ='Kompetansetilskudd og BPA'!I86 -> 0 | H49: ='Kompetansetilskudd og BPA'!J86 -> 0 | I49: ='Kompetansetilskudd og BPA'!K86 -> 0 | J49: ='Kompetansetilskudd og BPA'!M86 -> 0 | K49: ='Kompetansetilskudd og BPA'!N86 -> 0
D50: SUM Kompetansetiltak: | E50: =SUM(E44:E49) -> 0 | F50: =SUM(F44:F49) -> 0 | G50: =SUM(G44:G49) -> 0 | H50: =SUM(H44:H49) -> 0 | I50: =SUM(I44:I49) -> 0 | J50: =SUM(J44:J49) -> 0 | K50: =SUM(K44:K49) -> 0
B53: 3. | C53: Oppsummering av Opplæringstilskudd BPA (brukerstyrt personlig assistanse)
F55: Totalt antall personer | G55: ='Kompetansetilskudd og BPA'!I$6 -> Ubrukte midler som ønskes overført | H55: ='Kompetansetilskudd og BPA'!J$6 -> Søknads- beløp | I55: ='Kompetansetilskudd og BPA'!K$6 -> Ubrukte midler som tilbakebetales | J55: ='Kompetansetilskudd og BPA'!N$6 -> Totalt beløp det søkes om til tiltaket
E56: SUM BPA: | F56: ='Kompetansetilskudd og BPA'!G102 -> 0 | G56: ='Kompetansetilskudd og BPA'!I102 -> 0 | H56: ='Kompetansetilskudd og BPA'!J102 -> 0 | I56: ='Kompetansetilskudd og BPA'!K102 -> 0 | J56: ='Kompetansetilskudd og BPA'!M102 -> 0
B59: 4. | C59: Oppsummering av innovasjonsprosjekter
H61: Tallene er hentet fra innovasjonsprosjektenes egne faner
E62: Rangering etter antatt nytte Der 1 er høyest og 5 er lavest (Valgfritt) | F62: Kostnader | G62: Andre inntekter | H62: Ubrukte midler som ønskes overført | I62: Søknadsbeløp | J62: Totalt beløp det søkes om til tiltaket
D63: ='Prosjekt 1'!$C$2 -> Innovasjonsprosjekt 1: | E63: =IF('Prosjekt 1'!$G$11="","",'Prosjekt 1'!$G$11) | F63: ='Prosjekt 1'!$G$73 -> 0 | G63: ='Prosjekt 1'!$H$73 -> 0 | H63: ='Prosjekt 1'!$F$73 -> 0 | I63: =J63-H63 -> 0 | J63: =F63-G63 -> 0
D64: ='Prosjekt 2'!$C$2 -> Innovasjonsprosjekt 2: | E64: =IF('Prosjekt 2'!$G$11="","",'Prosjekt 2'!$G$11) | F64: ='Prosjekt 2'!$G$73 -> 0 | G64: ='Prosjekt 2'!$H$73 -> 0 | H64: ='Prosjekt 2'!$F$73 -> 0 | I64: =J64-H64 -> 0 | J64: =F64-G64 -> 0
D65: ='Prosjekt 3'!$C$2 -> Innovasjonsprosjekt 3: | E65: =IF('Prosjekt 3'!$G$11="","",'Prosjekt 3'!$G$11) | F65: ='Prosjekt 3'!$G$73 -> 0 | G65: ='Prosjekt 3'!$H$73 -> 0 | H65: ='Prosjekt 3'!$F$73 -> 0 | I65: =J65-H65 -> 0 | J65: =F65-G65 -> 0
D66: ='Prosjekt 4'!$C$2 -> Innovasjonsprosjekt 4: | E66: =IF('Prosjekt 4'!$G$11="","",'Prosjekt 4'!$G$11) | F66: ='Prosjekt 4'!$G$73 -> 0 | G66: ='Prosjekt 4'!$H$73 -> 0 | H66: ='Prosjekt 4'!$F$73 -> 0 | I66: =J66-H66 -> 0 | J66: =F66-G66 -> 0
D67: ='Prosjekt 5'!$C$2 -> Innovasjonsprosjekt 5: | E67: =IF('Prosjekt 5'!$G$11="","",'Prosjekt 5'!$G$11) | F67: ='Prosjekt 5'!$G$73 -> 0 | G67: ='Prosjekt 5'!$H$73 -> 0 | H67: ='Prosjekt 5'!$F$73 -> 0 | I67: =J67-H67 -> 0 | J67: =F67-G67 -> 0
E68: SUM innovasjonsprosjekter: | F68: =SUM(F63:F67) -> 0 | G68: =SUM(G63:G67) -> 0 | H68: =SUM(H63:H67) -> 0 | I68: =SUM(I63:I67) -> 0 | J68: =SUM(J63:J67) -> 0

Sheet Kompetansetilskudd og BPA
B2: 2. | C2: Kompetansetiltak (grunn-, videre- og etterutdanning)
C3: 2.1. | D3: Videregående skole, fag- og yrkesopplæring innen helse (fagbrev)
F5: Personer | I5: Beløper | M5: Oppsummering
F6: Videreføring: Antall personer | G6: Antall nye personer | I6: Ubrukte midler som ønskes overført | J6: Søknads- beløp | K6: Ubrukte midler som tilbakebetales | M6: Totalt antall personer det søkes for | N6: Totalt beløp det søkes om til tiltaket | P6: Statsforvalteren (Fylles ikke ut av kommunen)
E7: Utdanningstype | F7: Personer som fortsetter påbegynt utdannelse | G7: Personer som starter ny utdannelse | I7: Ubrukte midler som ønskes overført til kommende periode | J7: Nye midler som søkes utbetalt til tiltaket | M7: (Autosummert) | N7: (Autosummert) | P7: Resultat vedtak | Q7: Totalt innvilget tildelingsbeløp | R7: Totalt innvilget utbetalingsbeløp
D8: 2.1a | E8: Helsefagarbeider | M8: =F8+G8 -> 0 | N8: =I8+J8 -> 0
D9: 2.1b | E9: Annen utdanning på videregående skolenivå | M9: =F9+G9 -> 0 | N9: =I9+J9 -> 0
E10: 2.1. SUM: | F10: =SUM(F8:F9) -> 0 | G10: =SUM(G8:G9) -> 0 | I10: =SUM(I8:I9) -> 0 | J10: =SUM(J8:J9) -> 0 | K10: =SUM(K8:K9) -> 0 | M10: =SUM(M8:M9) -> 0 | N10: =SUM(N8:N9) -> 0 | Q10: =SUM(Q8:Q9) -> 0 | R10: =SUM(R8:R9) -> 0
D12: 2.1c | E12: Merknader Nærmere om hvilken annen utdanning Forsøk å skrive mindre enn 100 ord | S12: =IF(LEN(F12)-LEN(SUBSTITUTE(F12," ",""))>100,_xlfn.CONCAT("Du har skrevet ",LEN(F12)-LEN(SUBSTITUTE(F12," ",""))," ord i merknadsfeltet. Forsøk å korte ned."),"")
C14: 2.2. | D14: Fagskoleutdanning
F16: Personer | I16: Beløper | M16: Oppsummering
F17: =F$6 -> Videreføring: Antall personer | G17: =G$6 -> Antall nye personer | I17: =I$6 -> Ubrukte midler som ønskes overført | J17: =J$6 -> Søknads- beløp | K17: =K$6 -> Ubrukte midler som tilbakebetales | M17: =M$6 -> Totalt antall personer det søkes for | N17: =N$6 -> Totalt beløp det søkes om til tiltaket | P17: Statsforvalteren (Fylles ikke ut av kommunen)
E18: Utdanningstype | F18: =IF(F$7="","",F$7) -> Personer som fortsetter påbegynt utdannelse | G18: =IF(G$7="","",G$7) -> Personer som starter ny utdannelse | I18: =IF(I$7="","",I$7) -> Ubrukte midler som ønskes overført til kommende periode | J18: =IF(J$7="","",J$7) -> Nye midler som søkes utbetalt til tiltaket | K18: =IF(K$7="","",K$7) | M18: =IF(M$7="","",M$7) -> (Autosummert) | N18: =IF(N$7="","",N$7) -> (Autosummert) | P18: Resultat vedtak | Q18: Totalt innvilget tildelingsbeløp | R18: Totalt innvilget utbetalingsbeløp
D19: 2.2a | E19: Psykisk helsearbeid og rusarbeid | M19: =F19+G19 -> 0 | N19: =I19+J19 -> 0
D20: 2.2b | E20: Eldreomsorg/demens | M20: =F20+G20 -> 0 | N20: =I20+J20 -> 0
D21: 2.2c | E21: Habilitering/rehabilitering | M21: =F21+G21 -> 0 | N21: =I21+J21 -> 0
D22: 2.2d | E22: Kreftomsorg/lindrende behandling | M22: =F22+G22 -> 0 | N22: =I22+J22 -> 0
D23: 2.2e | E23: Veiledning | M23: =F23+G23 -> 0 | N23: =I23+J23 -> 0
D24: 2.2f | E24: Annen fagskoleutdanning | M24: =F24+G24 -> 0 | N24: =I24+J24 -> 0
E25: 2.2. SUM: | F25: =SUM(F19:F24) -> 0 | G25: =SUM(G19:G24) -> 0 | I25: =SUM(I19:I24) -> 0 | J25: =SUM(J19:J24) -> 0 | K25: =SUM(K19:K24) -> 0 | M25: =SUM(M19:M24) -> 0 | N25: =SUM(N19:N24) -> 0 | Q25: =SUM(Q19:Q24) -> 0 | R25: =SUM(R19:R24) -> 0
D27: 2.2g | E27: Merknader Nærmere om hvilken annen utdanning Forsøk å skrive mindre enn 100 ord | S27: =IF(LEN(F27)-LEN(SUBSTITUTE(F27," ",""))>100,_xlfn.CONCAT("Du har skrevet ",LEN(F27)-LEN(SUBSTITUTE(F27," ",""))," ord i merknadsfeltet. Forsøk å korte ned."),"")
C29: 2.3. | D29: Bachelorutdanning helse- og sosialfag
F31: Personer | I31: Beløper | M31: Oppsummering
F32: =F$6 -> Videreføring: Antall personer | G32: =G$6 -> Antall nye personer | I32: =I$6 -> Ubrukte midler som ønskes overført | J32: =J$6 -> Søknads- beløp | K32: =K$6 -> Ubrukte midler som tilbakebetales | M32: =M$6 -> Totalt antall personer det søkes for | N32: =N$6 -> Totalt beløp det søkes om til tiltaket | P32: Statsforvalteren (Fylles ikke ut av kommunen)
E33: Utdanningstype | F33: =IF(F$7="","",F$7) -> Personer som fortsetter påbegynt utdannelse | G33: =IF(G$7="","",G$7) -> Personer som starter ny utdannelse | I33: =IF(I$7="","",I$7) -> Ubrukte midler som ønskes overført til kommende periode | J33: =IF(J$7="","",J$7) -> Nye midler som søkes utbetalt til tiltaket | K33: =IF(K$7="","",K$7) | M33: =IF(M$7="","",M$7) -> (Autosummert) | N33: =IF(N$7="","",N$7) -> (Autosummert) | P33: Resultat vedtak | Q33: Totalt innvilget tildelingsbeløp | R33: Totalt innvilget utbetalingsbeløp
D34: 2.3a | E34: Sykepleie | M34: =F34+G34 -> 0 | N34: =I34+J34 -> 0
D35: 2.3b | E35: Desentralisert sykepleie | M35: =F35+G35 -> 0 | N35: =I35+J35 -> 0
D36: 2.3c | E36: Vernepleie | M36: =F36+G36 -> 0 | N36: =I36+J36 -> 0
D37: 2.3d | E37: Desentralisert vernepleie | M37: =F37+G37 -> 0 | N37: =I37+J37 -> 0
D38: 2.3e | E38: Fysioterapi | M38: =F38+G38 -> 0 | N38: =I38+J38 -> 0
D39: 2.3f | E39: Ergoterapi | M39: =F39+G39 -> 0 | N39: =I39+J39 -> 0
D40: 2.3g | E40: Sosial arbeid (sosionom) | M40: =F40+G40 -> 0 | N40: =I40+J40 -> 0
D41: 2.3h | E41: Barnevernspedagogikk | M41: =F41+G41 -> 0 | N41: =I41+J41 -> 0
D42: 2.3i | E42: Annen bachelorutdanning | M42: =F42+G42 -> 0 | N42: =I42+J42 -> 0
E43: 2.3. SUM: | F43: =SUM(F34:F42) -> 0 | G43: =SUM(G34:G42) -> 0 | I43: =SUM(I34:I42) -> 0 | J43: =SUM(J34:J42) -> 0 | K43: =SUM(K34:K42) -> 0 | M43: =SUM(M34:M42) -> 0 | N43: =SUM(N34:N42) -> 0 | Q43: =SUM(Q34:Q42) -> 0 | R43: =SUM(R34:R42) -> 0
D45: 2.3j | E45: Merknader Nærmere om hvilken annen utdanning Forsøk å skrive mindre enn 100 ord | S45: =IF(LEN(F45)-LEN(SUBSTITUTE(F45," ",""))>100,_xlfn.CONCAT("Du har skrevet ",LEN(F45)-LEN(SUBSTITUTE(F45," ",""))," ord i merknadsfeltet. Forsøk å korte ned."),"")
C48: 2.4. | D48: Videreutdanning og mastergradutdanning (påbygg bachelorutdanning)
F50: Personer | I50: Beløper | M50: Oppsummering
F51: =F$6 -> Videreføring: Antall personer | G51: =G$6 -> Antall nye personer | I51: =I$6 -> Ubrukte midler som ønskes overført | J51: =J$6 -> Søknads- beløp | K51: =K$6 -> Ubrukte midler som tilbakebetales | M51: =M$6 -> Totalt antall personer det søkes for | N51: =N$6 -> Totalt beløp det søkes om til tiltaket | P51: Statsforvalteren (Fylles ikke ut av kommunen)
E52: Utdanningstype | F52: =IF(F$7="","",F$7) -> Personer som fortsetter påbegynt utdannelse | G52: =IF(G$7="","",G$7) -> Personer som starter ny utdannelse | I52: =IF(I$7="","",I$7) -> Ubrukte midler som ønskes overført til kommende periode | J52: =IF(J$7="","",J$7) -> Nye midler som søkes utbetalt til tiltaket | K52: =IF(K$7="","",K$7) | M52: =IF(M$7="","",M$7) -> (Autosummert) | N52: =IF(N$7="","",N$7) -> (Autosummert) | P52: Resultat vedtak | Q52: Totalt innvilget tildelingsbeløp | R52: Totalt innvilget utbetalingsbeløp
D53: 2.4a | E53: Psykisk helsearbeid og rusarbeid | M53: =F53+G53 -> 0 | N53: =I53+J53 -> 0
D54: 2.4b | E54: Tverrfaglig videreutdanning i psykososialt arbeid med barn og unge | M54: =F54+G54 -> 0 | N54: =I54+J54 -> 0
D55: 2.4c | E55: Eldreomsorg/demens | M55: =F55+G55 -> 0 | N55: =I55+J55 -> 0
D56: 2.4d | E56: Kreftomsorg/lindrende pleie | M56: =F56+G56 -> 0 | N56: =I56+J56 -> 0
D57: 2.4e | E57: Habilitering/rehabilitering | M57: =F57+G57 -> 0 | N57: =I57+J57 -> 0
D58: 2.4f | E58: Veiledning | M58: =F58+G58 -> 0 | N58: =I58+J58 -> 0
D59: 2.4g | E59: Lederutdanning | M59: =F59+G59 -> 0 | N59: =I59+J59 -> 0
D60: 2.4h | E60: Annen videreutdanning og/eller masterutdanning | M60: =F60+G60 -> 0 | N60: =I60+J60 -> 0
E61: 2.4. SUM: | F61: =SUM(F53:F60) -> 0 | G61: =SUM(G53:G60) -> 0 | I61: =SUM(I53:I60) -> 0 | J61: =SUM(J53:J60) -> 0 | K61: =SUM(K53:K60) -> 0 | M61: =SUM(M53:M60) -> 0 | N61: =SUM(N53:N60) -> 0 | Q61: =SUM(Q53:Q60) -> 0 | R61: =SUM(R53:R60) -> 0
D63: 2.4i | E63: Merknader Nærmere om hvilken annen utdanning Forsøk å skrive mindre enn 100 ord | S63: =IF(LEN(F63)-LEN(SUBSTITUTE(F63," ",""))>100,_xlfn.CONCAT("Du har skrevet ",LEN(F63)-LEN(SUBSTITUTE(F63," ",""))," ord i merknadsfeltet. Forsøk å korte ned."),"")
C65: 2.5. | D65: ABC-opplæring
F67: Personer | I67: Beløper | M67: Oppsummering
F68: =F$6 -> Videreføring: Antall personer | G68: =G$6 -> Antall nye personer | I68: =I$6 -> Ubrukte midler som ønskes overført | J68: =J$6 -> Søknads- beløp | K68: =K$6 -> Ubrukte midler som tilbakebetales | M68: =M$6 -> Totalt antall personer det søkes for | N68: =N$6 -> Totalt beløp det søkes om til tiltaket | P68: Statsforvalteren (Fylles ikke ut av kommunen)
E69: Utdanningstype | F69: =IF(F$7="","",F$7) -> Personer som fortsetter påbegynt utdannelse | G69: =IF(G$7="","",G$7) -> Personer som starter ny utdannelse | I69: =IF(I$7="","",I$7) -> Ubrukte midler som ønskes overført til kommende periode | J69: =IF(J$7="","",J$7) -> Nye midler som søkes utbetalt til tiltaket | K69: =IF(K$7="","",K$7) | M69: =IF(M$7="","",M$7) -> (Autosummert) | N69: =IF(N$7="","",N$7) -> (Autosummert) | P69: Resultat vedtak | Q69: Totalt innvilget tildelingsbeløp | R69: Totalt innvilget utbetalingsbeløp
D70: 2.5a | E70: Demensomsorgens ABC | M70: =F70+G70 -> 0 | N70: =I70+J70 -> 0
D71: 2.5b | E71: Eldreomsorgens ABC | M71: =F71+G71 -> 0 | N71: =I71+J71 -> 0
D72: 2.5c | E72: Mitt livs ABC | M72: =F72+G72 -> 0 | N72: =I72+J72 -> 0
D73: 2.5d | E73: Velferdsteknologien ABC | M73: =F73+G73 -> 0 | N73: =I73+J73 -> 0
E74: 2.5. SUM: | F74: =SUM(F70:F73) -> 0 | G74: =SUM(G70:G73) -> 0 | I74: =SUM(I70:I73) -> 0 | J74: =SUM(J70:J73) -> 0 | K74: =SUM(K70:K73) -> 0 | M74: =SUM(M70:M73) -> 0 | N74: =SUM(N70:N73) -> 0 | Q74: =SUM(Q70:Q73) -> 0 | R74: =SUM(R70:R73) -> 0
D76: 2.5e | E76: Merknader Nærmere om hvilken annen utdanning Forsøk å skrive mindre enn 100 ord | S76: =IF(LEN(F76)-LEN(SUBSTITUTE(F76," ",""))>100,_xlfn.CONCAT("Du har skrevet ",LEN(F76)-LEN(SUBSTITUTE(F76," ",""))," ord i merknadsfeltet. Forsøk å korte ned."),"")
C78: 2.6. | D78: Annen internopplæring / korte etterutdanninger /kurs mv.
F80: Personer | I80: Beløper | M80: Oppsummering
F81: =F$6 -> Videreføring: Antall personer | G81: =G$6 -> Antall nye personer | I81: =I$6 -> Ubrukte midler som ønskes overført | J81: =J$6 -> Søknads- beløp | K81: =K$6 -> Ubrukte midler som tilbakebetales | M81: =M$6 -> Totalt antall personer det søkes for | N81: =N$6 -> Totalt beløp det søkes om til tiltaket | P81: Statsforvalteren (Fylles ikke ut av kommunen)
E82: Utdanningstype | F82: =IF(F$7="","",F$7) -> Personer som fortsetter påbegynt utdannelse | G82: =IF(G$7="","",G$7) -> Personer som starter ny utdannelse | I82: =IF(I$7="","",I$7) -> Ubrukte midler som ønskes overført til kommende periode | J82: =IF(J$7="","",J$7) -> Nye midler som søkes utbetalt til tiltaket | K82: =IF(K$7="","",K$7) | M82: =IF(M$7="","",M$7) -> (Autosummert) | N82: =IF(N$7="","",N$7) -> (Autosummert) | P82: Resultat vedtak | Q82: Totalt innvilget tildelingsbeløp | R82: Totalt innvilget utbetalingsbeløp
D83: 2.6a | E83: Psykisk helsearbeid og rusarbeid | M83: =F83+G83 -> 0 | N83: =I83+J83 -> 0
D84: 2.6b | E84: Kreftomsorg/lindrende pleie | M84: =F84+G84 -> 0 | N84: =I84+J84 -> 0
D85: 2.6c | E85: Annet | M85: =F85+G85 -> 0 | N85: =I85+J85 -> 0
E86: 2.6. SUM: | F86: =SUM(F83:F85) -> 0 | G86: =SUM(G83:G85) -> 0 | I86: =SUM(I83:I85) -> 0 | J86: =SUM(J83:J85) -> 0 | K86: =SUM(K83:K85) -> 0 | M86: =SUM(M83:M85) -> 0 | N86: =SUM(N83:N85) -> 0 | Q86: =SUM(Q83:Q85) -> 0 | R86: =SUM(R83:R85) -> 0
D88: 2.6d | E88: Merknader Nærmere om hvilken annen utdanning Forsøk å skrive mindre enn 100 ord | S88: =IF(LEN(F88)-LEN(SUBSTITUTE(F88," ",""))>100,_xlfn.CONCAT("Du har skrevet ",LEN(F88)-LEN(SUBSTITUTE(F88," ",""))," ord i merknadsfeltet. Forsøk å korte ned."),"")
B94: 3. | C94: Opplæringstilskudd BPA (brukerstyrt personlig assistanse)
G96: Personer | I96: Beløper | M96: Oppsummering
G97: Totalt antall personer | I97: =I$6 -> Ubrukte midler som ønskes overført | J97: =J$6 -> Søknads- beløp | K97: =K$6 -> Ubrukte midler som tilbakebetales | M97: =N$6 -> Totalt beløp det søkes om til tiltaket | P97: Statsforvalteren (Fylles ikke ut av kommunen)
E98: Mottaker (Antall) | G98: Deltakelse i kurs / opplæring | I98: =IF(I$7="","",I$7) -> Ubrukte midler som ønskes overført til kommende periode | J98: =IF(J$7="","",J$7) -> Nye midler som søkes utbetalt til tiltaket | K98: =IF(K$7="","",K$7) | M98: =IF(N$7="","",N$7) -> (Autosummert) | P98: Resultat vedtak | Q98: Totalt innvilget tildelingsbeløp | R98: Totalt innvilget utbetalingsbeløp
D99: 3.1. | E99: Arbeidsledere | M99: =I99+J99 -> 0
D100: 3.2. | E100: Saksbehandlere | M100: =I100+J100 -> 0
D101: 3.3. | E101: Assistenter | M101: =I101+J101 -> 0
G102: =SUM(G99:G101) -> 0 | I102: =SUM(I99:I101) -> 0 | J102: =SUM(J99:J101) -> 0 | K102: =SUM(K99:K101) -> 0 | M102: =SUM(M99:M101) -> 0 | Q102: =SUM(Q99:Q101) -> 0 | R102: =SUM(R99:R101) -> 0

Sheet Prosjekt 1
B1: 1
C2: =_xlfn.CONCAT("Innovasjonsprosjekt ", B1, ": ",G8) -> Innovasjonsprosjekt 1:
E3: - Statsforvalteren legger særlig vekt på samlet måloppnåelse i prosjektet ved vurdering av søknadene.
E4: - Dersom dere har flere prosjekter kan dere velge å angi rangering på hvert prosjekt for å fremheve hvilke prosjekter dere anser at gir mest nytte for kommunen
C7: P1.1 | D7: Overordnede prosjektdetaljer
D8: P1.1a | E8: Tittel for innovasjonsprosjektet Skriv inn en tittel som er beskrivende for prosjektet - maks 100 tegn | M8: =IF(LEN(G8)-LEN(SUBSTITUTE(G8," ",""))>100,_xlfn.CONCAT("Du har skrevet ",LEN(G8)-LEN(SUBSTITUTE(G8," ",""))," ord. Forsøk å korte ned."),"")
D9: P1.1b | E9: Er dette videreføring av et eksisterende innovasjonsprosjekt? (Ja/Nei)
D10: P1.1c | E10: Estimert startdato for innovasjonsprosjektet
D11: P1.1d | E11: Prioritering i forhold til andre innovasjonsprosjekter (Valgfritt) Dersom dere her søker om flere innovasjonsprosjekter og mener at det kan være ulikt hvor mye nytte de gir så kan dere bruke dette feltet til å opplyse om dette. Angi 1 for innovasjonsprosjektet dere anser at har størst nytte og 2 for innovasjonsprosjektet med nest høyest nytte osv. | K11: (Valgfritt)
D12: P1.1e | E12: Status for innovasjonsprosjektet - Besvares dersom dette er videreføring av et eksisterende innovasjonsprosjekt - Beskriv kort hva som er status for innovasjonsprosjektet og hvordan prosjektet ligger an i forhold til den opprinnelige fremdriftsplanen
C14: P1.2 | D14: =_xlfn.CONCAT("Tema for innovasjonsprosjekt ",B1) -> Tema for innovasjonsprosjekt 1
D15: Marker de temaene som inngår i innovasjonsprosjektet med "Ja"
D16: P1.2a | E16: Forebygging tidlig innsats og egenmestring
D17: P1.2b | E17: Fritidsaktivitet med assistanse
D18: P1.2c | E18: Kulturopplevelser
D19: P1.2d | E19: Ernæring
D20: P1.2e | E20: Legemiddelhåndtering
D21: P1.2f | E21: Rehabilitering og Habilitering
D22: P1.2g | E22: Samspill med pårørende og frivillige i omsorgssektoren generelt og demensomsorgen spesielt
D23: P1.2h | E23: Andre nyskapende løsninger av stor betydning for brukerne av de kommunale helse- og omsorgstjenestene
C25: P1.3 | D25: =_xlfn.CONCAT("Prosjektbeskrivelse: Innovasjonsprosjekt ",B1) -> Prosjektbeskrivelse: Innovasjonsprosjekt 1
D26: - Fyll inn deltaljer for innovasjonsprosjektet der dette er hensiktsmessig - Forsøk å skrive kortfattet (Med et detaljnivå som står i rimelig forhold til innovasjonsprosjektets omfang)
D27: P1.3a | E27: Kort beskrivelse | M27: =IF(LEN(G27)-LEN(SUBSTITUTE(G27," ",""))>100,_xlfn.CONCAT("Du har skrevet ",LEN(G27)-LEN(SUBSTITUTE(G27," ",""))," ord. Forsøk å korte ned."),"")
E28: Gi en kort beskrivelse av innovasjonsprosjektet, herunder delprosjekter, tiltak og bakgrunn for innovasjonsprosjektet
D29: P1.3b | E29: Mål for tiltaket på kort og lengre sikt | M29: =IF(LEN(G29)-LEN(SUBSTITUTE(G29," ",""))>100,_xlfn.CONCAT("Du har skrevet ",LEN(G29)-LEN(SUBSTITUTE(G29," ",""))," ord. Forsøk å korte ned."),"")
E30: Herunder mål for året dere søker om tilskudd og målgruppe for tiltaket
D31: P1.3c | E31: Aktivitets- og fremdriftsplan for året dere søker tilskudd | M31: =IF(LEN(G31)-LEN(SUBSTITUTE(G31," ",""))>100,_xlfn.CONCAT("Du har skrevet ",LEN(G31)-LEN(SUBSTITUTE(G31," ",""))," ord. Forsøk å korte ned."),"")
E32: Sett inn de viktigste aktivitetene for å nå målene for innovasjonsprosjektet og angi gjerne måned for gjennomføring
D33: P1.3d | E33: Metoder kunnskap eller erfaring | M33: =IF(LEN(G33)-LEN(SUBSTITUTE(G33," ",""))>100,_xlfn.CONCAT("Du har skrevet ",LEN(G33)-LEN(SUBSTITUTE(G33," ",""))," ord. Forsøk å korte ned."),"")
E34: Beskriv hvilke teorier / faglige metoder dere benytter i innovasjonsprosjektet eller hvilken kunnskap/erfaring dere bygger på. Herunder metoder for brukermedvirkning
D35: P1.3e | E35: Gevinster og effekter | M35: =IF(LEN(G35)-LEN(SUBSTITUTE(G35," ",""))>100,_xlfn.CONCAT("Du har skrevet ",LEN(G35)-LEN(SUBSTITUTE(G35," ",""))," ord. Forsøk å korte ned."),"")
E36: Hvilke konkrete gevinster/effekter forventes tiltaket å gi, hvilken betydning kan det få for omlegging av praksis
D37: P1.3f | E37: Risikofaktorer | M37: =IF(LEN(G37)-LEN(SUBSTITUTE(G37," ",""))>100,_xlfn.CONCAT("Du har skrevet ",LEN(G37)-LEN(SUBSTITUTE(G37," ",""))," ord. Forsøk å korte ned."),"")
E38: Hvilke faktorer gjør det usikkert at dere når målene, selv om dere mottar tilskudd fra Statsforvalteren?
D39: P1.3g | E39: Forankring internt i kommunen | M39: =IF(LEN(G39)-LEN(SUBSTITUTE(G39," ",""))>100,_xlfn.CONCAT("Du har skrevet ",LEN(G39)-LEN(SUBSTITUTE(G39," ",""))," ord. Forsøk å korte ned."),"")
E40: Beskriv hvordan tiltaket er forankret internt i kommunen, faglig og administrativt i både utviklings og implementeringsfasen
D41: P1.3h | E41: Kontrolltiltak | M41: =IF(LEN(G41)-LEN(SUBSTITUTE(G41," ",""))>100,_xlfn.CONCAT("Du har skrevet ",LEN(G41)-LEN(SUBSTITUTE(G41," ",""))," ord. Forsøk å korte ned."),"")
E42: -Beskriv de interne og eksterne kontrolltiltak hos dere som skal sikre korrekt rapportering og at målene nås. -Beskriv om de gjennomføres allerede eller er planlagt. -Interne kontrollaktiviteter, internrevisjon, autorisert / ikke autorisert revisor, andre offentlige tilsyn, Riksrevisjonen, evaluering og systematisk kvalitetssikret dokumentasjon er eksempler på kontrolltiltak som kan øke sikkerheten for at målene nås.
C44: P1.4 | D44: =_xlfn.CONCAT("Samarbeidspartnere i innovasjonsprosjekt ",B1) -> Samarbeidspartnere i innovasjonsprosjekt 1
D45: Skriv navnet på virksomheter og organisasjoner som er samarbeidspartnere i innovasjonsprosjektet
C48: =_xlfn.CONCAT("Inntekter og estimerte kostnader for innovasjonsprosjekt",IF(G8="","",_xlfn.CONCAT(": ",G8))) -> Inntekter og estimerte kostnader for innovasjonsprosjekt
D50: P1.5 Alle estimerte kostnader for innovasjonsprosjektet (I året det søkes for) | H50: P1.6 Alternative inntekter for innovasjonsprosjekt
D51: - Her skal totalen av alle de planlagte utgifter for innovasjonsprosjektet fylles inn. - Statsforvalteren gir ikke tilskudd til alle typer utgifter under alle ordninger - se kunngjøringen - Dersom dere får tilskudd, må dere kunne rapportere på disse utgiftskategoriene i tillegg til å sende inn relevante regnskapsrapporter som følger deres inndeling av regnskapet - Skriv alle beløp i hele kroner. | H51: - Fyll inn eventuelle andre inntekter og finansieringskilder. (Her menes de inntekter og finansieringskilder som ikke kommer fra denne tilskuddsordningen.) - Summen herfra brukes til å beregne hvor mye midler dere trenger å søke om. Beregningen er: SUM utgifter - SUM andre inntekter = Totalt beløp det søkes om til innovasjonsprosjektet
D52: P1.5a | E52: Lønnsutgifter med sosiale utgifter | H52: Egenfinansiering (Hvis aktuelt)
D53: P1.5b | E53: Reiseutgifter, arrangement, møter, konferanser | H53: P1.6a | I53: Beløp fra egenfinansiering Beløp dere har fått innvilget eller har søkt om til innovasjonsprosjektet fra egen virksomhet.
D54: P1.5c | E54: Konsulenttjenester
D55: P1.5d | E55: Trykking, publikasjoner, kunngjøringer, utsending og distribusjonskostnader | H55: P1.6b | I55: Beskriv med ord stillingsressurs eller frivillig innsats Innsats dere har fått innvilget eller har søkt om til innovasjonsprosjektet fra egen virksomhet
D56: P1.5e | E56: Investeringer/ inventar/ utstyr. Kontroller i kunngjøringen om det gis tilskudd til dette
D57: P1.5f | E57: Driftsutgifter, forbruksmateriell og kontortjenester inkludert lokaler og energi
D58: Andre utgifter (Spesifiser i rader nedenfor)
E59: Kostnadsbetegnelse: | F59: Beløp: | H59: Inntekter fra andre kilder (Hvis aktuelt)
D60: P1.5g | H60: P1.6c | I60: Bekreftet beløp fra andre inntektskilder
D61: P1.5h | H61: P1.6d | I61: Beløp dere har søkt om fra andre inntektskilder (Der det er uavklart hvorvidt søknaden blir innvilget eller avslått)
D62: P1.5i | H62: P1.6e | I62: Beskriv kort med ord hvor dere har søkt om finansiering og beskriv finansieringen.
D63: P1.5j
D64: P1.5k
E65: SUM kostnader | F65: =SUM(F52:F64) -> 0 | J65: SUM andre inntektskilder | K65: =K60+K53 -> 0
C67: P1.7 | D67: =_xlfn.CONCAT("Budsjett for innovasjonsprosjekt ",B1) -> Budsjett for innovasjonsprosjekt 1
D68: - Søknadsbeløp betyr hvor mye nytt tilskudd som ønskes utbetalt. - Totalt tildelingsbeløp betyr Ubrukte midler som ønskes overført + Søknadsbeløp.
H70: Autosummert
F71: Ubrukte midler som ønskes overført | G71: Kostnader | H71: Andre inntekter | I71: Søknadsbeløp | J71: Totalt tildelingsbeløp det søkes om
F72: Midler fra forrige periode som ønskes overført | G72: =_xlfn.CONCAT("Sum fra seksjon P",B1, ".5") -> Sum fra seksjon P1.5 | H72: =_xlfn.CONCAT("Sum fra seksjon P",B1, ".6") -> Sum fra seksjon P1.6 | I72: Nye friske midler som søkes utbetalt til prosjekter | J72: Ubrukte midler + Søknadsbeløp
G73: =F65 -> 0 | H73: =K65 -> 0 | I73: =J73-F73 -> 0 | J73: =F65-K65 -> 0

Sheet Prosjekt 2
B1: 2
C2: =_xlfn.CONCAT("Innovasjonsprosjekt ", B1, ": ",G8) -> Innovasjonsprosjekt 2:
E3: - Statsforvalteren legger særlig vekt på samlet måloppnåelse i prosjektet ved vurdering av søknadene.
E4: - Dersom dere har flere prosjekter kan dere velge å angi rangering på hvert prosjekt for å fremheve hvilke prosjekter dere anser at gir mest nytte for kommunen
C7: P2.1 | D7: Overordnede prosjektdetaljer
D8: P2.1a | E8: Tittel for innovasjonsprosjektet Skriv inn en tittel som er beskrivende for prosjektet - maks 100 tegn | M8: =IF(LEN(G8)-LEN(SUBSTITUTE(G8," ",""))>100,_xlfn.CONCAT("Du har skrevet ",LEN(G8)-LEN(SUBSTITUTE(G8," ",""))," ord. Forsøk å korte ned."),"")
D9: P2.1b | E9: Er dette videreføring av et eksisterende innovasjonsprosjekt? (Ja/Nei)
D10: P2.1c | E10: Estimert startdato for innovasjonsprosjektet
D11: P2.1d | E11: Prioritering i forhold til andre innovasjonsprosjekter (Valgfritt) Dersom dere her søker om flere innovasjonsprosjekter og mener at det kan være ulikt hvor mye nytte de gir så kan dere bruke dette feltet til å opplyse om dette. Angi 1 for innovasjonsprosjektet dere anser at har størst nytte og 2 for innovasjonsprosjektet med nest høyest nytte osv. | K11: (Valgfritt)
D12: P2.1e | E12: Status for innovasjonsprosjektet - Besvares dersom dette er videreføring av et eksisterende innovasjonsprosjekt - Beskriv kort hva som er status for innovasjonsprosjektet og hvordan prosjektet ligger an i forhold til den opprinnelige fremdriftsplanen
C14: P2.2 | D14: =_xlfn.CONCAT("Tema for innovasjonsprosjekt ",B1) -> Tema for innovasjonsprosjekt 2
D15: Marker de temaene som inngår i innovasjonsprosjektet med "Ja"
D16: P2.2a | E16: Forebygging tidlig innsats og egenmestring
D17: P2.2b | E17: Fritidsaktivitet med assistanse
D18: P2.2c | E18: Kulturopplevelser
D19: P2.2d | E19: Ernæring
D20: P2.2e | E20: Legemiddelhåndtering
D21: P2.2f | E21: Rehabilitering og Habilitering
D22: P2.2g | E22: Samspill med pårørende og frivillige i omsorgssektoren generelt og demensomsorgen spesielt
D23: P2.2h | E23: Andre nyskapende løsninger av stor betydning for brukerne av de kommunale helse- og omsorgstjenestene
C25: P2.3 | D25: =_xlfn.CONCAT("Prosjektbeskrivelse: Innovasjonsprosjekt ",B1) -> Prosjektbeskrivelse: Innovasjonsprosjekt 2
D26: - Fyll inn deltaljer for innovasjonsprosjektet der dette er hensiktsmessig - Forsøk å skrive kortfattet (Med et detaljnivå som står i rimelig forhold til innovasjonsprosjektets omfang)
D27: P2.3a | E27: Kort beskrivelse | M27: =IF(LEN(G27)-LEN(SUBSTITUTE(G27," ",""))>100,_xlfn.CONCAT("Du har skrevet ",LEN(G27)-LEN(SUBSTITUTE(G27," ",""))," ord. Forsøk å korte ned."),"")
E28: Gi en kort beskrivelse av innovasjonsprosjektet, herunder delprosjekter, tiltak og bakgrunn for innovasjonsprosjektet
D29: P2.3b | E29: Mål for tiltaket på kort og lengre sikt | M29: =IF(LEN(G29)-LEN(SUBSTITUTE(G29," ",""))>100,_xlfn.CONCAT("Du har skrevet ",LEN(G29)-LEN(SUBSTITUTE(G29," ",""))," ord. Forsøk å korte ned."),"")
E30: Herunder mål for året dere søker om tilskudd og målgruppe for tiltaket
D31: P2.3c | E31: Aktivitets- og fremdriftsplan for året dere søker tilskudd | M31: =IF(LEN(G31)-LEN(SUBSTITUTE(G31," ",""))>100,_xlfn.CONCAT("Du har skrevet ",LEN(G31)-LEN(SUBSTITUTE(G31," ",""))," ord. Forsøk å korte ned."),"")
E32: Sett inn de viktigste aktivitetene for å nå målene for innovasjonsprosjektet og angi gjerne måned for gjennomføring
D33: P2.3d | E33: Metoder kunnskap eller erfaring | M33: =IF(LEN(G33)-LEN(SUBSTITUTE(G33," ",""))>100,_xlfn.CONCAT("Du har skrevet ",LEN(G33)-LEN(SUBSTITUTE(G33," ",""))," ord. Forsøk å korte ned."),"")
E34: Beskriv hvilke teorier / faglige metoder dere benytter i innovasjonsprosjektet eller hvilken kunnskap/erfaring dere bygger på. Herunder metoder for brukermedvirkning
D35: P2.3e | E35: Gevinster og effekter | M35: =IF(LEN(G35)-LEN(SUBSTITUTE(G35," ",""))>100,_xlfn.CONCAT("Du har skrevet ",LEN(G35)-LEN(SUBSTITUTE(G35," ",""))," ord. Forsøk å korte ned."),"")
E36: Hvilke konkrete gevinster/effekter forventes tiltaket å gi, hvilken betydning kan det få for omlegging av praksis
D37: P2.3f | E37: Risikofaktorer | M37: =IF(LEN(G37)-LEN(SUBSTITUTE(G37," ",""))>100,_xlfn.CONCAT("Du har skrevet ",LEN(G37)-LEN(SUBSTITUTE(G37," ",""))," ord. Forsøk å korte ned."),"")
E38: Hvilke faktorer gjør det usikkert at dere når målene, selv om dere mottar tilskudd fra Statsforvalteren?
D39: P2.3g | E39: Forankring internt i kommunen | M39: =IF(LEN(G39)-LEN(SUBSTITUTE(G39," ",""))>100,_xlfn.CONCAT("Du har skrevet ",LEN(G39)-LEN(SUBSTITUTE(G39," ",""))," ord. Forsøk å korte ned."),"")
E40: Beskriv hvordan tiltaket er forankret internt i kommunen, faglig og administrativt i både utviklings og implementeringsfasen
D41: P2.3h | E41: Kontrolltiltak | M41: =IF(LEN(G41)-LEN(SUBSTITUTE(G41," ",""))>100,_xlfn.CONCAT("Du har skrevet ",LEN(G41)-LEN(SUBSTITUTE(G41," ",""))," ord. Forsøk å korte ned."),"")
E42: -Beskriv de interne og eksterne kontrolltiltak hos dere som skal sikre korrekt rapportering og at målene nås. -Beskriv om de gjennomføres allerede eller er planlagt. -Interne kontrollaktiviteter, internrevisjon, autorisert / ikke autorisert revisor, andre offentlige tilsyn, Riksrevisjonen, evaluering og systematisk kvalitetssikret dokumentasjon er eksempler på kontrolltiltak som kan øke sikkerheten for at målene nås.
C44: P2.4 | D44: =_xlfn.CONCAT("Samarbeidspartnere i innovasjonsprosjekt ",B1) -> Samarbeidspartnere i innovasjonsprosjekt 2
D45: Skriv navnet på virksomheter og organisasjoner som er samarbeidspartnere i innovasjonsprosjektet
C48: =_xlfn.CONCAT("Inntekter og estimerte kostnader for innovasjonsprosjekt",IF(G8="","",_xlfn.CONCAT(": ",G8))) -> Inntekter og estimerte kostnader for innovasjonsprosjekt
D50: P2.5 Alle estimerte kostnader for innovasjonsprosjektet (I året det søkes for) | H50: P2.6 Alternative inntekter for innovasjonsprosjekt
D51: - Her skal totalen av alle de planlagte utgifter for innovasjonsprosjektet fylles inn. - Statsforvalteren gir ikke tilskudd til alle typer utgifter under alle ordninger - se kunngjøringen - Dersom dere får tilskudd, må dere kunne rapportere på disse utgiftskategoriene i tillegg til å sende inn relevante regnskapsrapporter som følger deres inndeling av regnskapet - Skriv alle beløp i hele kroner. | H51: - Fyll inn eventuelle andre inntekter og finansieringskilder. (Her menes de inntekter og finansieringskilder som ikke kommer fra denne tilskuddsordningen.) - Summen herfra brukes til å beregne hvor mye midler dere trenger å søke om. Beregningen er: SUM utgifter - SUM andre inntekter = Totalt beløp det søkes om til innovasjonsprosjektet
D52: P2.5a | E52: Lønnsutgifter med sosiale utgifter | H52: Egenfinansiering (Hvis aktuelt)
D53: P2.5b | E53: Reiseutgifter, arrangement, møter, konferanser | H53: P2.6a | I53: Beløp fra egenfinansiering Beløp dere har fått innvilget eller har søkt om til innovasjonsprosjektet fra egen virksomhet.
D54: P2.5c | E54: Konsulenttjenester
D55: P2.5d | E55: Trykking, publikasjoner, kunngjøringer, utsending og distribusjonskostnader | H55: P2.6b | I55: Beskriv med ord stillingsressurs eller frivillig innsats Innsats dere har fått innvilget eller har søkt om til innovasjonsprosjektet fra egen virksomhet
D56: P2.5e | E56: Investeringer/ inventar/ utstyr. Kontroller i kunngjøringen om det gis tilskudd til dette
D57: P2.5f | E57: Driftsutgifter, forbruksmateriell og kontortjenester inkludert lokaler og energi
D58: Andre utgifter (Spesifiser i rader nedenfor)
E59: Kostnadsbetegnelse: | F59: Beløp: | H59: Inntekter fra andre kilder (Hvis aktuelt)
D60: P2.5g | H60: P2.6c | I60: Bekreftet beløp fra andre inntektskilder
D61: P2.5h | H61: P2.6d | I61: Beløp dere har søkt om fra andre inntektskilder (Der det er uavklart hvorvidt søknaden blir innvilget eller avslått)
D62: P2.5i | H62: P2.6e | I62: Beskriv kort med ord hvor dere har søkt om finansiering og beskriv finansieringen.
D63: P2.5j
D64: P2.5k
E65: SUM kostnader | F65: =SUM(F52:F64) -> 0 | J65: SUM andre inntektskilder | K65: =K60+K53 -> 0
C67: P2.7 | D67: =_xlfn.CONCAT("Budsjett for innovasjonsprosjekt ",B1) -> Budsjett for innovasjonsprosjekt 2
D68: - Søknadsbeløp betyr hvor mye nytt tilskudd som ønskes utbetalt. - Totalt tildelingsbeløp betyr Ubrukte midler som ønskes overført + Søknadsbeløp.
H70: Autosummert
F71: Ubrukte midler som ønskes overført | G71: Kostnader | H71: Andre inntekter | I71: Søknadsbeløp | J71: Totalt tildelingsbeløp det søkes om
F72: Midler fra forrige periode som ønskes overført | G72: =_xlfn.CONCAT("Sum fra seksjon P",B1, ".5") -> Sum fra seksjon P2.5 | H72: =_xlfn.CONCAT("Sum fra seksjon P",B1, ".6") -> Sum fra seksjon P2.6 | I72: Nye friske midler som søkes utbetalt til prosjekter | J72: Ubrukte midler + Søknadsbeløp
G73: =F65 -> 0 | H73: =K65 -> 0 | I73: =J73-F73 -> 0 | J73: =F65-K65 -> 0

Sheet Prosjekt 3
B1: 3
C2: =_xlfn.CONCAT("Innovasjonsprosjekt ", B1, ": ",G8) -> Innovasjonsprosjekt 3:
E3: - Statsforvalteren legger særlig vekt på samlet måloppnåelse i prosjektet ved vurdering av søknadene.
E4: - Dersom dere har flere prosjekter kan dere velge å angi rangering på hvert prosjekt for å fremheve hvilke prosjekter dere anser at gir mest nytte for kommunen
C7: P3.1 | D7: Overordnede prosjektdetaljer
D8: P3.1a | E8: Tittel for innovasjonsprosjektet Skriv inn en tittel som er beskrivende for prosjektet - maks 100 tegn | M8: =IF(LEN(G8)-LEN(SUBSTITUTE(G8," ",""))>100,_xlfn.CONCAT("Du har skrevet ",LEN(G8)-LEN(SUBSTITUTE(G8," ",""))," ord. Forsøk å korte ned."),"")
D9: P3.1b | E9: Er dette videreføring av et eksisterende innovasjonsprosjekt? (Ja/Nei)
D10: P3.1c | E10: Estimert startdato for innovasjonsprosjektet
D11: P3.1d | E11: Prioritering i forhold til andre innovasjonsprosjekter (Valgfritt) Dersom dere her søker om flere innovasjonsprosjekter og mener at det kan være ulikt hvor mye nytte de gir så kan dere bruke dette feltet til å opplyse om dette. Angi 1 for innovasjonsprosjektet dere anser at har størst nytte og 2 for innovasjonsprosjektet med nest høyest nytte osv. | K11: (Valgfritt)
D12: P3.1e | E12: Status for innovasjonsprosjektet - Besvares dersom dette er videreføring av et eksisterende innovasjonsprosjekt - Beskriv kort hva som er status for innovasjonsprosjektet og hvordan prosjektet ligger an i forhold til den opprinnelige fremdriftsplanen
C14: P3.2 | D14: =_xlfn.CONCAT("Tema for innovasjonsprosjekt ",B1) -> Tema for innovasjonsprosjekt 3
D15: Marker de temaene som inngår i innovasjonsprosjektet med "Ja"
D16: P3.2a | E16: Forebygging tidlig innsats og egenmestring
D17: P3.2b | E17: Fritidsaktivitet med assistanse
D18: P3.2c | E18: Kulturopplevelser
D19: P3.2d | E19: Ernæring
D20: P3.2e | E20: Legemiddelhåndtering
D21: P3.2f | E21: Rehabilitering og Habilitering
D22: P3.2g | E22: Samspill med pårørende og frivillige i omsorgssektoren generelt og demensomsorgen spesielt
D23: P3.2h | E23: Andre nyskapende løsninger av stor betydning for brukerne av de kommunale helse- og omsorgstjenestene
C25: P3.3 | D25: =_xlfn.CONCAT("Prosjektbeskrivelse: Innovasjonsprosjekt ",B1) -> Prosjektbeskrivelse: Innovasjonsprosjekt 3
D26: - Fyll inn deltaljer for innovasjonsprosjektet der dette er hensiktsmessig - Forsøk å skrive kortfattet (Med et detaljnivå som står i rimelig forhold til innovasjonsprosjektets omfang)
D27: P3.3a | E27: Kort beskrivelse | M27: =IF(LEN(G27)-LEN(SUBSTITUTE(G27," ",""))>100,_xlfn.CONCAT("Du har skrevet ",LEN(G27)-LEN(SUBSTITUTE(G27," ",""))," ord. Forsøk å korte ned."),"")
E28: Gi en kort beskrivelse av innovasjonsprosjektet, herunder delprosjekter, tiltak og bakgrunn for innovasjonsprosjektet
D29: P3.3b | E29: Mål for tiltaket på kort og lengre sikt | M29: =IF(LEN(G29)-LEN(SUBSTITUTE(G29," ",""))>100,_xlfn.CONCAT("Du har skrevet ",LEN(G29)-LEN(SUBSTITUTE(G29," ",""))," ord. Forsøk å korte ned."),"")
E30: Herunder mål for året dere søker om tilskudd og målgruppe for tiltaket
D31: P3.3c | E31: Aktivitets- og fremdriftsplan for året dere søker tilskudd | M31: =IF(LEN(G31)-LEN(SUBSTITUTE(G31," ",""))>100,_xlfn.CONCAT("Du har skrevet ",LEN(G31)-LEN(SUBSTITUTE(G31," ",""))," ord. Forsøk å korte ned."),"")
E32: Sett inn de viktigste aktivitetene for å nå målene for innovasjonsprosjektet og angi gjerne måned for gjennomføring
D33: P3.3d | E33: Metoder kunnskap eller erfaring | M33: =IF(LEN(G33)-LEN(SUBSTITUTE(G33," ",""))>100,_xlfn.CONCAT("Du har skrevet ",LEN(G33)-LEN(SUBSTITUTE(G33," ",""))," ord. Forsøk å korte ned."),"")
E34: Beskriv hvilke teorier / faglige metoder dere benytter i innovasjonsprosjektet eller hvilken kunnskap/erfaring dere bygger på. Herunder metoder for brukermedvirkning
D35: P3.3e | E35: Gevinster og effekter | M35: =IF(LEN(G35)-LEN(SUBSTITUTE(G35," ",""))>100,_xlfn.CONCAT("Du har skrevet ",LEN(G35)-LEN(SUBSTITUTE(G35," ",""))," ord. Forsøk å korte ned."),"")
E36: Hvilke konkrete gevinster/effekter forventes tiltaket å gi, hvilken betydning kan det få for omlegging av praksis
D37: P3.3f | E37: Risikofaktorer | M37: =IF(LEN(G37)-LEN(SUBSTITUTE(G37," ",""))>100,_xlfn.CONCAT("Du har skrevet ",LEN(G37)-LEN(SUBSTITUTE(G37," ",""))," ord. Forsøk å korte ned."),"")
E38: Hvilke faktorer gjør det usikkert at dere når målene, selv om dere mottar tilskudd fra Statsforvalteren?
D39: P3.3g | E39: Forankring internt i kommunen | M39: =IF(LEN(G39)-LEN(SUBSTITUTE(G39," ",""))>100,_xlfn.CONCAT("Du har skrevet ",LEN(G39)-LEN(SUBSTITUTE(G39," ",""))," ord. Forsøk å korte ned."),"")
E40: Beskriv hvordan tiltaket er forankret internt i kommunen, faglig og administrativt i både utviklings og implementeringsfasen
D41: P3.3h | E41: Kontrolltiltak | M41: =IF(LEN(G41)-LEN(SUBSTITUTE(G41," ",""))>100,_xlfn.CONCAT("Du har skrevet ",LEN(G41)-LEN(SUBSTITUTE(G41," ",""))," ord. Forsøk å korte ned."),"")
E42: -Beskriv de interne og eksterne kontrolltiltak hos dere som skal sikre korrekt rapportering og at målene nås. -Beskriv om de gjennomføres allerede eller er planlagt. -Interne kontrollaktiviteter, internrevisjon, autorisert / ikke autorisert revisor, andre offentlige tilsyn, Riksrevisjonen, evaluering og systematisk kvalitetssikret dokumentasjon er eksempler på kontrolltiltak som kan øke sikkerheten for at målene nås.
C44: P3.4 | D44: =_xlfn.CONCAT("Samarbeidspartnere i innovasjonsprosjekt ",B1) -> Samarbeidspartnere i innovasjonsprosjekt 3
D45: Skriv navnet på virksomheter og organisasjoner som er samarbeidspartnere i innovasjonsprosjektet
C48: =_xlfn.CONCAT("Inntekter og estimerte kostnader for innovasjonsprosjekt",IF(G8="","",_xlfn.CONCAT(": ",G8))) -> Inntekter og estimerte kostnader for innovasjonsprosjekt
D50: P3.5 Alle estimerte kostnader for innovasjonsprosjektet (I året det søkes for) | H50: P3.6 Alternative inntekter for innovasjonsprosjekt
D51: - Her skal totalen av alle de planlagte utgifter for innovasjonsprosjektet fylles inn. - Statsforvalteren gir ikke tilskudd til alle typer utgifter under alle ordninger - se kunngjøringen - Dersom dere får tilskudd, må dere kunne rapportere på disse utgiftskategoriene i tillegg til å sende inn relevante regnskapsrapporter som følger deres inndeling av regnskapet - Skriv alle beløp i hele kroner. | H51: - Fyll inn eventuelle andre inntekter og finansieringskilder. (Her menes de inntekter og finansieringskilder som ikke kommer fra denne tilskuddsordningen.) - Summen herfra brukes til å beregne hvor mye midler dere trenger å søke om. Beregningen er: SUM utgifter - SUM andre inntekter = Totalt beløp det søkes om til innovasjonsprosjektet
D52: P3.5a | E52: Lønnsutgifter med sosiale utgifter | H52: Egenfinansiering (Hvis aktuelt)
D53: P3.5b | E53: Reiseutgifter, arrangement, møter, konferanser | H53: P3.6a | I53: Beløp fra egenfinansiering Beløp dere har fått innvilget eller har søkt om til innovasjonsprosjektet fra egen virksomhet.
D54: P3.5c | E54: Konsulenttjenester
D55: P3.5d | E55: Trykking, publikasjoner, kunngjøringer, utsending og distribusjonskostnader | H55: P3.6b | I55: Beskriv med ord stillingsressurs eller frivillig innsats Innsats dere har fått innvilget eller har søkt om til innovasjonsprosjektet fra egen virksomhet
D56: P3.5e | E56: Investeringer/ inventar/ utstyr. Kontroller i kunngjøringen om det gis tilskudd til dette
D57: P3.5f | E57: Driftsutgifter, forbruksmateriell og kontortjenester inkludert lokaler og energi
D58: Andre utgifter (Spesifiser i rader nedenfor)
E59: Kostnadsbetegnelse: | F59: Beløp: | H59: Inntekter fra andre kilder (Hvis aktuelt)
D60: P3.5g | H60: P3.6c | I60: Bekreftet beløp fra andre inntektskilder
D61: P3.5h | H61: P3.6d | I61: Beløp dere har søkt om fra andre inntektskilder (Der det er uavklart hvorvidt søknaden blir innvilget eller avslått)
D62: P3.5i | H62: P3.6e | I62: Beskriv kort med ord hvor dere har søkt om finansiering og beskriv finansieringen.
D63: P3.5j
D64: P3.5k
E65: SUM kostnader | F65: =SUM(F52:F64) -> 0 | J65: SUM andre inntektskilder | K65: =K60+K53 -> 0
C67: P3.7 | D67: =_xlfn.CONCAT("Budsjett for innovasjonsprosjekt ",B1) -> Budsjett for innovasjonsprosjekt 3
D68: - Søknadsbeløp betyr hvor mye nytt tilskudd som ønskes utbetalt. - Totalt tildelingsbeløp betyr Ubrukte midler som ønskes overført + Søknadsbeløp.
H70: Autosummert
F71: Ubrukte midler som ønskes overført | G71: Kostnader | H71: Andre inntekter | I71: Søknadsbeløp | J71: Totalt tildelingsbeløp det søkes om
F72: Midler fra forrige periode som ønskes overført | G72: =_xlfn.CONCAT("Sum fra seksjon P",B1, ".5") -> Sum fra seksjon P3.5 | H72: =_xlfn.CONCAT("Sum fra seksjon P",B1, ".6") -> Sum fra seksjon P3.6 | I72: Nye friske midler som søkes utbetalt til prosjekter | J72: Ubrukte midler + Søknadsbeløp
G73: =F65 -> 0 | H73: =K65 -> 0 | I73: =J73-F73 -> 0 | J73: =F65-K65 -> 0

Sheet Prosjekt 4
B1: 4
C2: =_xlfn.CONCAT("Innovasjonsprosjekt ", B1, ": ",G8) -> Innovasjonsprosjekt 4:
E3: - Statsforvalteren legger særlig vekt på samlet måloppnåelse i prosjektet ved vurdering av søknadene.
E4: - Dersom dere har flere prosjekter kan dere velge å angi rangering på hvert prosjekt for å fremheve hvilke prosjekter dere anser at gir mest nytte for kommunen
C7: P4.1 | D7: Overordnede prosjektdetaljer
D8: P4.1a | E8: Tittel for innovasjonsprosjektet Skriv inn en tittel som er beskrivende for prosjektet - maks 100 tegn | M8: =IF(LEN(G8)-LEN(SUBSTITUTE(G8," ",""))>100,_xlfn.CONCAT("Du har skrevet ",LEN(G8)-LEN(SUBSTITUTE(G8," ",""))," ord. Forsøk å korte ned."),"")
D9: P4.1b | E9: Er dette videreføring av et eksisterende innovasjonsprosjekt? (Ja/Nei)
D10: P4.1c | E10: Estimert startdato for innovasjonsprosjektet
D11: P4.1d | E11: Prioritering i forhold til andre innovasjonsprosjekter (Valgfritt) Dersom dere her søker om flere innovasjonsprosjekter og mener at det kan være ulikt hvor mye nytte de gir så kan dere bruke dette feltet til å opplyse om dette. Angi 1 for innovasjonsprosjektet dere anser at har størst nytte og 2 for innovasjonsprosjektet med nest høyest nytte osv. | K11: (Valgfritt)
D12: P4.1e | E12: Status for innovasjonsprosjektet - Besvares dersom dette er videreføring av et eksisterende innovasjonsprosjekt - Beskriv kort hva som er status for innovasjonsprosjektet og hvordan prosjektet ligger an i forhold til den opprinnelige fremdriftsplanen
C14: P4.2 | D14: =_xlfn.CONCAT("Tema for innovasjonsprosjekt ",B1) -> Tema for innovasjonsprosjekt 4
D15: Marker de temaene som inngår i innovasjonsprosjektet med "Ja"
D16: P4.2a | E16: Forebygging tidlig innsats og egenmestring
D17: P4.2b | E17: Fritidsaktivitet med assistanse
D18: P4.2c | E18: Kulturopplevelser
D19: P4.2d | E19: Ernæring
D20: P4.2e | E20: Legemiddelhåndtering
D21: P4.2f | E21: Rehabilitering og Habilitering
D22: P4.2g | E22: Samspill med pårørende og frivillige i omsorgssektoren generelt og demensomsorgen spesielt
D23: P4.2h | E23: Andre nyskapende løsninger av stor betydning for brukerne av de kommunale helse- og omsorgstjenestene
C25: P4.3 | D25: =_xlfn.CONCAT("Prosjektbeskrivelse: Innovasjonsprosjekt ",B1) -> Prosjektbeskrivelse: Innovasjonsprosjekt 4
D26: - Fyll inn deltaljer for innovasjonsprosjektet der dette er hensiktsmessig - Forsøk å skrive kortfattet (Med et detaljnivå som står i rimelig forhold til innovasjonsprosjektets omfang)
D27: P4.3a | E27: Kort beskrivelse | M27: =IF(LEN(G27)-LEN(SUBSTITUTE(G27," ",""))>100,_xlfn.CONCAT("Du har skrevet ",LEN(G27)-LEN(SUBSTITUTE(G27," ",""))," ord. Forsøk å korte ned."),"")
E28: Gi en kort beskrivelse av innovasjonsprosjektet, herunder delprosjekter, tiltak og bakgrunn for innovasjonsprosjektet
D29: P4.3b | E29: Mål for tiltaket på kort og lengre sikt | M29: =IF(LEN(G29)-LEN(SUBSTITUTE(G29," ",""))>100,_xlfn.CONCAT("Du har skrevet ",LEN(G29)-LEN(SUBSTITUTE(G29," ",""))," ord. Forsøk å korte ned."),"")
E30: Herunder mål for året dere søker om tilskudd og målgruppe for tiltaket
D31: P4.3c | E31: Aktivitets- og fremdriftsplan for året dere søker tilskudd | M31: =IF(LEN(G31)-LEN(SUBSTITUTE(G31," ",""))>100,_xlfn.CONCAT("Du har skrevet ",LEN(G31)-LEN(SUBSTITUTE(G31," ",""))," ord. Forsøk å korte ned."),"")
E32: Sett inn de viktigste aktivitetene for å nå målene for innovasjonsprosjektet og angi gjerne måned for gjennomføring
D33: P4.3d | E33: Metoder kunnskap eller erfaring | M33: =IF(LEN(G33)-LEN(SUBSTITUTE(G33," ",""))>100,_xlfn.CONCAT("Du har skrevet ",LEN(G33)-LEN(SUBSTITUTE(G33," ",""))," ord. Forsøk å korte ned."),"")
E34: Beskriv hvilke teorier / faglige metoder dere benytter i innovasjonsprosjektet eller hvilken kunnskap/erfaring dere bygger på. Herunder metoder for brukermedvirkning
D35: P4.3e | E35: Gevinster og effekter | M35: =IF(LEN(G35)-LEN(SUBSTITUTE(G35," ",""))>100,_xlfn.CONCAT("Du har skrevet ",LEN(G35)-LEN(SUBSTITUTE(G35," ",""))," ord. Forsøk å korte ned."),"")
E36: Hvilke konkrete gevinster/effekter forventes tiltaket å gi, hvilken betydning kan det få for omlegging av praksis
D37: P4.3f | E37: Risikofaktorer | M37: =IF(LEN(G37)-LEN(SUBSTITUTE(G37," ",""))>100,_xlfn.CONCAT("Du har skrevet ",LEN(G37)-LEN(SUBSTITUTE(G37," ",""))," ord. Forsøk å korte ned."),"")
E38: Hvilke faktorer gjør det usikkert at dere når målene, selv om dere mottar tilskudd fra Statsforvalteren?
D39: P4.3g | E39: Forankring internt i kommunen | M39: =IF(LEN(G39)-LEN(SUBSTITUTE(G39," ",""))>100,_xlfn.CONCAT("Du har skrevet ",LEN(G39)-LEN(SUBSTITUTE(G39," ",""))," ord. Forsøk å korte ned."),"")
E40: Beskriv hvordan tiltaket er forankret internt i kommunen, faglig og administrativt i både utviklings og implementeringsfasen
D41: P4.3h | E41: Kontrolltiltak | M41: =IF(LEN(G41)-LEN(SUBSTITUTE(G41," ",""))>100,_xlfn.CONCAT("Du har skrevet ",LEN(G41)-LEN(SUBSTITUTE(G41," ",""))," ord. Forsøk å korte ned."),"")
E42: -Beskriv de interne og eksterne kontrolltiltak hos dere som skal sikre korrekt rapportering og at målene nås. -Beskriv om de gjennomføres allerede eller er planlagt. -Interne kontrollaktiviteter, internrevisjon, autorisert / ikke autorisert revisor, andre offentlige tilsyn, Riksrevisjonen, evaluering og systematisk kvalitetssikret dokumentasjon er eksempler på kontrolltiltak som kan øke sikkerheten for at målene nås.
C44: P4.4 | D44: =_xlfn.CONCAT("Samarbeidspartnere i innovasjonsprosjekt ",B1) -> Samarbeidspartnere i innovasjonsprosjekt 4
D45: Skriv navnet på virksomheter og organisasjoner som er samarbeidspartnere i innovasjonsprosjektet
C48: =_xlfn.CONCAT("Inntekter og estimerte kostnader for innovasjonsprosjekt",IF(G8="","",_xlfn.CONCAT(": ",G8))) -> Inntekter og estimerte kostnader for innovasjonsprosjekt
D50: P4.5 Alle estimerte kostnader for innovasjonsprosjektet (I året det søkes for) | H50: P4.6 Alternative inntekter for innovasjonsprosjekt
D51: - Her skal totalen av alle de planlagte utgifter for innovasjonsprosjektet fylles inn. - Statsforvalteren gir ikke tilskudd til alle typer utgifter under alle ordninger - se kunngjøringen - Dersom dere får tilskudd, må dere kunne rapportere på disse utgiftskategoriene i tillegg til å sende inn relevante regnskapsrapporter som følger deres inndeling av regnskapet - Skriv alle beløp i hele kroner. | H51: - Fyll inn eventuelle andre inntekter og finansieringskilder. (Her menes de inntekter og finansieringskilder som ikke kommer fra denne tilskuddsordningen.) - Summen herfra brukes til å beregne hvor mye midler dere trenger å søke om. Beregningen er: SUM utgifter - SUM andre inntekter = Totalt beløp det søkes om til innovasjonsprosjektet
D52: P4.5a | E52: Lønnsutgifter med sosiale utgifter | H52: Egenfinansiering (Hvis aktuelt)
D53: P4.5b | E53: Reiseutgifter, arrangement, møter, konferanser | H53: P4.6a | I53: Beløp fra egenfinansiering Beløp dere har fått innvilget eller har søkt om til innovasjonsprosjektet fra egen virksomhet.
D54: P4.5c | E54: Konsulenttjenester
D55: P4.5d | E55: Trykking, publikasjoner, kunngjøringer, utsending og distribusjonskostnader | H55: P4.6b | I55: Beskriv med ord stillingsressurs eller frivillig innsats Innsats dere har fått innvilget eller har søkt om til innovasjonsprosjektet fra egen virksomhet
D56: P4.5e | E56: Investeringer/ inventar/ utstyr. Kontroller i kunngjøringen om det gis tilskudd til dette
D57: P4.5f | E57: Driftsutgifter, forbruksmateriell og kontortjenester inkludert lokaler og energi
D58: Andre utgifter (Spesifiser i rader nedenfor)
E59: Kostnadsbetegnelse: | F59: Beløp: | H59: Inntekter fra andre kilder (Hvis aktuelt)
D60: P4.5g | H60: P4.6c | I60: Bekreftet beløp fra andre inntektskilder
D61: P4.5h | H61: P4.6d | I61: Beløp dere har søkt om fra andre inntektskilder (Der det er uavklart hvorvidt søknaden blir innvilget eller avslått)
D62: P4.5i | H62: P4.6e | I62: Beskriv kort med ord hvor dere har søkt om finansiering og beskriv finansieringen.
D63: P4.5j
D64: P4.5k
E65: SUM kostnader | F65: =SUM(F52:F64) -> 0 | J65: SUM andre inntektskilder | K65: =K60+K53 -> 0
C67: P4.7 | D67: =_xlfn.CONCAT("Budsjett for innovasjonsprosjekt ",B1) -> Budsjett for innovasjonsprosjekt 4
D68: - Søknadsbeløp betyr hvor mye nytt tilskudd som ønskes utbetalt. - Totalt tildelingsbeløp betyr Ubrukte midler som ønskes overført + Søknadsbeløp.
H70: Autosummert
F71: Ubrukte midler som ønskes overført | G71: Kostnader | H71: Andre inntekter | I71: Søknadsbeløp | J71: Totalt tildelingsbeløp det søkes om
F72: Midler fra forrige periode som ønskes overført | G72: =_xlfn.CONCAT("Sum fra seksjon P",B1, ".5") -> Sum fra seksjon P4.5 | H72: =_xlfn.CONCAT("Sum fra seksjon P",B1, ".6") -> Sum fra seksjon P4.6 | I72: Nye friske midler som søkes utbetalt til prosjekter | J72: Ubrukte midler + Søknadsbeløp
G73: =F65 -> 0 | H73: =K65 -> 0 | I73: =J73-F73 -> 0 | J73: =F65-K65 -> 0

Sheet Prosjekt 5
B1: 5
C2: =_xlfn.CONCAT("Innovasjonsprosjekt ", B1, ": ",G8) -> Innovasjonsprosjekt 5:
E3: - Statsforvalteren legger særlig vekt på samlet måloppnåelse i prosjektet ved vurdering av søknadene.
E4: - Dersom dere har flere prosjekter kan dere velge å angi rangering på hvert prosjekt for å fremheve hvilke prosjekter dere anser at gir mest nytte for kommunen
C7: P5.1 | D7: Overordnede prosjektdetaljer
D8: P5.1a | E8: Tittel for innovasjonsprosjektet Skriv inn en tittel som er beskrivende for prosjektet - maks 100 tegn | M8: =IF(LEN(G8)-LEN(SUBSTITUTE(G8," ",""))>100,_xlfn.CONCAT("Du har skrevet ",LEN(G8)-LEN(SUBSTITUTE(G8," ",""))," ord. Forsøk å korte ned."),"")
D9: P5.1b | E9: Er dette videreføring av et eksisterende innovasjonsprosjekt? (Ja/Nei)
D10: P5.1c | E10: Estimert startdato for innovasjonsprosjektet
D11: P5.1d | E11: Prioritering i forhold til andre innovasjonsprosjekter (Valgfritt) Dersom dere her søker om flere innovasjonsprosjekter og mener at det kan være ulikt hvor mye nytte de gir så kan dere bruke dette feltet til å opplyse om dette. Angi 1 for innovasjonsprosjektet dere anser at har størst nytte og 2 for innovasjonsprosjektet med nest høyest nytte osv. | K11: (Valgfritt)
D12: P5.1e | E12: Status for innovasjonsprosjektet - Besvares dersom dette er videreføring av et eksisterende innovasjonsprosjekt - Beskriv kort hva som er status for innovasjonsprosjektet og hvordan prosjektet ligger an i forhold til den opprinnelige fremdriftsplanen
C14: P5.2 | D14: =_xlfn.CONCAT("Tema for innovasjonsprosjekt ",B1) -> Tema for innovasjonsprosjekt 5
D15: Marker de temaene som inngår i innovasjonsprosjektet med "Ja"
D16: P5.2a | E16: Forebygging tidlig innsats og egenmestring
D17: P5.2b | E17: Fritidsaktivitet med assistanse
D18: P5.2c | E18: Kulturopplevelser
D19: P5.2d | E19: Ernæring
D20: P5.2e | E20: Legemiddelhåndtering
D21: P5.2f | E21: Rehabilitering og Habilitering
D22: P5.2g | E22: Samspill med pårørende og frivillige i omsorgssektoren generelt og demensomsorgen spesielt
D23: P5.2h | E23: Andre nyskapende løsninger av stor betydning for brukerne av de kommunale helse- og omsorgstjenestene
C25: P5.3 | D25: =_xlfn.CONCAT("Prosjektbeskrivelse: Innovasjonsprosjekt ",B1) -> Prosjektbeskrivelse: Innovasjonsprosjekt 5
D26: - Fyll inn deltaljer for innovasjonsprosjektet der dette er hensiktsmessig - Forsøk å skrive kortfattet (Med et detaljnivå som står i rimelig forhold til innovasjonsprosjektets omfang)
D27: P5.3a | E27: Kort beskrivelse | M27: =IF(LEN(G27)-LEN(SUBSTITUTE(G27," ",""))>100,_xlfn.CONCAT("Du har skrevet ",LEN(G27)-LEN(SUBSTITUTE(G27," ",""))," ord. Forsøk å korte ned."),"")
E28: Gi en kort beskrivelse av innovasjonsprosjektet, herunder delprosjekter, tiltak og bakgrunn for innovasjonsprosjektet
D29: P5.3b | E29: Mål for tiltaket på kort og lengre sikt | M29: =IF(LEN(G29)-LEN(SUBSTITUTE(G29," ",""))>100,_xlfn.CONCAT("Du har skrevet ",LEN(G29)-LEN(SUBSTITUTE(G29," ",""))," ord. Forsøk å korte ned."),"")
E30: Herunder mål for året dere søker om tilskudd og målgruppe for tiltaket
D31: P5.3c | E31: Aktivitets- og fremdriftsplan for året dere søker tilskudd | M31: =IF(LEN(G31)-LEN(SUBSTITUTE(G31," ",""))>100,_xlfn.CONCAT("Du har skrevet ",LEN(G31)-LEN(SUBSTITUTE(G31," ",""))," ord. Forsøk å korte ned."),"")
E32: Sett inn de viktigste aktivitetene for å nå målene for innovasjonsprosjektet og angi gjerne måned for gjennomføring
D33: P5.3d | E33: Metoder kunnskap eller erfaring | M33: =IF(LEN(G33)-LEN(SUBSTITUTE(G33," ",""))>100,_xlfn.CONCAT("Du har skrevet ",LEN(G33)-LEN(SUBSTITUTE(G33," ",""))," ord. Forsøk å korte ned."),"")
E34: Beskriv hvilke teorier / faglige metoder dere benytter i innovasjonsprosjektet eller hvilken kunnskap/erfaring dere bygger på. Herunder metoder for brukermedvirkning
D35: P5.3e | E35: Gevinster og effekter | M35: =IF(LEN(G35)-LEN(SUBSTITUTE(G35," ",""))>100,_xlfn.CONCAT("Du har skrevet ",LEN(G35)-LEN(SUBSTITUTE(G35," ",""))," ord. Forsøk å korte ned."),"")
E36: Hvilke konkrete gevinster/effekter forventes tiltaket å gi, hvilken betydning kan det få for omlegging av praksis
D37: P5.3f | E37: Risikofaktorer | M37: =IF(LEN(G37)-LEN(SUBSTITUTE(G37," ",""))>100,_xlfn.CONCAT("Du har skrevet ",LEN(G37)-LEN(SUBSTITUTE(G37," ",""))," ord. Forsøk å korte ned."),"")
E38: Hvilke faktorer gjør det usikkert at dere når målene, selv om dere mottar tilskudd fra Statsforvalteren?
D39: P5.3g | E39: Forankring internt i kommunen | M39: =IF(LEN(G39)-LEN(SUBSTITUTE(G39," ",""))>100,_xlfn.CONCAT("Du har skrevet ",LEN(G39)-LEN(SUBSTITUTE(G39," ",""))," ord. Forsøk å korte ned."),"")
E40: Beskriv hvordan tiltaket er forankret internt i kommunen, faglig og administrativt i både utviklings og implementeringsfasen
D41: P5.3h | E41: Kontrolltiltak | M41: =IF(LEN(G41)-LEN(SUBSTITUTE(G41," ",""))>100,_xlfn.CONCAT("Du har skrevet ",LEN(G41)-LEN(SUBSTITUTE(G41," ",""))," ord. Forsøk å korte ned."),"")
E42: -Beskriv de interne og eksterne kontrolltiltak hos dere som skal sikre korrekt rapportering og at målene nås. -Beskriv om de gjennomføres allerede eller er planlagt. -Interne kontrollaktiviteter, internrevisjon, autorisert / ikke autorisert revisor, andre offentlige tilsyn, Riksrevisjonen, evaluering og systematisk kvalitetssikret dokumentasjon er eksempler på kontrolltiltak som kan øke sikkerheten for at målene nås.
C44: P5.4 | D44: =_xlfn.CONCAT("Samarbeidspartnere i innovasjonsprosjekt ",B1) -> Samarbeidspartnere i innovasjonsprosjekt 5
D45: Skriv navnet på virksomheter og organisasjoner som er samarbeidspartnere i innovasjonsprosjektet
C48: =_xlfn.CONCAT("Inntekter og estimerte kostnader for innovasjonsprosjekt",IF(G8="","",_xlfn.CONCAT(": ",G8))) -> Inntekter og estimerte kostnader for innovasjonsprosjekt
D50: P5.5 Alle estimerte kostnader for innovasjonsprosjektet (I året det søkes for) | H50: P5.6 Alternative inntekter for innovasjonsprosjekt
D51: - Her skal totalen av alle de planlagte utgifter for innovasjonsprosjektet fylles inn. - Statsforvalteren gir ikke tilskudd til alle typer utgifter under alle ordninger - se kunngjøringen - Dersom dere får tilskudd, må dere kunne rapportere på disse utgiftskategoriene i tillegg til å sende inn relevante regnskapsrapporter som følger deres inndeling av regnskapet - Skriv alle beløp i hele kroner. | H51: - Fyll inn eventuelle andre inntekter og finansieringskilder. (Her menes de inntekter og finansieringskilder som ikke kommer fra denne tilskuddsordningen.) - Summen herfra brukes til å beregne hvor mye midler dere trenger å søke om. Beregningen er: SUM utgifter - SUM andre inntekter = Totalt beløp det søkes om til innovasjonsprosjektet
D52: P5.5a | E52: Lønnsutgifter med sosiale utgifter | H52: Egenfinansiering (Hvis aktuelt)
D53: P5.5b | E53: Reiseutgifter, arrangement, møter, konferanser | H53: P5.6a | I53: Beløp fra egenfinansiering Beløp dere har fått innvilget eller har søkt om til innovasjonsprosjektet fra egen virksomhet.
D54: P5.5c | E54: Konsulenttjenester
D55: P5.5d | E55: Trykking, publikasjoner, kunngjøringer, utsending og distribusjonskostnader | H55: P5.6b | I55: Beskriv med ord stillingsressurs eller frivillig innsats Innsats dere har fått innvilget eller har søkt om til innovasjonsprosjektet fra egen virksomhet
D56: P5.5e | E56: Investeringer/ inventar/ utstyr. Kontroller i kunngjøringen om det gis tilskudd til dette
D57: P5.5f | E57: Driftsutgifter, forbruksmateriell og kontortjenester inkludert lokaler og energi
D58: Andre utgifter (Spesifiser i rader nedenfor)
E59: Kostnadsbetegnelse: | F59: Beløp: | H59: Inntekter fra andre kilder (Hvis aktuelt)
D60: P5.5g | H60: P5.6c | I60: Bekreftet beløp fra andre inntektskilder
D61: P5.5h | H61: P5.6d | I61: Beløp dere har søkt om fra andre inntektskilder (Der det er uavklart hvorvidt søknaden blir innvilget eller avslått)
D62: P5.5i | H62: P5.6e | I62: Beskriv kort med ord hvor dere har søkt om finansiering og beskriv finansieringen.
D63: P5.5j
D64: P5.5k
E65: SUM kostnader | F65: =SUM(F52:F64) -> 0 | J65: SUM andre inntektskilder | K65: =K60+K53 -> 0
C67: P5.7 | D67: =_xlfn.CONCAT("Budsjett for innovasjonsprosjekt ",B1) -> Budsjett for innovasjonsprosjekt 5
D68: - Søknadsbeløp betyr hvor mye nytt tilskudd som ønskes utbetalt. - Totalt tildelingsbeløp betyr Ubrukte midler som ønskes overført + Søknadsbeløp.
H70: Autosummert
F71: Ubrukte midler som ønskes overført | G71: Kostnader | H71: Andre inntekter | I71: Søknadsbeløp | J71: Totalt tildelingsbeløp det søkes om
F72: Midler fra forrige periode som ønskes overført | G72: =_xlfn.CONCAT("Sum fra seksjon P",B1, ".5") -> Sum fra seksjon P5.5 | H72: =_xlfn.CONCAT("Sum fra seksjon P",B1, ".6") -> Sum fra seksjon P5.6 | I72: Nye friske midler som søkes utbetalt til prosjekter | J72: Ubrukte midler + Søknadsbeløp
G73: =F65 -> 0 | H73: =K65 -> 0 | I73: =J73-F73 -> 0 | J73: =F65-K65 -> 0

Sheet Backend
A1: FRA FORSIDE | E1: FRA KOMPETANSETILSKUDD | L1: Filter<>FALSE | O1: FILTER<>"" | AM1: COL seksjon2: | AV1: Kol_merknad i søknad | DZ1: {=_xlfn._xlws.FILTER(DI1:DV496,DI1:DI496>"")} -> #VALUE! | ET1: versjon
A2: {='Forside og oppsummering'!B22:E30} -> 1. | B2: Informasjon om kommunen | C2: 0 | D2: 0 | I2: NIVÅ | J2: LinjeID | K2: Linje_tittel | L2: NIVÅ | M2: LinjeID | N2: Linje_tittel | O2: NIVÅ | P2: LinjeID | Q2: Linje_tittel | R2: Kommune | S2: Nivå 1 | T2: 1_tittel | U2: Nivå 2 | V2: 2_tittel | W2: Nivå 3 | X2: 3_tittel | Y2: Nivå 4 (merknad) | Z2: BRUK_SOM_BLANK | AA2: header_lvl | AE2: TRUE | AF2: FALSE | AG2: TRUE | AH2: FALSE | AI2: TRUE | AJ2: TRUE | AK2: TRUE | AL2: FALSE | AM2: =IFERROR(MATCH(AM3,'Kompetansetilskudd og BPA'!$A$6:$N$6,0),FALSE) -> 6 | AN2: =IFERROR(MATCH(AN3,'Kompetansetilskudd og BPA'!$A$6:$N$6,0),FALSE) -> 7 | AO2: =IFERROR(MATCH(AO3,'Kompetansetilskudd og BPA'!$A$6:$N$6,0),FALSE) -> FALSE | AP2: =IFERROR(MATCH(AP3,'Kompetansetilskudd og BPA'!$A$6:$N$6,0),FALSE) -> 9 | AQ2: =IFERROR(MATCH(AQ3,'Kompetansetilskudd og BPA'!$A$6:$N$6,0),FALSE) -> 10 | AR2: =IFERROR(MATCH(AR3,'Kompetansetilskudd og BPA'!$A$6:$N$6,0),FALSE) -> 11 | AS2: =IFERROR(MATCH(AS3,'Kompetansetilskudd og BPA'!$A$6:$N$6,0),FALSE) -> FALSE | AT2: =IFERROR(MATCH(AT3,'Kompetansetilskudd og BPA'!$A$6:$N$6,0),FALSE) -> 13 | AU2: =IFERROR(MATCH(AU3,'Kompetansetilskudd og BPA'!$A$6:$N$6,0),FALSE) -> 14 | AV2: 6 | AW2: TRUE | AX2: Headere | ET2: 20220125_1110 | EU2: Ny tekst i signaturfelt
B3: 1.1. | C3: Navn på kommunen | D3: 0 | E3: {='Kompetansetilskudd og BPA'!B1:E149} -> 0 | F3: 0 | G3: 0 | H3: 0 | Z3: =AND(W4=FALSE,Y4=FALSE) -> FALSE | AE3: Kommune | AG3: Seksjon | AI3: Type | AJ3: Nr. | AK3: Utdannelse/Kurs | AM3: {='Kompetansetilskudd og BPA'!F6:N6} -> Videreføring: Antall personer | AN3: Antall nye personer | AO3: 0 | AP3: Ubrukte midler som ønskes overført | AQ3: Søknads- beløp | AR3: Ubrukte midler som tilbakebetales | AS3: 0 | AT3: Totalt antall personer det søkes for | AU3: Totalt beløp det søkes om til tiltaket | AV3: Svar / Merknad | AW3: =AA2 -> header_lvl | AX3: {=_xlfn._xlws.FILTER(AE3:AW3,AE2:AW2<>FALSE)} -> Kommune | AY3: Seksjon | AZ3: Type | BA3: Nr. | BB3: Utdannelse/Kurs | BC3: Videreføring: Antall personer | BD3: Antall nye personer | BE3: Ubrukte midler som ønskes overført | BF3: Søknads- beløp | BG3: Ubrukte midler som tilbakebetales | BH3: Totalt antall personer det søkes for | BI3: Totalt beløp det søkes om til tiltaket | BJ3: Svar / Merknad | BK3: header_lvl | CB3: sub_header | CC3: non-data row | CD3: Prosjektet mangler data | CE3: keep_row | CF3: header_lvl | CT3: header_lvl | CU3: Prosjekter
B4: 1.2. | C4: Org.nummer | D4: 0 | E4: 2. | F4: Kompetansetiltak (grunn-, videre- og etterutdanning) | G4: 0 | H4: 0 | I4: =IF(H4='Kompetansetilskudd og BPA'!$E$12,4,IF(E4=0,IF(F4=0,IF(G4=0,FALSE,3),2),1)) -> 1 | J4: =IF(I4=1,E4,IF(I4=2,F4,IF(I4=3,G4,IF(I4=4,G4)))) -> 2. | K4: =IF(I4=1,F4,IF(I4=2,G4,IF(I4=3,H4,IF(I4=4,H4)))) -> Kompetansetiltak (grunn-, videre- og etterutdanning) | L4: {=_xlfn._xlws.FILTER(I4:K150,J4:J150<>FALSE)} -> 1 | M4: 2. | N4: Kompetansetiltak (grunn-, videre- og etterutdanning) | O4: {=_xlfn._xlws.FILTER(L4:N150,M4:M150<>"")} -> 1 | P4: 2. | Q4: Kompetansetiltak (grunn-, videre- og etterutdanning) | R4: ='Forside og oppsummering'!$E$23 -> 0 | S4: =IF(O4=1,P4,S3) -> 2. | T4: =IF(O4=1,Q4,T3) -> Kompetansetiltak (grunn-, videre- og etterutdanning) | U4: =IF(O4=1,"",IF(O4=2,P4,U3)) | V4: =IF(O4=1,"",IF(O4=2,Q4,V3)) | W4: =P4 -> 2. | X4: =IF(O4<3,"",IF(O4=3,Q4,X3)) | Y4: =IF(O5=4,P5) -> FALSE | Z4: =O4=4 -> FALSE | AA4: =IF(Z4,5,O4) -> 1 | AJ4: Kriterie for nivå 3: <>0 | AM4: COL seksjon1: | AN4: 1 | AP4: =COLUMN('Kompetansetilskudd og BPA'!I97) -> 9 | AQ4: =COLUMN('Kompetansetilskudd og BPA'!J97) -> 10 | AR4: =COLUMN('Kompetansetilskudd og BPA'!K97) -> 11 | AT4: =COLUMN('Kompetansetilskudd og BPA'!G97) -> 7 | AU4: 1 | BO4: KEEP ROW | BQ4: P1. | CC4: =AND(BQ4=0,OR(BR4=0,BS4=0)) -> FALSE | CD4: =AND(COUNTIF(CA6:CA9,0)=COUNTA(CA6:CA9),SUM(BW44:CA74)=0) -> TRUE | CE4: =IF(CD4,FALSE,NOT(AND(CC4,CB5=FALSE))) -> FALSE | CF4: =IF(LEN(BQ4)=3,1,IF(CB5,5,IF(CB4,2,IF(BS4="Søknad",3,4)))) -> 1 | CG4: ='Forside og oppsummering'!$E$23 -> 0 | CH4: Prosjekt 1 | CI4: =IF(CF4=1,"",IF(CF4=2,BR4,CI3)) | CJ4: =IF(CF4<3,BQ4,IF(AND(BR4=0,CE4),_xlfn.CONCAT(LEFT(BR3,LEN(BR3)-1),CHAR(CODE(RIGHT(BR3,1))+1)),BR4)) -> P1. | CK4: =BS4 -> 0 | CL4: {=BT4:CA400} -> 0 | CM4: 0 | CN4: 0 | CO4: 0 | CP4: 0 | CQ4: 0 | CR4: 0 | CS4: 0 | CT4: =CF4 -> 1 | CU4: {=IFERROR(_xlfn._xlws.FILTER(CG4:CT400,CE4:CE400),"")}
B5: 1.3. | C5: Kontonummer | D5: 0 | E5: 0 | F5: 2.1. | G5: Videregående skole, fag- og yrkesopplæring innen helse (fagbrev) | H5: 0 | I5: =IF(H5='Kompetansetilskudd og BPA'!$E$12,4,IF(E5=0,IF(F5=0,IF(G5=0,FALSE,3),2),1)) -> 2 | J5: =IF(I5=1,E5,IF(I5=2,F5,IF(I5=3,G5,IF(I5=4,G5)))) -> 2.1. | K5: =IF(I5=1,F5,IF(I5=2,G5,IF(I5=3,H5,IF(I5=4,H5)))) -> Videregående skole, fag- og yrkesopplæring innen helse (fagbrev) | L5: 2 | M5: 2.1. | N5: Videregående skole, fag- og yrkesopplæring innen helse (fagbrev) | O5: 2 | P5: 2.1. | Q5: Videregående skole, fag- og yrkesopplæring innen helse (fagbrev) | R5: ='Forside og oppsummering'!$E$23 -> 0 | S5: =IF(O5=1,P5,S4) -> 2. | T5: =IF(O5=1,Q5,T4) -> Kompetansetiltak (grunn-, videre- og etterutdanning) | U5: =IF(O5=1,"",IF(O5=2,P5,U4)) -> 2.1. | V5: =IF(O5=1,"",IF(O5=2,Q5,V4)) -> Videregående skole, fag- og yrkesopplæring innen helse (fagbrev) | W5: =P5 -> 2.1. | X5: =IF(O5<3,"",IF(O5=3,Q5,X4)) | Y5: =IF(O6=4,P6) -> FALSE | Z5: =O5=4 -> FALSE | AA5: =IF(Z5,5,O5) -> 2 | AE5: =$D$3 -> 0 | AF5: =$A$2 -> 1. | AG5: =$B$2 -> Informasjon om kommunen | AH5: ="" | AI5: ="" | AJ5: =AF5 -> 1. | AK5: ="" | AL5: ="" | AM5: ="" | AN5: ="" | AO5: ="" | AP5: ="" | AQ5: ="" | AR5: ="" | ... AU5: ="" | AV5: =IF(D2=0,"",D2) | AW5: 1 | AX5: {=_xlfn._xlws.FILTER(AE5:AW15,AE2:AW2<>FALSE)} -> 0 | AY5: Informasjon om kommunen | BA5: 1. | BK5: 1 | BO5: TRUE | BQ5: {='Prosjekt 1'!$C$7:$E$42} -> P1.1 | BR5: Overordnede prosjektdetaljer | BS5: 0 | CA5: {='Prosjekt 1'!$G$7:$G$42} -> 0 | CB5: =BQ5>"" -> TRUE | CC5: =AND(BQ5=0,OR(BR5=0,BS5=0)) -> FALSE | CD5: =$CD$4 -> TRUE | CE5: =IF(CD5,FALSE,NOT(AND(CC5,CB6=FALSE))) -> FALSE | CF5: =IF(LEN(BQ5)=3,1,IF(CB6,5,IF(CB5,2,IF(BS5="Søknad",3,4)))) -> 2 | CG5: ='Forside og oppsummering'!$E$23 -> 0 | CH5: Prosjekt 1 | CI5: =IF(CF5=1,"",IF(CF5=2,BR5,CI4)) -> Overordnede prosjektdetaljer | CJ5: =IF(CF5<3,BQ5,IF(AND(BR5=0,CE5),_xlfn.CONCAT(LEFT(BR4,LEN(BR4)-1),CHAR(CODE(RIGHT(BR4,1))+1)),BR5)) -> P1.1 | CK5: =BS5 -> 0 | CL5: 0 | CM5: 0 | CN5: 0 | CO5: 0 | CP5: 0 | CQ5: 0 | CR5: 0 | CS5: 0 | CT5: =CF5 -> 2 | DI5: {=_xlfn._xlws.FILTER(AX5:BK15,BO5:BO15)} -> 0 | DJ5: Informasjon om kommunen | DL5: 1. | DV5: 1
B6: 1.4. | C6: Kontaktperson Én person | D6: 0 | E6: 0 | F6: 0 | G6: 0 | H6: 0 | I6: =IF(H6='Kompetansetilskudd og BPA'!$E$12,4,IF(E6=0,IF(F6=0,IF(G6=0,FALSE,3),2),1)) -> FALSE | J6: =IF(I6=1,E6,IF(I6=2,F6,IF(I6=3,G6,IF(I6=4,G6)))) -> FALSE | K6: =IF(I6=1,F6,IF(I6=2,G6,IF(I6=3,H6,IF(I6=4,H6)))) -> FALSE | L6: 3 | N6: 0 | O6: 3 | P6: 2.1a | Q6: Helsefagarbeider | R6: ='Forside og oppsummering'!$E$23 -> 0 | S6: =IF(O6=1,P6,S5) -> 2. | T6: =IF(O6=1,Q6,T5) -> Kompetansetiltak (grunn-, videre- og etterutdanning) | U6: =IF(O6=1,"",IF(O6=2,P6,U5)) -> 2.1. | V6: =IF(O6=1,"",IF(O6=2,Q6,V5)) -> Videregående skole, fag- og yrkesopplæring innen helse (fagbrev) | W6: =P6 -> 2.1a | X6: =IF(O6<3,"",IF(O6=3,Q6,X5)) -> Helsefagarbeider | Y6: =IF(O7=4,P7) -> FALSE | Z6: =O6=4 -> FALSE | AA6: =IF(Z6,5,O6) -> 3 | AE6: =$D$3 -> 0 | AF6: =$A$2 -> 1. | AG6: =$B$2 -> Informasjon om kommunen | AH6: {=B3:C10} -> 1.1. | AI6: Navn på kommunen | AJ6: =AH6 -> 1.1. | AK6: =AI6 -> Navn på kommunen | AL6: ="" | AM6: ="" | AN6: ="" | AO6: ="" | AP6: ="" | AQ6: ="" | AR6: ="" | AS6: ="" | ... AU6: ="" | AV6: =IF(D3=0,"",D3) | AW6: 4 | AX6: 0 | AY6: Informasjon om kommunen | AZ6: Navn på kommunen | BA6: 1.1. | BB6: Navn på kommunen | BK6: 4 | BO6: TRUE | BQ6: 0 | BR6: P1.1a | BS6: Tittel for innovasjonsprosjektet Skriv inn en tittel som er beskrivende for prosjektet - maks 100 tegn | CA6: 0 | CB6: =BQ6>"" -> FALSE | CC6: =AND(BQ6=0,OR(BR6=0,BS6=0)) -> FALSE | CD6: =$CD$4 -> TRUE | CE6: =IF(CD6,FALSE,NOT(AND(CC6,CB7=FALSE))) -> FALSE | CF6: =IF(LEN(BQ6)=3,1,IF(CB7,5,IF(CB6,2,IF(BS6="Søknad",3,4)))) -> 4 | CG6: ='Forside og oppsummering'!$E$23 -> 0 | CH6: Prosjekt 1 | CI6: =IF(CF6=1,"",IF(CF6=2,BR6,CI5)) -> Overordnede prosjektdetaljer | CJ6: =IF(CF6<3,BQ6,IF(AND(BR6=0,CE6),_xlfn.CONCAT(LEFT(BR5,LEN(BR5)-1),CHAR(CODE(RIGHT(BR5,1))+1)),BR6)) -> P1.1a | CK6: =BS6 -> Tittel for innovasjonsprosjektet Skriv inn en tittel som er beskrivende for prosjektet - maks 100 tegn | CL6: 0 | CM6: 0 | CN6: 0 | CO6: 0 | CP6: 0 | CQ6: 0 | CR6: 0 | CS6: 0 | CT6: =CF6 -> 4 | DI6: 0 | DJ6: Informasjon om kommunen | DK6: Navn på kommunen | DL6: 1.1. | DM6: Navn på kommunen | DV6: 4
B7: 1.5. | C7: E-post Til kontaktperson | D7: 0 | E7: 0 | F7: 0 | G7: 0 | H7: 0 | I7: =IF(H7='Kompetansetilskudd og BPA'!$E$12,4,IF(E7=0,IF(F7=0,IF(G7=0,FALSE,3),2),1)) -> FALSE | J7: =IF(I7=1,E7,IF(I7=2,F7,IF(I7=3,G7,IF(I7=4,G7)))) -> FALSE | K7: =IF(I7=1,F7,IF(I7=2,G7,IF(I7=3,H7,IF(I7=4,H7)))) -> FALSE | L7: 3 | M7: 2.1a | N7: Helsefagarbeider | O7: 3 | P7: 2.1b | Q7: Annen utdanning på videregående skolenivå | R7: ='Forside og oppsummering'!$E$23 -> 0 | S7: =IF(O7=1,P7,S6) -> 2. | T7: =IF(O7=1,Q7,T6) -> Kompetansetiltak (grunn-, videre- og etterutdanning) | U7: =IF(O7=1,"",IF(O7=2,P7,U6)) -> 2.1. | V7: =IF(O7=1,"",IF(O7=2,Q7,V6)) -> Videregående skole, fag- og yrkesopplæring innen helse (fagbrev) | W7: =P7 -> 2.1b | X7: =IF(O7<3,"",IF(O7=3,Q7,X6)) -> Annen utdanning på videregående skolenivå | Y7: =IF(O8=4,P8) -> 2.1c | Z7: =O7=4 -> FALSE | AA7: =IF(Z7,5,O7) -> 3 | AE7: =$D$3 -> 0 | AF7: =$A$2 -> 1. | AG7: =$B$2 -> Informasjon om kommunen | AH7: 1.2. | AI7: Org.nummer | AJ7: =AH7 -> 1.2. | AK7: =AI7 -> Org.nummer | AL7: ="" | AM7: ="" | AN7: ="" | AO7: ="" | AP7: ="" | AQ7: ="" | AR7: ="" | AS7: ="" | ... AU7: ="" | AV7: =IF(D4=0,"",D4) | AW7: 4 | AX7: 0 | AY7: Informasjon om kommunen | AZ7: Org.nummer | BA7: 1.2. | BB7: Org.nummer | BK7: 4 | BO7: TRUE | BQ7: 0 | BR7: P1.1b | BS7: Er dette videreføring av et eksisterende innovasjonsprosjekt? (Ja/Nei) | CA7: 0 | CB7: =BQ7>"" -> FALSE | CC7: =AND(BQ7=0,OR(BR7=0,BS7=0)) -> FALSE | CD7: =$CD$4 -> TRUE | CE7: =IF(CD7,FALSE,NOT(AND(CC7,CB8=FALSE))) -> FALSE | CF7: =IF(LEN(BQ7)=3,1,IF(CB8,5,IF(CB7,2,IF(BS7="Søknad",3,4)))) -> 4 | CG7: ='Forside og oppsummering'!$E$23 -> 0 | CH7: Prosjekt 1 | CI7: =IF(CF7=1,"",IF(CF7=2,BR7,CI6)) -> Overordnede prosjektdetaljer | CJ7: =IF(CF7<3,BQ7,IF(AND(BR7=0,CE7),_xlfn.CONCAT(LEFT(BR6,LEN(BR6)-1),CHAR(CODE(RIGHT(BR6,1))+1)),BR7)) -> P1.1b | CK7: =BS7 -> Er dette videreføring av et eksisterende innovasjonsprosjekt? (Ja/Nei) | CL7: 0 | CM7: 0 | CN7: 0 | CO7: 0 | CP7: 0 | CQ7: 0 | CR7: 0 | CS7: 0 | CT7: =CF7 -> 4 | DI7: 0 | DJ7: Informasjon om kommunen | DK7: Org.nummer | DL7: 1.2. | DM7: Org.nummer | DV7: 4
A8: 0 | B8: 1.6. | C8: Telefon Til kontaktperson | D8: 0 | E8: 0 | F8: 0 | H8: 0 | I8: =IF(H8='Kompetansetilskudd og BPA'!$E$12,4,IF(E8=0,IF(F8=0,IF(G8=0,FALSE,3),2),1)) -> 3 | J8: =IF(I8=1,E8,IF(I8=2,F8,IF(I8=3,G8,IF(I8=4,G8)))) | K8: =IF(I8=1,F8,IF(I8=2,G8,IF(I8=3,H8,IF(I8=4,H8)))) -> 0 | L8: 3 | M8: 2.1b | N8: Annen utdanning på videregående skolenivå | O8: 4 | P8: 2.1c | Q8: Merknader Nærmere om hvilken annen utdanning Forsøk å skrive mindre enn 100 ord | R8: ='Forside og oppsummering'!$E$23 -> 0 | S8: =IF(O8=1,P8,S7) -> 2. | T8: =IF(O8=1,Q8,T7) -> Kompetansetiltak (grunn-, videre- og etterutdanning) | U8: =IF(O8=1,"",IF(O8=2,P8,U7)) -> 2.1. | V8: =IF(O8=1,"",IF(O8=2,Q8,V7)) -> Videregående skole, fag- og yrkesopplæring innen helse (fagbrev) | W8: =P8 -> 2.1c | X8: =IF(O8<3,"",IF(O8=3,Q8,X7)) -> Annen utdanning på videregående skolenivå | Y8: =IF(O9=4,P9) -> FALSE | Z8: =O8=4 -> TRUE | AA8: =IF(Z8,5,O8) -> 5 | AE8: =$D$3 -> 0 | AF8: =$A$2 -> 1. | AG8: =$B$2 -> Informasjon om kommunen | AH8: 1.3. | AI8: Kontonummer | AJ8: =AH8 -> 1.3. | AK8: =AI8 -> Kontonummer | AL8: ="" | AM8: ="" | AN8: ="" | AO8: ="" | AP8: ="" | AQ8: ="" | AR8: ="" | AS8: ="" | ... AU8: ="" | AV8: =IF(D5=0,"",D5) | AW8: 4 | AX8: 0 | AY8: Informasjon om kommunen | AZ8: Kontonummer | BA8: 1.3. | BB8: Kontonummer | BK8: 4 | BO8: TRUE | BQ8: 0 | BR8: P1.1c | BS8: Estimert startdato for innovasjonsprosjektet | CA8: 0 | CB8: =BQ8>"" -> FALSE | CC8: =AND(BQ8=0,OR(BR8=0,BS8=0)) -> FALSE | CD8: =$CD$4 -> TRUE | CE8: =IF(CD8,FALSE,NOT(AND(CC8,CB9=FALSE))) -> FALSE | CF8: =IF(LEN(BQ8)=3,1,IF(CB9,5,IF(CB8,2,IF(BS8="Søknad",3,4)))) -> 4 | CG8: ='Forside og oppsummering'!$E$23 -> 0 | CH8: Prosjekt 1 | CI8: =IF(CF8=1,"",IF(CF8=2,BR8,CI7)) -> Overordnede prosjektdetaljer | CJ8: =IF(CF8<3,BQ8,IF(AND(BR8=0,CE8),_xlfn.CONCAT(LEFT(BR7,LEN(BR7)-1),CHAR(CODE(RIGHT(BR7,1))+1)),BR8)) -> P1.1c | CK8: =BS8 -> Estimert startdato for innovasjonsprosjektet | CL8: 0 | CM8: 0 | CN8: 0 | CO8: 0 | CP8: 0 | CQ8: 0 | CR8: 0 | CS8: 0 | CT8: =CF8 -> 4 | DI8: 0 | DJ8: Informasjon om kommunen | DK8: Kontonummer | DL8: 1.3. | DM8: Kontonummer | DV8: 4 | ET8: 20220125_1016 | EU8: Endret radhøyden på merknadsfelt under kompetansetilskudd og i feltene for prosjektbeskrivelse
A9: 0 | B9: 1.7. | C9: Merknad på utbetalingen | D9: 0 | E9: 0 | F9: 0 | G9: 0 | H9: Utdanningstype | I9: =IF(H9='Kompetansetilskudd og BPA'!$E$12,4,IF(E9=0,IF(F9=0,IF(G9=0,FALSE,3),2),1)) -> FALSE | J9: =IF(I9=1,E9,IF(I9=2,F9,IF(I9=3,G9,IF(I9=4,G9)))) -> FALSE | K9: =IF(I9=1,F9,IF(I9=2,G9,IF(I9=3,H9,IF(I9=4,H9)))) -> FALSE | L9: 4 | M9: 2.1c | N9: Merknader Nærmere om hvilken annen utdanning Forsøk å skrive mindre enn 100 ord | O9: 2 | P9: 2.2. | Q9: Fagskoleutdanning | R9: ='Forside og oppsummering'!$E$23 -> 0 | S9: =IF(O9=1,P9,S8) -> 2. | T9: =IF(O9=1,Q9,T8) -> Kompetansetiltak (grunn-, videre- og etterutdanning) | U9: =IF(O9=1,"",IF(O9=2,P9,U8)) -> 2.2. | V9: =IF(O9=1,"",IF(O9=2,Q9,V8)) -> Fagskoleutdanning | W9: =P9 -> 2.2. | X9: =IF(O9<3,"",IF(O9=3,Q9,X8)) | Y9: =IF(O10=4,P10) -> FALSE | Z9: =O9=4 -> FALSE | AA9: =IF(Z9,5,O9) -> 2 | AE9: =$D$3 -> 0 | AF9: =$A$2 -> 1. | AG9: =$B$2 -> Informasjon om kommunen | AH9: 1.4. | AI9: Kontaktperson Én person | AJ9: =AH9 -> 1.4. | AK9: =AI9 -> Kontaktperson Én person | AL9: ="" | AM9: ="" | AN9: ="" | AO9: ="" | AP9: ="" | AQ9: ="" | AR9: ="" | AS9: ="" | ... AU9: ="" | AV9: =IF(D6=0,"",D6) | AW9: 4 | AX9: 0 | AY9: Informasjon om kommunen | AZ9: Kontaktperson Én person | BA9: 1.4. | BB9: Kontaktperson Én person | BK9: 4 | BO9: TRUE | BQ9: 0 | BR9: P1.1d | BS9: Prioritering i forhold til andre innovasjonsprosjekter (Valgfritt) Dersom dere her søker om flere innovasjonsprosjekter og mener at det kan være ulikt hvor mye nytte de gir så kan dere bruke dette feltet til å opplyse om dette. Angi 1 for innovasjonsprosjektet dere anser at har størst nytte og 2 for innovasjonsprosjektet med nest høyest nytte osv. | CA9: 0 | CB9: =BQ9>"" -> FALSE | CC9: =AND(BQ9=0,OR(BR9=0,BS9=0)) -> FALSE | CD9: =$CD$4 -> TRUE | CE9: =IF(CD9,FALSE,NOT(AND(CC9,CB10=FALSE))) -> FALSE | CF9: =IF(LEN(BQ9)=3,1,IF(CB10,5,IF(CB9,2,IF(BS9="Søknad",3,4)))) -> 4 | CG9: ='Forside og oppsummering'!$E$23 -> 0 | CH9: Prosjekt 1 | CI9: =IF(CF9=1,"",IF(CF9=2,BR9,CI8)) -> Overordnede prosjektdetaljer | CJ9: =IF(CF9<3,BQ9,IF(AND(BR9=0,CE9),_xlfn.CONCAT(LEFT(BR8,LEN(BR8)-1),CHAR(CODE(RIGHT(BR8,1))+1)),BR9)) -> P1.1d | CK9: =BS9 -> Prioritering i forhold til andre innovasjonsprosjekter (Valgfritt) Dersom dere her søker om flere innovasjonsprosjekter og mener at det kan være ulikt hvor mye nytte de gir så kan dere bruke dette feltet til å opplyse om dette. Angi 1 for innovasjonsprosjektet dere anser at har størst nytte og 2 for innovasjonsprosjektet med nest høyest nytte osv. | CL9: 0 | CM9: 0 | CN9: 0 | CO9: 0 | CP9: 0 | CQ9: 0 | CR9: 0 | CS9: 0 | CT9: =CF9 -> 4 | DI9: 0 | DJ9: Informasjon om kommunen | DK9: Kontaktperson Én person | DL9: 1.4. | DM9: Kontaktperson Én person | DV9: 4 | ET9: 20220124_1553
A10: 0 | B10: 1.8. | C10: Har kommunen kompetanseplan? (Ja/Nei) Vedlegges søknaden | D10: 0 | E10: 0 | F10: 0 | G10: 2.1a | H10: Helsefagarbeider | I10: =IF(H10='Kompetansetilskudd og BPA'!$E$12,4,IF(E10=0,IF(F10=0,IF(G10=0,FALSE,3),2),1)) -> 3 | J10: =IF(I10=1,E10,IF(I10=2,F10,IF(I10=3,G10,IF(I10=4,G10)))) -> 2.1a | K10: =IF(I10=1,F10,IF(I10=2,G10,IF(I10=3,H10,IF(I10=4,H10)))) -> Helsefagarbeider | L10: 3 | N10: 0 | O10: 3 | P10: 2.2a | Q10: Psykisk helsearbeid og rusarbeid | R10: ='Forside og oppsummering'!$E$23 -> 0 | S10: =IF(O10=1,P10,S9) -> 2. | T10: =IF(O10=1,Q10,T9) -> Kompetansetiltak (grunn-, videre- og etterutdanning) | U10: =IF(O10=1,"",IF(O10=2,P10,U9)) -> 2.2. | V10: =IF(O10=1,"",IF(O10=2,Q10,V9)) -> Fagskoleutdanning | W10: =P10 -> 2.2a | X10: =IF(O10<3,"",IF(O10=3,Q10,X9)) -> Psykisk helsearbeid og rusarbeid | Y10: =IF(O11=4,P11) -> FALSE | Z10: =O10=4 -> FALSE | AA10: =IF(Z10,5,O10) -> 3 | AE10: =$D$3 -> 0 | AF10: =$A$2 -> 1. | AG10: =$B$2 -> Informasjon om kommunen | AH10: 1.5. | AI10: E-post Til kontaktperson | AJ10: =AH10 -> 1.5. | AK10: =AI10 -> E-post Til kontaktperson | AL10: ="" | AM10: ="" | AN10: ="" | AO10: ="" | AP10: ="" | AQ10: ="" | AR10: ="" | AS10: ="" | ... AU10: ="" | AV10: =IF(D7=0,"",D7) | AW10: 4 | AX10: 0 | AY10: Informasjon om kommunen | AZ10: E-post Til kontaktperson | BA10: 1.5. | BB10: E-post Til kontaktperson | BK10: 4 | BO10: TRUE | BQ10: 0 | BR10: P1.1e | BS10: Status for innovasjonsprosjektet - Besvares dersom dette er videreføring av et eksisterende innovasjonsprosjekt - Beskriv kort hva som er status for innovasjonsprosjektet og hvordan prosjektet ligger an i forhold til den opprinnelige fremdriftsplanen | CA10: 0 | CB10: =BQ10>"" -> FALSE | CC10: =AND(BQ10=0,OR(BR10=0,BS10=0)) -> FALSE | CD10: =$CD$4 -> TRUE | CE10: =IF(CD10,FALSE,NOT(AND(CC10,CB11=FALSE))) -> FALSE | CF10: =IF(LEN(BQ10)=3,1,IF(CB11,5,IF(CB10,2,IF(BS10="Søknad",3,4)))) -> 4 | CG10: ='Forside og oppsummering'!$E$23 -> 0 | CH10: Prosjekt 1 | CI10: =IF(CF10=1,"",IF(CF10=2,BR10,CI9)) -> Overordnede prosjektdetaljer | CJ10: =IF(CF10<3,BQ10,IF(AND(BR10=0,CE10),_xlfn.CONCAT(LEFT(BR9,LEN(BR9)-1),CHAR(CODE(RIGHT(BR9,1))+1)),BR10)) -> P1.1e | CK10: =BS10 -> Status for innovasjonsprosjektet - Besvares dersom dette er videreføring av et eksisterende innovasjonsprosjekt - Beskriv kort hva som er status for innovasjonsprosjektet og hvordan prosjektet ligger an i forhold til den opprinnelige fremdriftsplanen | CL10: 0 | CM10: 0 | CN10: 0 | CO10: 0 | CP10: 0 | CQ10: 0 | CR10: 0 | CS10: 0 | CT10: =CF10 -> 4 | DI10: 0 | DJ10: Informasjon om kommunen | DK10: E-post Til kontaktperson | DL10: 1.5. | DM10: E-post Til kontaktperson | DV10: 4
E11: 0 | F11: 0 | G11: 2.1b | H11: Annen utdanning på videregående skolenivå | I11: =IF(H11='Kompetansetilskudd og BPA'!$E$12,4,IF(E11=0,IF(F11=0,IF(G11=0,FALSE,3),2),1)) -> 3 | J11: =IF(I11=1,E11,IF(I11=2,F11,IF(I11=3,G11,IF(I11=4,G11)))) -> 2.1b | K11: =IF(I11=1,F11,IF(I11=2,G11,IF(I11=3,H11,IF(I11=4,H11)))) -> Annen utdanning på videregående skolenivå | L11: 2 | M11: 2.2. | N11: Fagskoleutdanning | O11: 3 | P11: 2.2b | Q11: Eldreomsorg/demens | R11: ='Forside og oppsummering'!$E$23 -> 0 | S11: =IF(O11=1,P11,S10) -> 2. | T11: =IF(O11=1,Q11,T10) -> Kompetansetiltak (grunn-, videre- og etterutdanning) | U11: =IF(O11=1,"",IF(O11=2,P11,U10)) -> 2.2. | V11: =IF(O11=1,"",IF(O11=2,Q11,V10)) -> Fagskoleutdanning | W11: =P11 -> 2.2b | X11: =IF(O11<3,"",IF(O11=3,Q11,X10)) -> Eldreomsorg/demens | Y11: =IF(O12=4,P12) -> FALSE | Z11: =O11=4 -> FALSE | AA11: =IF(Z11,5,O11) -> 3 | AE11: =$D$3 -> 0 | AF11: =$A$2 -> 1. | AG11: =$B$2 -> Informasjon om kommunen | AH11: 1.6. | AI11: Telefon Til kontaktperson | AJ11: =AH11 -> 1.6. | AK11: =AI11 -> Telefon Til kontaktperson | AL11: ="" | AM11: ="" | AN11: ="" | AO11: ="" | AP11: ="" | AQ11: ="" | AR11: ="" | AS11: ="" | ... AU11: ="" | AV11: =IF(D8=0,"",D8) | AW11: 4 | AX11: 0 | AY11: Informasjon om kommunen | AZ11: Telefon Til kontaktperson | BA11: 1.6. | BB11: Telefon Til kontaktperson | BK11: 4 | BO11: TRUE | BQ11: 0 | BR11: 0 | BS11: 0 | CA11: 0 | CB11: =BQ11>"" -> FALSE | CC11: =AND(BQ11=0,OR(BR11=0,BS11=0)) -> TRUE | CD11: =$CD$4 -> TRUE | CE11: =IF(CD11,FALSE,NOT(AND(CC11,CB12=FALSE))) -> FALSE | CF11: =IF(LEN(BQ11)=3,1,IF(CB12,5,IF(CB11,2,IF(BS11="Søknad",3,4)))) -> 5 | CG11: ='Forside og oppsummering'!$E$23 -> 0 | CH11: Prosjekt 1 | CI11: =IF(CF11=1,"",IF(CF11=2,BR11,CI10)) -> Overordnede prosjektdetaljer | CJ11: =IF(CF11<3,BQ11,IF(AND(BR11=0,CE11),_xlfn.CONCAT(LEFT(BR10,LEN(BR10)-1),CHAR(CODE(RIGHT(BR10,1))+1)),BR11)) -> 0 | CK11: =BS11 -> 0 | CL11: 0 | CM11: 0 | CN11: 0 | CO11: 0 | CP11: 0 | CQ11: 0 | CR11: 0 | CS11: 0 | CT11: =CF11 -> 5 | DI11: 0 | DJ11: Informasjon om kommunen | DK11: Telefon Til kontaktperson | DL11: 1.6. | DM11: Telefon Til kontaktperson | DV11: 4
E12: 0 | F12: 0 | G12: 0 | H12: 2.1. SUM: | I12: =IF(H12='Kompetansetilskudd og BPA'!$E$12,4,IF(E12=0,IF(F12=0,IF(G12=0,FALSE,3),2),1)) -> FALSE | J12: =IF(I12=1,E12,IF(I12=2,F12,IF(I12=3,G12,IF(I12=4,G12)))) -> FALSE | K12: =IF(I12=1,F12,IF(I12=2,G12,IF(I12=3,H12,IF(I12=4,H12)))) -> FALSE | L12: 3 | N12: 0 | O12: 3 | P12: 2.2c | Q12: Habilitering/rehabilitering | R12: ='Forside og oppsummering'!$E$23 -> 0 | S12: =IF(O12=1,P12,S11) -> 2. | T12: =IF(O12=1,Q12,T11) -> Kompetansetiltak (grunn-, videre- og etterutdanning) | U12: =IF(O12=1,"",IF(O12=2,P12,U11)) -> 2.2. | V12: =IF(O12=1,"",IF(O12=2,Q12,V11)) -> Fagskoleutdanning | W12: =P12 -> 2.2c | X12: =IF(O12<3,"",IF(O12=3,Q12,X11)) -> Habilitering/rehabilitering | Y12: =IF(O13=4,P13) -> FALSE | Z12: =O12=4 -> FALSE | AA12: =IF(Z12,5,O12) -> 3 | AE12: =$D$3 -> 0 | AF12: =$A$2 -> 1. | AG12: =$B$2 -> Informasjon om kommunen | AH12: 1.7. | AI12: Merknad på utbetalingen | AJ12: =AH12 -> 1.7. | AK12: =AI12 -> Merknad på utbetalingen | AL12: ="" | AM12: ="" | AN12: ="" | AO12: ="" | AP12: ="" | AQ12: ="" | AR12: ="" | AS12: ="" | ... AU12: ="" | AV12: =IF(D9=0,"",D9) | AW12: 4 | AX12: 0 | AY12: Informasjon om kommunen | AZ12: Merknad på utbetalingen | BA12: 1.7. | BB12: Merknad på utbetalingen | BK12: 4 | BO12: TRUE | BQ12: P1.2 | BR12: Tema for innovasjonsprosjekt 1 | BS12: 0 | CA12: 0 | CB12: =BQ12>"" -> TRUE | CC12: =AND(BQ12=0,OR(BR12=0,BS12=0)) -> FALSE | CD12: =$CD$4 -> TRUE | CE12: =IF(CD12,FALSE,NOT(AND(CC12,CB13=FALSE))) -> FALSE | CF12: =IF(LEN(BQ12)=3,1,IF(CB13,5,IF(CB12,2,IF(BS12="Søknad",3,4)))) -> 2 | CG12: ='Forside og oppsummering'!$E$23 -> 0 | CH12: Prosjekt 1 | CI12: =IF(CF12=1,"",IF(CF12=2,BR12,CI11)) -> Tema for innovasjonsprosjekt 1 | CJ12: =IF(CF12<3,BQ12,IF(AND(BR12=0,CE12),_xlfn.CONCAT(LEFT(BR11,LEN(BR11)-1),CHAR(CODE(RIGHT(BR11,1))+1)),BR12)) -> P1.2 | CK12: =BS12 -> 0 | CL12: 0 | CM12: 0 | CN12: 0 | CO12: 0 | CP12: 0 | CQ12: 0 | CR12: 0 | CS12: 0 | CT12: =CF12 -> 2 | DI12: 0 | DJ12: Informasjon om kommunen | DK12: Merknad på utbetalingen | DL12: 1.7. | DM12: Merknad på utbetalingen | DV12: 4
E13: 0 | F13: 0 | G13: 0 | H13: 0 | I13: =IF(H13='Kompetansetilskudd og BPA'!$E$12,4,IF(E13=0,IF(F13=0,IF(G13=0,FALSE,3),2),1)) -> FALSE | J13: =IF(I13=1,E13,IF(I13=2,F13,IF(I13=3,G13,IF(I13=4,G13)))) -> FALSE | K13: =IF(I13=1,F13,IF(I13=2,G13,IF(I13=3,H13,IF(I13=4,H13)))) -> FALSE | L13: 3 | M13: 2.2a | N13: Psykisk helsearbeid og rusarbeid | O13: 3 | P13: 2.2d | Q13: Kreftomsorg/lindrende behandling | R13: ='Forside og oppsummering'!$E$23 -> 0 | S13: =IF(O13=1,P13,S12) -> 2. | T13: =IF(O13=1,Q13,T12) -> Kompetansetiltak (grunn-, videre- og etterutdanning) | U13: =IF(O13=1,"",IF(O13=2,P13,U12)) -> 2.2. | V13: =IF(O13=1,"",IF(O13=2,Q13,V12)) -> Fagskoleutdanning | W13: =P13 -> 2.2d | X13: =IF(O13<3,"",IF(O13=3,Q13,X12)) -> Kreftomsorg/lindrende behandling | Y13: =IF(O14=4,P14) -> FALSE | Z13: =O13=4 -> FALSE | AA13: =IF(Z13,5,O13) -> 3 | AE13: =$D$3 -> 0 | AF13: =$A$2 -> 1. | AG13: =$B$2 -> Informasjon om kommunen | AH13: 1.8. | AI13: Har kommunen kompetanseplan? (Ja/Nei) Vedlegges søknaden | AJ13: =AH13 -> 1.8. | AK13: =AI13 -> Har kommunen kompetanseplan? (Ja/Nei) Vedlegges søknaden | AL13: ="" | AM13: ="" | AN13: ="" | AO13: ="" | AP13: ="" | AQ13: ="" | AR13: ="" | AS13: ="" | ... AU13: ="" | AV13: =IF(D10=0,"",D10) | AW13: 4 | AX13: 0 | AY13: Informasjon om kommunen | AZ13: Har kommunen kompetanseplan? (Ja/Nei) Vedlegges søknaden | BA13: 1.8. | BB13: Har kommunen kompetanseplan? (Ja/Nei) Vedlegges søknaden | BK13: 4 | BO13: TRUE | BQ13: 0 | BR13: Marker de temaene som inngår i innovasjonsprosjektet med "Ja" | BS13: 0 | CA13: 0 | CB13: =BQ13>"" -> FALSE | CC13: =AND(BQ13=0,OR(BR13=0,BS13=0)) -> TRUE | CD13: =$CD$4 -> TRUE | CE13: =IF(CD13,FALSE,NOT(AND(CC13,CB14=FALSE))) -> FALSE | CF13: =IF(LEN(BQ13)=3,1,IF(CB14,5,IF(CB13,2,IF(BS13="Søknad",3,4)))) -> 4 | CG13: ='Forside og oppsummering'!$E$23 -> 0 | CH13: Prosjekt 1 | CI13: =IF(CF13=1,"",IF(CF13=2,BR13,CI12)) -> Tema for innovasjonsprosjekt 1 | CJ13: =IF(CF13<3,BQ13,IF(AND(BR13=0,CE13),_xlfn.CONCAT(LEFT(BR12,LEN(BR12)-1),CHAR(CODE(RIGHT(BR12,1))+1)),BR13)) -> Marker de temaene som inngår i innovasjonsprosjektet med "Ja" | CK13: =BS13 -> 0 | CL13: 0 | CM13: 0 | CN13: 0 | CO13: 0 | CP13: 0 | CQ13: 0 | CR13: 0 | CS13: 0 | CT13: =CF13 -> 4 | DI13: 0 | DJ13: Informasjon om kommunen | DK13: Har kommunen kompetanseplan? (Ja/Nei) Vedlegges søknaden | DL13: 1.8. | DM13: Har kommunen kompetanseplan? (Ja/Nei) Vedlegges søknaden | DV13: 4
E14: 0 | F14: 0 | G14: 2.1c | H14: Merknader Nærmere om hvilken annen utdanning Forsøk å skrive mindre enn 100 ord | I14: =IF(H14='Kompetansetilskudd og BPA'!$E$12,4,IF(E14=0,IF(F14=0,IF(G14=0,FALSE,3),2),1)) -> 4 | J14: =IF(I14=1,E14,IF(I14=2,F14,IF(I14=3,G14,IF(I14=4,G14)))) -> 2.1c | K14: =IF(I14=1,F14,IF(I14=2,G14,IF(I14=3,H14,IF(I14=4,H14)))) -> Merknader Nærmere om hvilken annen utdanning Forsøk å skrive mindre enn 100 ord | L14: 3 | M14: 2.2b | N14: Eldreomsorg/demens | O14: 3 | P14: 2.2e | Q14: Veiledning | R14: ='Forside og oppsummering'!$E$23 -> 0 | S14: =IF(O14=1,P14,S13) -> 2. | T14: =IF(O14=1,Q14,T13) -> Kompetansetiltak (grunn-, videre- og etterutdanning) | U14: =IF(O14=1,"",IF(O14=2,P14,U13)) -> 2.2. | V14: =IF(O14=1,"",IF(O14=2,Q14,V13)) -> Fagskoleutdanning | W14: =P14 -> 2.2e | X14: =IF(O14<3,"",IF(O14=3,Q14,X13)) -> Veiledning | Y14: =IF(O15=4,P15) -> FALSE | Z14: =O14=4 -> FALSE | AA14: =IF(Z14,5,O14) -> 3 | AE14: =$D$3 -> 0 | AF14: =$A$2 -> 1. | AG14: =$B$2 -> Informasjon om kommunen | AH14: 1.9. | AJ14: =AH14 -> 1.9. | AK14: =AI14 -> 0 | AL14: ="" | AM14: ="" | AN14: ="" | AO14: ="" | AP14: ="" | AQ14: ="" | AR14: ="" | AS14: ="" | ... AU14: ="" | AV14: =IF(D11=0,"",D11) | AW14: 5 | AX14: 0 | AY14: Informasjon om kommunen | AZ14: 0 | BA14: 1.9. | BB14: 0 | BK14: 5 | BO14: TRUE | BQ14: 0 | BR14: P1.2a | BS14: Forebygging tidlig innsats og egenmestring | CA14: 0 | CB14: =BQ14>"" -> FALSE | CC14: =AND(BQ14=0,OR(BR14=0,BS14=0)) -> FALSE | CD14: =$CD$4 -> TRUE | CE14: =IF(CD14,FALSE,NOT(AND(CC14,CB15=FALSE))) -> FALSE | CF14: =IF(LEN(BQ14)=3,1,IF(CB15,5,IF(CB14,2,IF(BS14="Søknad",3,4)))) -> 4 | CG14: ='Forside og oppsummering'!$E$23 -> 0 | CH14: Prosjekt 1 | CI14: =IF(CF14=1,"",IF(CF14=2,BR14,CI13)) -> Tema for innovasjonsprosjekt 1 | CJ14: =IF(CF14<3,BQ14,IF(AND(BR14=0,CE14),_xlfn.CONCAT(LEFT(BR13,LEN(BR13)-1),CHAR(CODE(RIGHT(BR13,1))+1)),BR14)) -> P1.2a | CK14: =BS14 -> Forebygging tidlig innsats og egenmestring | CL14: 0 | CM14: 0 | CN14: 0 | CO14: 0 | CP14: 0 | CQ14: 0 | CR14: 0 | CS14: 0 | CT14: =CF14 -> 4 | DI14: 0 | DJ14: Informasjon om kommunen | DK14: 0 | DL14: 1.9. | DM14: 0 | DV14: 5
E15: 0 | F15: 0 | H15: 0 | I15: =IF(H15='Kompetansetilskudd og BPA'!$E$12,4,IF(E15=0,IF(F15=0,IF(G15=0,FALSE,3),2),1)) -> 3 | J15: =IF(I15=1,E15,IF(I15=2,F15,IF(I15=3,G15,IF(I15=4,G15)))) | K15: =IF(I15=1,F15,IF(I15=2,G15,IF(I15=3,H15,IF(I15=4,H15)))) -> 0 | L15: 3 | M15: 2.2c | N15: Habilitering/rehabilitering | O15: 3 | P15: 2.2f | Q15: Annen fagskoleutdanning | R15: ='Forside og oppsummering'!$E$23 -> 0 | S15: =IF(O15=1,P15,S14) -> 2. | T15: =IF(O15=1,Q15,T14) -> Kompetansetiltak (grunn-, videre- og etterutdanning) | U15: =IF(O15=1,"",IF(O15=2,P15,U14)) -> 2.2. | V15: =IF(O15=1,"",IF(O15=2,Q15,V14)) -> Fagskoleutdanning | W15: =P15 -> 2.2f | X15: =IF(O15<3,"",IF(O15=3,Q15,X14)) -> Annen fagskoleutdanning | Y15: =IF(O16=4,P16) -> 2.2g | Z15: =O15=4 -> FALSE | AA15: =IF(Z15,5,O15) -> 3 | AE15: =$D$3 -> 0 | AF15: =$A$2 -> 1. | AG15: =$B$2 -> Informasjon om kommunen | AJ15: =AH15 -> 0 | AK15: =AI15 -> 0 | AL15: ="" | AM15: ="" | AN15: ="" | AO15: ="" | AP15: ="" | AQ15: ="" | AR15: ="" | AS15: ="" | ... AU15: ="" | AV15: =IF(D12=0,"",D12) | AX15: 0 | AY15: Informasjon om kommunen | AZ15: 0 | BA15: 0 | BB15: 0 | BK15: 0 | BQ15: 0 | BR15: P1.2b | BS15: Fritidsaktivitet med assistanse | CA15: 0 | CB15: =BQ15>"" -> FALSE | CC15: =AND(BQ15=0,OR(BR15=0,BS15=0)) -> FALSE | CD15: =$CD$4 -> TRUE | CE15: =IF(CD15,FALSE,NOT(AND(CC15,CB16=FALSE))) -> FALSE | CF15: =IF(LEN(BQ15)=3,1,IF(CB16,5,IF(CB15,2,IF(BS15="Søknad",3,4)))) -> 4 | CG15: ='Forside og oppsummering'!$E$23 -> 0 | CH15: Prosjekt 1 | CI15: =IF(CF15=1,"",IF(CF15=2,BR15,CI14)) -> Tema for innovasjonsprosjekt 1 | CJ15: =IF(CF15<3,BQ15,IF(AND(BR15=0,CE15),_xlfn.CONCAT(LEFT(BR14,LEN(BR14)-1),CHAR(CODE(RIGHT(BR14,1))+1)),BR15)) -> P1.2b | CK15: =BS15 -> Fritidsaktivitet med assistanse | CL15: 0 | CM15: 0 | CN15: 0 | CO15: 0 | CP15: 0 | CQ15: 0 | CR15: 0 | CS15: 0 | CT15: =CF15 -> 4
E16: 0 | F16: 2.2. | G16: Fagskoleutdanning | H16: 0 | I16: =IF(H16='Kompetansetilskudd og BPA'!$E$12,4,IF(E16=0,IF(F16=0,IF(G16=0,FALSE,3),2),1)) -> 2 | J16: =IF(I16=1,E16,IF(I16=2,F16,IF(I16=3,G16,IF(I16=4,G16)))) -> 2.2. | K16: =IF(I16=1,F16,IF(I16=2,G16,IF(I16=3,H16,IF(I16=4,H16)))) -> Fagskoleutdanning | L16: 3 | M16: 2.2d | N16: Kreftomsorg/lindrende behandling | O16: 4 | P16: 2.2g | Q16: Merknader Nærmere om hvilken annen utdanning Forsøk å skrive mindre enn 100 ord | R16: ='Forside og oppsummering'!$E$23 -> 0 | S16: =IF(O16=1,P16,S15) -> 2. | T16: =IF(O16=1,Q16,T15) -> Kompetansetiltak (grunn-, videre- og etterutdanning) | U16: =IF(O16=1,"",IF(O16=2,P16,U15)) -> 2.2. | V16: =IF(O16=1,"",IF(O16=2,Q16,V15)) -> Fagskoleutdanning | W16: =P16 -> 2.2g | X16: =IF(O16<3,"",IF(O16=3,Q16,X15)) -> Annen fagskoleutdanning | Y16: =IF(O17=4,P17) -> FALSE | Z16: =O16=4 -> TRUE | AA16: =IF(Z16,5,O16) -> 5 | BQ16: 0 | BR16: P1.2c | BS16: Kulturopplevelser | CA16: 0 | CB16: =BQ16>"" -> FALSE | CC16: =AND(BQ16=0,OR(BR16=0,BS16=0)) -> FALSE | CD16: =$CD$4 -> TRUE | CE16: =IF(CD16,FALSE,NOT(AND(CC16,CB17=FALSE))) -> FALSE | CF16: =IF(LEN(BQ16)=3,1,IF(CB17,5,IF(CB16,2,IF(BS16="Søknad",3,4)))) -> 4 | CG16: ='Forside og oppsummering'!$E$23 -> 0 | CH16: Prosjekt 1 | CI16: =IF(CF16=1,"",IF(CF16=2,BR16,CI15)) -> Tema for innovasjonsprosjekt 1 | CJ16: =IF(CF16<3,BQ16,IF(AND(BR16=0,CE16),_xlfn.CONCAT(LEFT(BR15,LEN(BR15)-1),CHAR(CODE(RIGHT(BR15,1))+1)),BR16)) -> P1.2c | CK16: =BS16 -> Kulturopplevelser | CL16: 0 | CM16: 0 | CN16: 0 | CO16: 0 | CP16: 0 | CQ16: 0 | CR16: 0 | CS16: 0 | CT16: =CF16 -> 4
E17: 0 | F17: 0 | G17: 0 | H17: 0 | I17: =IF(H17='Kompetansetilskudd og BPA'!$E$12,4,IF(E17=0,IF(F17=0,IF(G17=0,FALSE,3),2),1)) -> FALSE | J17: =IF(I17=1,E17,IF(I17=2,F17,IF(I17=3,G17,IF(I17=4,G17)))) -> FALSE | K17: =IF(I17=1,F17,IF(I17=2,G17,IF(I17=3,H17,IF(I17=4,H17)))) -> FALSE | L17: 3 | M17: 2.2e | N17: Veiledning | O17: 2 | P17: 2.3. | Q17: Bachelorutdanning helse- og sosialfag | R17: ='Forside og oppsummering'!$E$23 -> 0 | S17: =IF(O17=1,P17,S16) -> 2. | T17: =IF(O17=1,Q17,T16) -> Kompetansetiltak (grunn-, videre- og etterutdanning) | U17: =IF(O17=1,"",IF(O17=2,P17,U16)) -> 2.3. | V17: =IF(O17=1,"",IF(O17=2,Q17,V16)) -> Bachelorutdanning helse- og sosialfag | W17: =P17 -> 2.3. | X17: =IF(O17<3,"",IF(O17=3,Q17,X16)) | Y17: =IF(O18=4,P18) -> FALSE | Z17: =O17=4 -> FALSE | AA17: =IF(Z17,5,O17) -> 2 | BQ17: 0 | BR17: P1.2d | BS17: Ernæring | CA17: 0 | CB17: =BQ17>"" -> FALSE | CC17: =AND(BQ17=0,OR(BR17=0,BS17=0)) -> FALSE | CD17: =$CD$4 -> TRUE | CE17: =IF(CD17,FALSE,NOT(AND(CC17,CB18=FALSE))) -> FALSE | CF17: =IF(LEN(BQ17)=3,1,IF(CB18,5,IF(CB17,2,IF(BS17="Søknad",3,4)))) -> 4 | CG17: ='Forside og oppsummering'!$E$23 -> 0 | CH17: Prosjekt 1 | CI17: =IF(CF17=1,"",IF(CF17=2,BR17,CI16)) -> Tema for innovasjonsprosjekt 1 | CJ17: =IF(CF17<3,BQ17,IF(AND(BR17=0,CE17),_xlfn.CONCAT(LEFT(BR16,LEN(BR16)-1),CHAR(CODE(RIGHT(BR16,1))+1)),BR17)) -> P1.2d | CK17: =BS17 -> Ernæring | CL17: 0 | CM17: 0 | CN17: 0 | CO17: 0 | CP17: 0 | CQ17: 0 | CR17: 0 | CS17: 0 | CT17: =CF17 -> 4
E18: 0 | F18: 0 | G18: 0 | H18: 0 | I18: =IF(H18='Kompetansetilskudd og BPA'!$E$12,4,IF(E18=0,IF(F18=0,IF(G18=0,FALSE,3),2),1)) -> FALSE | J18: =IF(I18=1,E18,IF(I18=2,F18,IF(I18=3,G18,IF(I18=4,G18)))) -> FALSE | K18: =IF(I18=1,F18,IF(I18=2,G18,IF(I18=3,H18,IF(I18=4,H18)))) -> FALSE | L18: 3 | M18: 2.2f | N18: Annen fagskoleutdanning | O18: 3 | P18: 2.3a | Q18: Sykepleie | R18: ='Forside og oppsummering'!$E$23 -> 0 | S18: =IF(O18=1,P18,S17) -> 2. | T18: =IF(O18=1,Q18,T17) -> Kompetansetiltak (grunn-, videre- og etterutdanning) | U18: =IF(O18=1,"",IF(O18=2,P18,U17)) -> 2.3. | V18: =IF(O18=1,"",IF(O18=2,Q18,V17)) -> Bachelorutdanning helse- og sosialfag | W18: =P18 -> 2.3a | X18: =IF(O18<3,"",IF(O18=3,Q18,X17)) -> Sykepleie | Y18: =IF(O19=4,P19) -> FALSE | Z18: =O18=4 -> FALSE | AA18: =IF(Z18,5,O18) -> 3 | BQ18: 0 | BR18: P1.2e | BS18: Legemiddelhåndtering | CA18: 0 | CB18: =BQ18>"" -> FALSE | CC18: =AND(BQ18=0,OR(BR18=0,BS18=0)) -> FALSE | CD18: =$CD$4 -> TRUE | CE18: =IF(CD18,FALSE,NOT(AND(CC18,CB19=FALSE))) -> FALSE | CF18: =IF(LEN(BQ18)=3,1,IF(CB19,5,IF(CB18,2,IF(BS18="Søknad",3,4)))) -> 4 | CG18: ='Forside og oppsummering'!$E$23 -> 0 | CH18: Prosjekt 1 | CI18: =IF(CF18=1,"",IF(CF18=2,BR18,CI17)) -> Tema for innovasjonsprosjekt 1 | CJ18: =IF(CF18<3,BQ18,IF(AND(BR18=0,CE18),_xlfn.CONCAT(LEFT(BR17,LEN(BR17)-1),CHAR(CODE(RIGHT(BR17,1))+1)),BR18)) -> P1.2e | CK18: =BS18 -> Legemiddelhåndtering | CL18: 0 | CM18: 0 | CN18: 0 | CO18: 0 | CP18: 0 | CQ18: 0 | CR18: 0 | CS18: 0 | CT18: =CF18 -> 4
E19: 0 | F19: 0 | H19: 0 | I19: =IF(H19='Kompetansetilskudd og BPA'!$E$12,4,IF(E19=0,IF(F19=0,IF(G19=0,FALSE,3),2),1)) -> 3 | J19: =IF(I19=1,E19,IF(I19=2,F19,IF(I19=3,G19,IF(I19=4,G19)))) | K19: =IF(I19=1,F19,IF(I19=2,G19,IF(I19=3,H19,IF(I19=4,H19)))) -> 0 | L19: 4 | M19: 2.2g | N19: Merknader Nærmere om hvilken annen utdanning Forsøk å skrive mindre enn 100 ord | O19: 3 | P19: 2.3b | Q19: Desentralisert sykepleie | R19: ='Forside og oppsummering'!$E$23 -> 0 | S19: =IF(O19=1,P19,S18) -> 2. | T19: =IF(O19=1,Q19,T18) -> Kompetansetiltak (grunn-, videre- og etterutdanning) | U19: =IF(O19=1,"",IF(O19=2,P19,U18)) -> 2.3. | V19: =IF(O19=1,"",IF(O19=2,Q19,V18)) -> Bachelorutdanning helse- og sosialfag | W19: =P19 -> 2.3b | X19: =IF(O19<3,"",IF(O19=3,Q19,X18)) -> Desentralisert sykepleie | Y19: =IF(O20=4,P20) -> FALSE | Z19: =O19=4 -> FALSE | AA19: =IF(Z19,5,O19) -> 3 | AC19: ROW nivå3 | AD19: ROW merknad | BO19: KEEP ROW | BQ19: 0 | BR19: P1.2f | BS19: Rehabilitering og Habilitering | CA19: 0 | CB19: =BQ19>"" -> FALSE | CC19: =AND(BQ19=0,OR(BR19=0,BS19=0)) -> FALSE | CD19: =$CD$4 -> TRUE | CE19: =IF(CD19,FALSE,NOT(AND(CC19,CB20=FALSE))) -> FALSE | CF19: =IF(LEN(BQ19)=3,1,IF(CB20,5,IF(CB19,2,IF(BS19="Søknad",3,4)))) -> 4 | CG19: ='Forside og oppsummering'!$E$23 -> 0 | CH19: Prosjekt 1 | CI19: =IF(CF19=1,"",IF(CF19=2,BR19,CI18)) -> Tema for innovasjonsprosjekt 1 | CJ19: =IF(CF19<3,BQ19,IF(AND(BR19=0,CE19),_xlfn.CONCAT(LEFT(BR18,LEN(BR18)-1),CHAR(CODE(RIGHT(BR18,1))+1)),BR19)) -> P1.2f | CK19: =BS19 -> Rehabilitering og Habilitering | CL19: 0 | CM19: 0 | CN19: 0 | CO19: 0 | CP19: 0 | CQ19: 0 | CR19: 0 | CS19: 0 | CT19: =CF19 -> 4
E20: 0 | F20: 0 | G20: 0 | H20: Utdanningstype | I20: =IF(H20='Kompetansetilskudd og BPA'!$E$12,4,IF(E20=0,IF(F20=0,IF(G20=0,FALSE,3),2),1)) -> FALSE | J20: =IF(I20=1,E20,IF(I20=2,F20,IF(I20=3,G20,IF(I20=4,G20)))) -> FALSE | K20: =IF(I20=1,F20,IF(I20=2,G20,IF(I20=3,H20,IF(I20=4,H20)))) -> FALSE | L20: 2 | M20: 2.3. | N20: Bachelorutdanning helse- og sosialfag | O20: 3 | P20: 2.3c | Q20: Vernepleie | R20: ='Forside og oppsummering'!$E$23 -> 0 | S20: =IF(O20=1,P20,S19) -> 2. | T20: =IF(O20=1,Q20,T19) -> Kompetansetiltak (grunn-, videre- og etterutdanning) | U20: =IF(O20=1,"",IF(O20=2,P20,U19)) -> 2.3. | V20: =IF(O20=1,"",IF(O20=2,Q20,V19)) -> Bachelorutdanning helse- og sosialfag | W20: =P20 -> 2.3c | X20: =IF(O20<3,"",IF(O20=3,Q20,X19)) -> Vernepleie | Y20: =IF(O21=4,P21) -> FALSE | Z20: =O20=4 -> FALSE | AA20: =IF(Z20,5,O20) -> 3 | AC20: =IF(AJ20="",FALSE,MATCH(AJ20,$J$3:$J$152,0)) -> 2 | AD20: =IF(AL20=FALSE,"",MATCH(AL20,$J$3:$J$152,0)) | AE20: {=R4:Y59} -> 0 | AF20: 2. | AG20: Kompetansetiltak (grunn-, videre- og etterutdanning) | AJ20: 2. | AL20: FALSE | AM20: {=IF(AND(NOT($AC20=FALSE),NOT(AM$2=FALSE)),INDEX('Kompetansetilskudd og BPA'!$A$1:$R$148,$AC20,AM$2),"")} -> 0 | AN20: {=IF(AND(NOT($AC20=FALSE),NOT(AN$2=FALSE)),INDEX('Kompetansetilskudd og BPA'!$A$1:$R$148,$AC20,IF($AF20="3.",AN$4,AN$2)),"")} -> 0 | AO20: {=IF(AND(NOT($AC20=FALSE),NOT(AO$2=FALSE)),INDEX('Kompetansetilskudd og BPA'!$A$1:$R$148,$AC20,IF($AF20="3.",AO$4,AO$2)),"")} | AP20: {=IF(AND(NOT($AC20=FALSE),NOT(AP$2=FALSE)),INDEX('Kompetansetilskudd og BPA'!$A$1:$R$148,$AC20,IF($AF20="3.",AP$4,AP$2)),"")} -> 0 | AQ20: {=IF(AND(NOT($AC20=FALSE),NOT(AQ$2=FALSE)),INDEX('Kompetansetilskudd og BPA'!$A$1:$R$148,$AC20,IF($AF20="3.",AQ$4,AQ$2)),"")} -> 0 | AR20: {=IF(AND(NOT($AC20=FALSE),NOT(AR$2=FALSE)),INDEX('Kompetansetilskudd og BPA'!$A$1:$R$148,$AC20,IF($AF20="3.",AR$4,AR$2)),"")} -> 0 | AS20: {=IF(AND(NOT($AC20=FALSE),NOT(AS$2=FALSE)),INDEX('Kompetansetilskudd og BPA'!$A$1:$R$148,$AC20,IF($AF20="3.",AS$4,AS$2)),"")} | AT20: {=IF(AND(NOT($AC20=FALSE),NOT(AT$2=FALSE)),INDEX('Kompetansetilskudd og BPA'!$A$1:$R$148,$AC20,IF($AF20="3.",AT$4,AT$2)),"")} -> 0 | AU20: {=IF(AND(NOT($AC20=FALSE),NOT(AU$2=FALSE)),INDEX('Kompetansetilskudd og BPA'!$A$1:$R$148,$AC20,IF($AF20="3.",AU$4,AU$2)),"")} -> 0 | AV20: {=IF(AND(NOT(AV$2=FALSE),NOT(AD20="")),INDEX('Kompetansetilskudd og BPA'!$A$1:$R$148,$AD20,AV$2),"")} | AW20: {=AA4:AA59} -> 1 | AX20: {=_xlfn._xlws.FILTER(AE20:AW75,AE2:AW2<>FALSE)} -> 0 | AY20: Kompetansetiltak (grunn-, videre- og etterutdanning) | BA20: 2. | BC20: 0 | BD20: 0 | BE20: 0 | BF20: 0 | BG20: 0 | BH20: 0 | BI20: 0 | BK20: 1 | BO20: =BA20<>0 -> TRUE | BQ20: 0 | BR20: P1.2g | BS20: Samspill med pårørende og frivillige i omsorgssektoren generelt og demensomsorgen spesielt | CA20: 0 | CB20: =BQ20>"" -> FALSE | CC20: =AND(BQ20=0,OR(BR20=0,BS20=0)) -> FALSE | CD20: =$CD$4 -> TRUE | CE20: =IF(CD20,FALSE,NOT(AND(CC20,CB21=FALSE))) -> FALSE | CF20: =IF(LEN(BQ20)=3,1,IF(CB21,5,IF(CB20,2,IF(BS20="Søknad",3,4)))) -> 4 | CG20: ='Forside og oppsummering'!$E$23 -> 0 | CH20: Prosjekt 1 | CI20: =IF(CF20=1,"",IF(CF20=2,BR20,CI19)) -> Tema for innovasjonsprosjekt 1 | CJ20: =IF(CF20<3,BQ20,IF(AND(BR20=0,CE20),_xlfn.CONCAT(LEFT(BR19,LEN(BR19)-1),CHAR(CODE(RIGHT(BR19,1))+1)),BR20)) -> P1.2g | CK20: =BS20 -> Samspill med pårørende og frivillige i omsorgssektoren generelt og demensomsorgen spesielt | CL20: 0 | CM20: 0 | CN20: 0 | CO20: 0 | CP20: 0 | CQ20: 0 | CR20: 0 | CS20: 0 | CT20: =CF20 -> 4 | DI20: {=_xlfn._xlws.FILTER(AX20:BK75,BO20:BO75)} -> 0 | DJ20: Kompetansetiltak (grunn-, videre- og etterutdanning) | DL20: 2. | DN20: 0 | DO20: 0 | DP20: 0 | DQ20: 0 | DR20: 0 | DS20: 0 | DT20: 0 | DV20: 1
E21: 0 | F21: 0 | G21: 2.2a | H21: Psykisk helsearbeid og rusarbeid | I21: =IF(H21='Kompetansetilskudd og BPA'!$E$12,4,IF(E21=0,IF(F21=0,IF(G21=0,FALSE,3),2),1)) -> 3 | J21: =IF(I21=1,E21,IF(I21=2,F21,IF(I21=3,G21,IF(I21=4,G21)))) -> 2.2a | K21: =IF(I21=1,F21,IF(I21=2,G21,IF(I21=3,H21,IF(I21=4,H21)))) -> Psykisk helsearbeid og rusarbeid | L21: 3 | N21: 0 | O21: 3 | P21: 2.3d | Q21: Desentralisert vernepleie | R21: ='Forside og oppsummering'!$E$23 -> 0 | S21: =IF(O21=1,P21,S20) -> 2. | T21: =IF(O21=1,Q21,T20) -> Kompetansetiltak (grunn-, videre- og etterutdanning) | U21: =IF(O21=1,"",IF(O21=2,P21,U20)) -> 2.3. | V21: =IF(O21=1,"",IF(O21=2,Q21,V20)) -> Bachelorutdanning helse- og sosialfag | W21: =P21 -> 2.3d | X21: =IF(O21<3,"",IF(O21=3,Q21,X20)) -> Desentralisert vernepleie | Y21: =IF(O22=4,P22) -> FALSE | Z21: =O21=4 -> FALSE | AA21: =IF(Z21,5,O21) -> 3 | AC21: =IF(AJ21="",FALSE,MATCH(AJ21,$J$3:$J$152,0)) -> 3 | AD21: =IF(AL21=FALSE,"",MATCH(AL21,$J$3:$J$152,0)) | AE21: 0 | AF21: 2. | AG21: Kompetansetiltak (grunn-, videre- og etterutdanning) | AH21: 2.1. | AI21: Videregående skole, fag- og yrkesopplæring innen helse (fagbrev) | AJ21: 2.1. | AL21: FALSE | AM21: {=IF(AND(NOT($AC21=FALSE),NOT(AM$2=FALSE)),INDEX('Kompetansetilskudd og BPA'!$A$1:$R$148,$AC21,AM$2),"")} -> 0 | AN21: {=IF(AND(NOT($AC21=FALSE),NOT(AN$2=FALSE)),INDEX('Kompetansetilskudd og BPA'!$A$1:$R$148,$AC21,IF($AF21="3.",AN$4,AN$2)),"")} -> 0 | AO21: {=IF(AND(NOT($AC21=FALSE),NOT(AO$2=FALSE)),INDEX('Kompetansetilskudd og BPA'!$A$1:$R$148,$AC21,IF($AF21="3.",AO$4,AO$2)),"")} | AP21: {=IF(AND(NOT($AC21=FALSE),NOT(AP$2=FALSE)),INDEX('Kompetansetilskudd og BPA'!$A$1:$R$148,$AC21,IF($AF21="3.",AP$4,AP$2)),"")} -> 0 | AQ21: {=IF(AND(NOT($AC21=FALSE),NOT(AQ$2=FALSE)),INDEX('Kompetansetilskudd og BPA'!$A$1:$R$148,$AC21,IF($AF21="3.",AQ$4,AQ$2)),"")} -> 0 | AR21: {=IF(AND(NOT($AC21=FALSE),NOT(AR$2=FALSE)),INDEX('Kompetansetilskudd og BPA'!$A$1:$R$148,$AC21,IF($AF21="3.",AR$4,AR$2)),"")} -> 0 | AS21: {=IF(AND(NOT($AC21=FALSE),NOT(AS$2=FALSE)),INDEX('Kompetansetilskudd og BPA'!$A$1:$R$148,$AC21,IF($AF21="3.",AS$4,AS$2)),"")} | AT21: {=IF(AND(NOT($AC21=FALSE),NOT(AT$2=FALSE)),INDEX('Kompetansetilskudd og BPA'!$A$1:$R$148,$AC21,IF($AF21="3.",AT$4,AT$2)),"")} -> 0 | AU21: {=IF(AND(NOT($AC21=FALSE),NOT(AU$2=FALSE)),INDEX('Kompetansetilskudd og BPA'!$A$1:$R$148,$AC21,IF($AF21="3.",AU$4,AU$2)),"")} -> 0 | AV21: {=IF(AND(NOT(AV$2=FALSE),NOT(AD21="")),INDEX('Kompetansetilskudd og BPA'!$A$1:$R$148,$AD21,AV$2),"")} | AW21: 2 | AX21: 0 | AY21: Kompetansetiltak (grunn-, videre- og etterutdanning) | AZ21: Videregående skole, fag- og yrkesopplæring innen helse (fagbrev) | BA21: 2.1. | BC21: 0 | BD21: 0 | BE21: 0 | BF21: 0 | BG21: 0 | BH21: 0 | BI21: 0 | BK21: 2 | BO21: =BA21<>0 -> TRUE | BQ21: 0 | BR21: P1.2h | BS21: Andre nyskapende løsninger av stor betydning for brukerne av de kommunale helse- og omsorgstjenestene | CA21: 0 | CB21: =BQ21>"" -> FALSE | CC21: =AND(BQ21=0,OR(BR21=0,BS21=0)) -> FALSE | CD21: =$CD$4 -> TRUE | CE21: =IF(CD21,FALSE,NOT(AND(CC21,CB22=FALSE))) -> FALSE | CF21: =IF(LEN(BQ21)=3,1,IF(CB22,5,IF(CB21,2,IF(BS21="Søknad",3,4)))) -> 4 | CG21: ='Forside og oppsummering'!$E$23 -> 0 | CH21: Prosjekt 1 | CI21: =IF(CF21=1,"",IF(CF21=2,BR21,CI20)) -> Tema for innovasjonsprosjekt 1 | CJ21: =IF(CF21<3,BQ21,IF(AND(BR21=0,CE21),_xlfn.CONCAT(LEFT(BR20,LEN(BR20)-1),CHAR(CODE(RIGHT(BR20,1))+1)),BR21)) -> P1.2h | CK21: =BS21 -> Andre nyskapende løsninger av stor betydning for brukerne av de kommunale helse- og omsorgstjenestene | CL21: 0 | CM21: 0 | CN21: 0 | CO21: 0 | CP21: 0 | CQ21: 0 | CR21: 0 | CS21: 0 | CT21: =CF21 -> 4 | DI21: 0 | DJ21: Kompetansetiltak (grunn-, videre- og etterutdanning) | DK21: Videregående skole, fag- og yrkesopplæring innen helse (fagbrev) | DL21: 2.1. | DN21: 0 | DO21: 0 | DP21: 0 | DQ21: 0 | DR21: 0 | DS21: 0 | DT21: 0 | DV21: 2
E22: 0 | F22: 0 | G22: 2.2b | H22: Eldreomsorg/demens | I22: =IF(H22='Kompetansetilskudd og BPA'!$E$12,4,IF(E22=0,IF(F22=0,IF(G22=0,FALSE,3),2),1)) -> 3 | J22: =IF(I22=1,E22,IF(I22=2,F22,IF(I22=3,G22,IF(I22=4,G22)))) -> 2.2b | K22: =IF(I22=1,F22,IF(I22=2,G22,IF(I22=3,H22,IF(I22=4,H22)))) -> Eldreomsorg/demens | L22: 3 | M22: 2.3a | N22: Sykepleie | O22: 3 | P22: 2.3e | Q22: Fysioterapi | R22: ='Forside og oppsummering'!$E$23 -> 0 | S22: =IF(O22=1,P22,S21) -> 2. | T22: =IF(O22=1,Q22,T21) -> Kompetansetiltak (grunn-, videre- og etterutdanning) | U22: =IF(O22=1,"",IF(O22=2,P22,U21)) -> 2.3. | V22: =IF(O22=1,"",IF(O22=2,Q22,V21)) -> Bachelorutdanning helse- og sosialfag | W22: =P22 -> 2.3e | X22: =IF(O22<3,"",IF(O22=3,Q22,X21)) -> Fysioterapi | Y22: =IF(O23=4,P23) -> FALSE | Z22: =O22=4 -> FALSE | AA22: =IF(Z22,5,O22) -> 3 | AC22: =IF(AJ22="",FALSE,MATCH(AJ22,$J$3:$J$152,0)) -> 8 | AD22: =IF(AL22=FALSE,"",MATCH(AL22,$J$3:$J$152,0)) | AE22: 0 | AF22: 2. | AG22: Kompetansetiltak (grunn-, videre- og etterutdanning) | AH22: 2.1. | AI22: Videregående skole, fag- og yrkesopplæring innen helse (fagbrev) | AJ22: 2.1a | AK22: Helsefagarbeider | AL22: FALSE | AM22: {=IF(AND(NOT($AC22=FALSE),NOT(AM$2=FALSE)),INDEX('Kompetansetilskudd og BPA'!$A$1:$R$148,$AC22,AM$2),"")} -> 0 | AN22: {=IF(AND(NOT($AC22=FALSE),NOT(AN$2=FALSE)),INDEX('Kompetansetilskudd og BPA'!$A$1:$R$148,$AC22,IF($AF22="3.",AN$4,AN$2)),"")} -> 0 | AO22: {=IF(AND(NOT($AC22=FALSE),NOT(AO$2=FALSE)),INDEX('Kompetansetilskudd og BPA'!$A$1:$R$148,$AC22,IF($AF22="3.",AO$4,AO$2)),"")} | AP22: {=IF(AND(NOT($AC22=FALSE),NOT(AP$2=FALSE)),INDEX('Kompetansetilskudd og BPA'!$A$1:$R$148,$AC22,IF($AF22="3.",AP$4,AP$2)),"")} -> 0 | AQ22: {=IF(AND(NOT($AC22=FALSE),NOT(AQ$2=FALSE)),INDEX('Kompetansetilskudd og BPA'!$A$1:$R$148,$AC22,IF($AF22="3.",AQ$4,AQ$2)),"")} -> 0 | AR22: {=IF(AND(NOT($AC22=FALSE),NOT(AR$2=FALSE)),INDEX('Kompetansetilskudd og BPA'!$A$1:$R$148,$AC22,IF($AF22="3.",AR$4,AR$2)),"")} -> 0 | AS22: {=IF(AND(NOT($AC22=FALSE),NOT(AS$2=FALSE)),INDEX('Kompetansetilskudd og BPA'!$A$1:$R$148,$AC22,IF($AF22="3.",AS$4,AS$2)),"")} | AT22: {=IF(AND(NOT($AC22=FALSE),NOT(AT$2=FALSE)),INDEX('Kompetansetilskudd og BPA'!$A$1:$R$148,$AC22,IF($AF22="3.",AT$4,AT$2)),"")} -> 0 | AU22: {=IF(AND(NOT($AC22=FALSE),NOT(AU$2=FALSE)),INDEX('Kompetansetilskudd og BPA'!$A$1:$R$148,$AC22,IF($AF22="3.",AU$4,AU$2)),"")} -> 0 | AV22: {=IF(AND(NOT(AV$2=FALSE),NOT(AD22="")),INDEX('Kompetansetilskudd og BPA'!$A$1:$R$148,$AD22,AV$2),"")} | AW22: 3 | AX22: 0 | AY22: Kompetansetiltak (grunn-, videre- og etterutdanning) | AZ22: Videregående skole, fag- og yrkesopplæring innen helse (fagbrev) | BA22: 2.1a | BB22: Helsefagarbeider | BC22: 0 | BD22: 0 | BE22: 0 | BF22: 0 | BG22: 0 | BH22: 0 | BI22: 0 | BK22: 3 | BO22: =BA22<>0 -> TRUE | BQ22: 0 | BR22: 0 | BS22: 0 | CA22: 0 | CB22: =BQ22>"" -> FALSE | CC22: =AND(BQ22=0,OR(BR22=0,BS22=0)) -> TRUE | CD22: =$CD$4 -> TRUE | CE22: =IF(CD22,FALSE,NOT(AND(CC22,CB23=FALSE))) -> FALSE | CF22: =IF(LEN(BQ22)=3,1,IF(CB23,5,IF(CB22,2,IF(BS22="Søknad",3,4)))) -> 5 | CG22: ='Forside og oppsummering'!$E$23 -> 0 | CH22: Prosjekt 1 | CI22: =IF(CF22=1,"",IF(CF22=2,BR22,CI21)) -> Tema for innovasjonsprosjekt 1 | CJ22: =IF(CF22<3,BQ22,IF(AND(BR22=0,CE22),_xlfn.CONCAT(LEFT(BR21,LEN(BR21)-1),CHAR(CODE(RIGHT(BR21,1))+1)),BR22)) -> 0 | CK22: =BS22 -> 0 | CL22: 0 | CM22: 0 | CN22: 0 | CO22: 0 | CP22: 0 | CQ22: 0 | CR22: 0 | CS22: 0 | CT22: =CF22 -> 5 | DI22: 0 | DJ22: Kompetansetiltak (grunn-, videre- og etterutdanning) | DK22: Videregående skole, fag- og yrkesopplæring innen helse (fagbrev) | DL22: 2.1a | DM22: Helsefagarbeider | DN22: 0 | DO22: 0 | DP22: 0 | DQ22: 0 | DR22: 0 | DS22: 0 | DT22: 0 | DV22: 3
E23: 0 | F23: 0 | G23: 2.2c | H23: Habilitering/rehabilitering | I23: =IF(H23='Kompetansetilskudd og BPA'!$E$12,4,IF(E23=0,IF(F23=0,IF(G23=0,FALSE,3),2),1)) -> 3 | J23: =IF(I23=1,E23,IF(I23=2,F23,IF(I23=3,G23,IF(I23=4,G23)))) -> 2.2c | K23: =IF(I23=1,F23,IF(I23=2,G23,IF(I23=3,H23,IF(I23=4,H23)))) -> Habilitering/rehabilitering | L23: 3 | M23: 2.3b | N23: Desentralisert sykepleie | O23: 3 | P23: 2.3f | Q23: Ergoterapi | R23: ='Forside og oppsummering'!$E$23 -> 0 | S23: =IF(O23=1,P23,S22) -> 2. | T23: =IF(O23=1,Q23,T22) -> Kompetansetiltak (grunn-, videre- og etterutdanning) | U23: =IF(O23=1,"",IF(O23=2,P23,U22)) -> 2.3. | V23: =IF(O23=1,"",IF(O23=2,Q23,V22)) -> Bachelorutdanning helse- og sosialfag | W23: =P23 -> 2.3f | X23: =IF(O23<3,"",IF(O23=3,Q23,X22)) -> Ergoterapi | Y23: =IF(O24=4,P24) -> FALSE | Z23: =O23=4 -> FALSE | AA23: =IF(Z23,5,O23) -> 3 | AC23: =IF(AJ23="",FALSE,MATCH(AJ23,$J$3:$J$152,0)) -> 9 | AD23: =IF(AL23=FALSE,"",MATCH(AL23,$J$3:$J$152,0)) -> 12 | AE23: 0 | AF23: 2. | AG23: Kompetansetiltak (grunn-, videre- og etterutdanning) | AH23: 2.1. | AI23: Videregående skole, fag- og yrkesopplæring innen helse (fagbrev) | AJ23: 2.1b | AK23: Annen utdanning på videregående skolenivå | AL23: 2.1c | AM23: {=IF(AND(NOT($AC23=FALSE),NOT(AM$2=FALSE)),INDEX('Kompetansetilskudd og BPA'!$A$1:$R$148,$AC23,AM$2),"")} -> 0 | AN23: {=IF(AND(NOT($AC23=FALSE),NOT(AN$2=FALSE)),INDEX('Kompetansetilskudd og BPA'!$A$1:$R$148,$AC23,IF($AF23="3.",AN$4,AN$2)),"")} -> 0 | AO23: {=IF(AND(NOT($AC23=FALSE),NOT(AO$2=FALSE)),INDEX('Kompetansetilskudd og BPA'!$A$1:$R$148,$AC23,IF($AF23="3.",AO$4,AO$2)),"")} | AP23: {=IF(AND(NOT($AC23=FALSE),NOT(AP$2=FALSE)),INDEX('Kompetansetilskudd og BPA'!$A$1:$R$148,$AC23,IF($AF23="3.",AP$4,AP$2)),"")} -> 0 | AQ23: {=IF(AND(NOT($AC23=FALSE),NOT(AQ$2=FALSE)),INDEX('Kompetansetilskudd og BPA'!$A$1:$R$148,$AC23,IF($AF23="3.",AQ$4,AQ$2)),"")} -> 0 | AR23: {=IF(AND(NOT($AC23=FALSE),NOT(AR$2=FALSE)),INDEX('Kompetansetilskudd og BPA'!$A$1:$R$148,$AC23,IF($AF23="3.",AR$4,AR$2)),"")} -> 0 | AS23: {=IF(AND(NOT($AC23=FALSE),NOT(AS$2=FALSE)),INDEX('Kompetansetilskudd og BPA'!$A$1:$R$148,$AC23,IF($AF23="3.",AS$4,AS$2)),"")} | AT23: {=IF(AND(NOT($AC23=FALSE),NOT(AT$2=FALSE)),INDEX('Kompetansetilskudd og BPA'!$A$1:$R$148,$AC23,IF($AF23="3.",AT$4,AT$2)),"")} -> 0 | AU23: {=IF(AND(NOT($AC23=FALSE),NOT(AU$2=FALSE)),INDEX('Kompetansetilskudd og BPA'!$A$1:$R$148,$AC23,IF($AF23="3.",AU$4,AU$2)),"")} -> 0 | AV23: {=IF(AND(NOT(AV$2=FALSE),NOT(AD23="")),INDEX('Kompetansetilskudd og BPA'!$A$1:$R$148,$AD23,AV$2),"")} -> 0 | AW23: 3 | AX23: 0 | AY23: Kompetansetiltak (grunn-, videre- og etterutdanning) | AZ23: Videregående skole, fag- og yrkesopplæring innen helse (fagbrev) | BA23: 2.1b | BB23: Annen utdanning på videregående skolenivå | BC23: 0 | BD23: 0 | BE23: 0 | BF23: 0 | BG23: 0 | BH23: 0 | BI23: 0 | BJ23: 0 | BK23: 3 | BO23: =BA23<>0 -> TRUE | BQ23: P1.3 | BR23: Prosjektbeskrivelse: Innovasjonsprosjekt 1 | BS23: 0 | CA23: 0 | CB23: =BQ23>"" -> TRUE | CC23: =AND(BQ23=0,OR(BR23=0,BS23=0)) -> FALSE | CD23: =$CD$4 -> TRUE | CE23: =IF(CD23,FALSE,NOT(AND(CC23,CB24=FALSE))) -> FALSE | CF23: =IF(LEN(BQ23)=3,1,IF(CB24,5,IF(CB23,2,IF(BS23="Søknad",3,4)))) -> 2 | CG23: ='Forside og oppsummering'!$E$23 -> 0 | CH23: Prosjekt 1 | CI23: =IF(CF23=1,"",IF(CF23=2,BR23,CI22)) -> Prosjektbeskrivelse: Innovasjonsprosjekt 1 | CJ23: =IF(CF23<3,BQ23,IF(AND(BR23=0,CE23),_xlfn.CONCAT(LEFT(BR22,LEN(BR22)-1),CHAR(CODE(RIGHT(BR22,1))+1)),BR23)) -> P1.3 | CK23: =BS23 -> 0 | CL23: 0 | CM23: 0 | CN23: 0 | CO23: 0 | CP23: 0 | CQ23: 0 | CR23: 0 | CS23: 0 | CT23: =CF23 -> 2 | DI23: 0 | DJ23: Kompetansetiltak (grunn-, videre- og etterutdanning) | DK23: Videregående skole, fag- og yrkesopplæring innen helse (fagbrev) | DL23: 2.1b | DM23: Annen utdanning på videregående skolenivå | DN23: 0 | DO23: 0 | DP23: 0 | DQ23: 0 | DR23: 0 | DS23: 0 | DT23: 0 | DU23: 0 | DV23: 3
E24: 0 | F24: 0 | G24: 2.2d | H24: Kreftomsorg/lindrende behandling | I24: =IF(H24='Kompetansetilskudd og BPA'!$E$12,4,IF(E24=0,IF(F24=0,IF(G24=0,FALSE,3),2),1)) -> 3 | J24: =IF(I24=1,E24,IF(I24=2,F24,IF(I24=3,G24,IF(I24=4,G24)))) -> 2.2d | K24: =IF(I24=1,F24,IF(I24=2,G24,IF(I24=3,H24,IF(I24=4,H24)))) -> Kreftomsorg/lindrende behandling | L24: 3 | M24: 2.3c | N24: Vernepleie | O24: 3 | P24: 2.3g | Q24: Sosial arbeid (sosionom) | R24: ='Forside og oppsummering'!$E$23 -> 0 | S24: =IF(O24=1,P24,S23) -> 2. | T24: =IF(O24=1,Q24,T23) -> Kompetansetiltak (grunn-, videre- og etterutdanning) | U24: =IF(O24=1,"",IF(O24=2,P24,U23)) -> 2.3. | V24: =IF(O24=1,"",IF(O24=2,Q24,V23)) -> Bachelorutdanning helse- og sosialfag | W24: =P24 -> 2.3g | X24: =IF(O24<3,"",IF(O24=3,Q24,X23)) -> Sosial arbeid (sosionom) | Y24: =IF(O25=4,P25) -> FALSE | Z24: =O24=4 -> FALSE | AA24: =IF(Z24,5,O24) -> 3 | AC24: =IF(AJ24="",FALSE,MATCH(AJ24,$J$3:$J$152,0)) -> 12 | AD24: =IF(AL24=FALSE,"",MATCH(AL24,$J$3:$J$152,0)) | AE24: 0 | AF24: 2. | AG24: Kompetansetiltak (grunn-, videre- og etterutdanning) | AH24: 2.1. | AI24: Videregående skole, fag- og yrkesopplæring innen helse (fagbrev) | AJ24: 2.1c | AK24: Annen utdanning på videregående skolenivå | AL24: FALSE | AM24: {=IF(AND(NOT($AC24=FALSE),NOT(AM$2=FALSE)),INDEX('Kompetansetilskudd og BPA'!$A$1:$R$148,$AC24,AM$2),"")} -> 0 | AN24: {=IF(AND(NOT($AC24=FALSE),NOT(AN$2=FALSE)),INDEX('Kompetansetilskudd og BPA'!$A$1:$R$148,$AC24,IF($AF24="3.",AN$4,AN$2)),"")} -> 0 | AO24: {=IF(AND(NOT($AC24=FALSE),NOT(AO$2=FALSE)),INDEX('Kompetansetilskudd og BPA'!$A$1:$R$148,$AC24,IF($AF24="3.",AO$4,AO$2)),"")} | AP24: {=IF(AND(NOT($AC24=FALSE),NOT(AP$2=FALSE)),INDEX('Kompetansetilskudd og BPA'!$A$1:$R$148,$AC24,IF($AF24="3.",AP$4,AP$2)),"")} -> 0 | AQ24: {=IF(AND(NOT($AC24=FALSE),NOT(AQ$2=FALSE)),INDEX('Kompetansetilskudd og BPA'!$A$1:$R$148,$AC24,IF($AF24="3.",AQ$4,AQ$2)),"")} -> 0 | AR24: {=IF(AND(NOT($AC24=FALSE),NOT(AR$2=FALSE)),INDEX('Kompetansetilskudd og BPA'!$A$1:$R$148,$AC24,IF($AF24="3.",AR$4,AR$2)),"")} -> 0 | AS24: {=IF(AND(NOT($AC24=FALSE),NOT(AS$2=FALSE)),INDEX('Kompetansetilskudd og BPA'!$A$1:$R$148,$AC24,IF($AF24="3.",AS$4,AS$2)),"")} | AT24: {=IF(AND(NOT($AC24=FALSE),NOT(AT$2=FALSE)),INDEX('Kompetansetilskudd og BPA'!$A$1:$R$148,$AC24,IF($AF24="3.",AT$4,AT$2)),"")} -> 0 | AU24: {=IF(AND(NOT($AC24=FALSE),NOT(AU$2=FALSE)),INDEX('Kompetansetilskudd og BPA'!$A$1:$R$148,$AC24,IF($AF24="3.",AU$4,AU$2)),"")} -> 0 | AV24: {=IF(AND(NOT(AV$2=FALSE),NOT(AD24="")),INDEX('Kompetansetilskudd og BPA'!$A$1:$R$148,$AD24,AV$2),"")} | AW24: 5 | AX24: 0 | AY24: Kompetansetiltak (grunn-, videre- og etterutdanning) | AZ24: Videregående skole, fag- og yrkesopplæring innen helse (fagbrev) | BA24: 2.1c | BB24: Annen utdanning på videregående skolenivå | BC24: 0 | BD24: 0 | BE24: 0 | BF24: 0 | BG24: 0 | BH24: 0 | BI24: 0 | BK24: 5 | BO24: =BA24<>0 -> TRUE | BQ24: 0 | BR24: - Fyll inn deltaljer for innovasjonsprosjektet der dette er hensiktsmessig - Forsøk å skrive kortfattet (Med et detaljnivå som står i rimelig forhold til innovasjonsprosjektets omfang) | BS24: 0 | CA24: 0 | CB24: =BQ24>"" -> FALSE | CC24: =AND(BQ24=0,OR(BR24=0,BS24=0)) -> TRUE | CD24: =$CD$4 -> TRUE | CE24: =IF(CD24,FALSE,NOT(AND(CC24,CB25=FALSE))) -> FALSE | CF24: =IF(LEN(BQ24)=3,1,IF(CB25,5,IF(CB24,2,IF(BS24="Søknad",3,4)))) -> 4 | CG24: ='Forside og oppsummering'!$E$23 -> 0 | CH24: Prosjekt 1 | CI24: =IF(CF24=1,"",IF(CF24=2,BR24,CI23)) -> Prosjektbeskrivelse: Innovasjonsprosjekt 1 | CJ24: =IF(CF24<3,BQ24,IF(AND(BR24=0,CE24),_xlfn.CONCAT(LEFT(BR23,LEN(BR23)-1),CHAR(CODE(RIGHT(BR23,1))+1)),BR24)) -> - Fyll inn deltaljer for innovasjonsprosjektet der dette er hensiktsmessig - Forsøk å skrive kortfattet (Med et detaljnivå som står i rimelig forhold til innovasjonsprosjektets omfang) | CK24: =BS24 -> 0 | CL24: 0 | CM24: 0 | CN24: 0 | CO24: 0 | CP24: 0 | CQ24: 0 | CR24: 0 | CS24: 0 | CT24: =CF24 -> 4 | DI24: 0 | DJ24: Kompetansetiltak (grunn-, videre- og etterutdanning) | DK24: Videregående skole, fag- og yrkesopplæring innen helse (fagbrev) | DL24: 2.1c | DM24: Annen utdanning på videregående skolenivå | DN24: 0 | DO24: 0 | DP24: 0 | DQ24: 0 | DR24: 0 | DS24: 0 | DT24: 0 | DV24: 5
E25: 0 | F25: 0 | G25: 2.2e | H25: Veiledning | I25: =IF(H25='Kompetansetilskudd og BPA'!$E$12,4,IF(E25=0,IF(F25=0,IF(G25=0,FALSE,3),2),1)) -> 3 | J25: =IF(I25=1,E25,IF(I25=2,F25,IF(I25=3,G25,IF(I25=4,G25)))) -> 2.2e | K25: =IF(I25=1,F25,IF(I25=2,G25,IF(I25=3,H25,IF(I25=4,H25)))) -> Veiledning | L25: 3 | M25: 2.3d | N25: Desentralisert vernepleie | O25: 3 | P25: 2.3h | Q25: Barnevernspedagogikk | R25: ='Forside og oppsummering'!$E$23 -> 0 | S25: =IF(O25=1,P25,S24) -> 2. | T25: =IF(O25=1,Q25,T24) -> Kompetansetiltak (grunn-, videre- og etterutdanning) | U25: =IF(O25=1,"",IF(O25=2,P25,U24)) -> 2.3. | V25: =IF(O25=1,"",IF(O25=2,Q25,V24)) -> Bachelorutdanning helse- og sosialfag | W25: =P25 -> 2.3h | X25: =IF(O25<3,"",IF(O25=3,Q25,X24)) -> Barnevernspedagogikk | Y25: =IF(O26=4,P26) -> FALSE | Z25: =O25=4 -> FALSE | AA25: =IF(Z25,5,O25) -> 3 | AC25: =IF(AJ25="",FALSE,MATCH(AJ25,$J$3:$J$152,0)) -> 14 | AD25: =IF(AL25=FALSE,"",MATCH(AL25,$J$3:$J$152,0)) | AE25: 0 | AF25: 2. | AG25: Kompetansetiltak (grunn-, videre- og etterutdanning) | AH25: 2.2. | AI25: Fagskoleutdanning | AJ25: 2.2. | AL25: FALSE | AM25: {=IF(AND(NOT($AC25=FALSE),NOT(AM$2=FALSE)),INDEX('Kompetansetilskudd og BPA'!$A$1:$R$148,$AC25,AM$2),"")} -> 0 | AN25: {=IF(AND(NOT($AC25=FALSE),NOT(AN$2=FALSE)),INDEX('Kompetansetilskudd og BPA'!$A$1:$R$148,$AC25,IF($AF25="3.",AN$4,AN$2)),"")} -> 0 | AO25: {=IF(AND(NOT($AC25=FALSE),NOT(AO$2=FALSE)),INDEX('Kompetansetilskudd og BPA'!$A$1:$R$148,$AC25,IF($AF25="3.",AO$4,AO$2)),"")} | AP25: {=IF(AND(NOT($AC25=FALSE),NOT(AP$2=FALSE)),INDEX('Kompetansetilskudd og BPA'!$A$1:$R$148,$AC25,IF($AF25="3.",AP$4,AP$2)),"")} -> 0 | AQ25: {=IF(AND(NOT($AC25=FALSE),NOT(AQ$2=FALSE)),INDEX('Kompetansetilskudd og BPA'!$A$1:$R$148,$AC25,IF($AF25="3.",AQ$4,AQ$2)),"")} -> 0 | AR25: {=IF(AND(NOT($AC25=FALSE),NOT(AR$2=FALSE)),INDEX('Kompetansetilskudd og BPA'!$A$1:$R$148,$AC25,IF($AF25="3.",AR$4,AR$2)),"")} -> 0 | AS25: {=IF(AND(NOT($AC25=FALSE),NOT(AS$2=FALSE)),INDEX('Kompetansetilskudd og BPA'!$A$1:$R$148,$AC25,IF($AF25="3.",AS$4,AS$2)),"")} | AT25: {=IF(AND(NOT($AC25=FALSE),NOT(AT$2=FALSE)),INDEX('Kompetansetilskudd og BPA'!$A$1:$R$148,$AC25,IF($AF25="3.",AT$4,AT$2)),"")} -> 0 | AU25: {=IF(AND(NOT($AC25=FALSE),NOT(AU$2=FALSE)),INDEX('Kompetansetilskudd og BPA'!$A$1:$R$148,$AC25,IF($AF25="3.",AU$4,AU$2)),"")} -> 0 | AV25: {=IF(AND(NOT(AV$2=FALSE),NOT(AD25="")),INDEX('Kompetansetilskudd og BPA'!$A$1:$R$148,$AD25,AV$2),"")} | AW25: 2 | AX25: 0 | AY25: Kompetansetiltak (grunn-, videre- og etterutdanning) | AZ25: Fagskoleutdanning | BA25: 2.2. | BC25: 0 | BD25: 0 | BE25: 0 | BF25: 0 | BG25: 0 | BH25: 0 | BI25: 0 | BK25: 2 | BO25: =BA25<>0 -> TRUE | BQ25: 0 | BR25: P1.3a | BS25: Kort beskrivelse | CA25: 0 | CB25: =BQ25>"" -> FALSE | CC25: =AND(BQ25=0,OR(BR25=0,BS25=0)) -> FALSE | CD25: =$CD$4 -> TRUE | CE25: =IF(CD25,FALSE,NOT(AND(CC25,CB26=FALSE))) -> FALSE | CF25: =IF(LEN(BQ25)=3,1,IF(CB26,5,IF(CB25,2,IF(BS25="Søknad",3,4)))) -> 4 | CG25: ='Forside og oppsummering'!$E$23 -> 0 | CH25: Prosjekt 1 | CI25: =IF(CF25=1,"",IF(CF25=2,BR25,CI24)) -> Prosjektbeskrivelse: Innovasjonsprosjekt 1 | CJ25: =IF(CF25<3,BQ25,IF(AND(BR25=0,CE25),_xlfn.CONCAT(LEFT(BR24,LEN(BR24)-1),CHAR(CODE(RIGHT(BR24,1))+1)),BR25)) -> P1.3a | CK25: =BS25 -> Kort beskrivelse | CL25: 0 | CM25: 0 | CN25: 0 | CO25: 0 | CP25: 0 | CQ25: 0 | CR25: 0 | CS25: 0 | CT25: =CF25 -> 4 | DI25: 0 | DJ25: Kompetansetiltak (grunn-, videre- og etterutdanning) | DK25: Fagskoleutdanning | DL25: 2.2. | DN25: 0 | DO25: 0 | DP25: 0 | DQ25: 0 | DR25: 0 | DS25: 0 | DT25: 0 | DV25: 2
E26: 0 | F26: 0 | G26: 2.2f | H26: Annen fagskoleutdanning | I26: =IF(H26='Kompetansetilskudd og BPA'!$E$12,4,IF(E26=0,IF(F26=0,IF(G26=0,FALSE,3),2),1)) -> 3 | J26: =IF(I26=1,E26,IF(I26=2,F26,IF(I26=3,G26,IF(I26=4,G26)))) -> 2.2f | K26: =IF(I26=1,F26,IF(I26=2,G26,IF(I26=3,H26,IF(I26=4,H26)))) -> Annen fagskoleutdanning | L26: 3 | M26: 2.3e | N26: Fysioterapi | O26: 3 | P26: 2.3i | Q26: Annen bachelorutdanning | R26: ='Forside og oppsummering'!$E$23 -> 0 | S26: =IF(O26=1,P26,S25) -> 2. | T26: =IF(O26=1,Q26,T25) -> Kompetansetiltak (grunn-, videre- og etterutdanning) | U26: =IF(O26=1,"",IF(O26=2,P26,U25)) -> 2.3. | V26: =IF(O26=1,"",IF(O26=2,Q26,V25)) -> Bachelorutdanning helse- og sosialfag | W26: =P26 -> 2.3i | X26: =IF(O26<3,"",IF(O26=3,Q26,X25)) -> Annen bachelorutdanning | Y26: =IF(O27=4,P27) -> 2.3j | Z26: =O26=4 -> FALSE | AA26: =IF(Z26,5,O26) -> 3 | AC26: =IF(AJ26="",FALSE,MATCH(AJ26,$J$3:$J$152,0)) -> 19 | AD26: =IF(AL26=FALSE,"",MATCH(AL26,$J$3:$J$152,0)) | AE26: 0 | AF26: 2. | AG26: Kompetansetiltak (grunn-, videre- og etterutdanning) | AH26: 2.2. | AI26: Fagskoleutdanning | AJ26: 2.2a | AK26: Psykisk helsearbeid og rusarbeid | AL26: FALSE | AM26: {=IF(AND(NOT($AC26=FALSE),NOT(AM$2=FALSE)),INDEX('Kompetansetilskudd og BPA'!$A$1:$R$148,$AC26,AM$2),"")} -> 0 | AN26: {=IF(AND(NOT($AC26=FALSE),NOT(AN$2=FALSE)),INDEX('Kompetansetilskudd og BPA'!$A$1:$R$148,$AC26,IF($AF26="3.",AN$4,AN$2)),"")} -> 0 | AO26: {=IF(AND(NOT($AC26=FALSE),NOT(AO$2=FALSE)),INDEX('Kompetansetilskudd og BPA'!$A$1:$R$148,$AC26,IF($AF26="3.",AO$4,AO$2)),"")} | AP26: {=IF(AND(NOT($AC26=FALSE),NOT(AP$2=FALSE)),INDEX('Kompetansetilskudd og BPA'!$A$1:$R$148,$AC26,IF($AF26="3.",AP$4,AP$2)),"")} -> 0 | AQ26: {=IF(AND(NOT($AC26=FALSE),NOT(AQ$2=FALSE)),INDEX('Kompetansetilskudd og BPA'!$A$1:$R$148,$AC26,IF($AF26="3.",AQ$4,AQ$2)),"")} -> 0 | AR26: {=IF(AND(NOT($AC26=FALSE),NOT(AR$2=FALSE)),INDEX('Kompetansetilskudd og BPA'!$A$1:$R$148,$AC26,IF($AF26="3.",AR$4,AR$2)),"")} -> 0 | AS26: {=IF(AND(NOT($AC26=FALSE),NOT(AS$2=FALSE)),INDEX('Kompetansetilskudd og BPA'!$A$1:$R$148,$AC26,IF($AF26="3.",AS$4,AS$2)),"")} | AT26: {=IF(AND(NOT($AC26=FALSE),NOT(AT$2=FALSE)),INDEX('Kompetansetilskudd og BPA'!$A$1:$R$148,$AC26,IF($AF26="3.",AT$4,AT$2)),"")} -> 0 | AU26: {=IF(AND(NOT($AC26=FALSE),NOT(AU$2=FALSE)),INDEX('Kompetansetilskudd og BPA'!$A$1:$R$148,$AC26,IF($AF26="3.",AU$4,AU$2)),"")} -> 0 | AV26: {=IF(AND(NOT(AV$2=FALSE),NOT(AD26="")),INDEX('Kompetansetilskudd og BPA'!$A$1:$R$148,$AD26,AV$2),"")} | AW26: 3 | AX26: 0 | AY26: Kompetansetiltak (grunn-, videre- og etterutdanning) | AZ26: Fagskoleutdanning | BA26: 2.2a | BB26: Psykisk helsearbeid og rusarbeid | BC26: 0 | BD26: 0 | BE26: 0 | BF26: 0 | BG26: 0 | BH26: 0 | BI26: 0 | BK26: 3 | BO26: =BA26<>0 -> TRUE | BQ26: 0 | BR26: 0 | BS26: Gi en kort beskrivelse av innovasjonsprosjektet, herunder delprosjekter, tiltak og bakgrunn for innovasjonsprosjektet | CA26: 0 | CB26: =BQ26>"" -> FALSE | CC26: =AND(BQ26=0,OR(BR26=0,BS26=0)) -> TRUE | CD26: =$CD$4 -> TRUE | CE26: =IF(CD26,FALSE,NOT(AND(CC26,CB27=FALSE))) -> FALSE | CF26: =IF(LEN(BQ26)=3,1,IF(CB27,5,IF(CB26,2,IF(BS26="Søknad",3,4)))) -> 4 | CG26: ='Forside og oppsummering'!$E$23 -> 0 | CH26: Prosjekt 1 | CI26: =IF(CF26=1,"",IF(CF26=2,BR26,CI25)) -> Prosjektbeskrivelse: Innovasjonsprosjekt 1 | CJ26: =IF(CF26<3,BQ26,IF(AND(BR26=0,CE26),_xlfn.CONCAT(LEFT(BR25,LEN(BR25)-1),CHAR(CODE(RIGHT(BR25,1))+1)),BR26)) -> 0 | CK26: =BS26 -> Gi en kort beskrivelse av innovasjonsprosjektet, herunder delprosjekter, tiltak og bakgrunn for innovasjonsprosjektet | CL26: 0 | CM26: 0 | CN26: 0 | CO26: 0 | CP26: 0 | CQ26: 0 | CR26: 0 | CS26: 0 | CT26: =CF26 -> 4 | DI26: 0 | DJ26: Kompetansetiltak (grunn-, videre- og etterutdanning) | DK26: Fagskoleutdanning | DL26: 2.2a | DM26: Psykisk helsearbeid og rusarbeid | DN26: 0 | DO26: 0 | DP26: 0 | DQ26: 0 | DR26: 0 | DS26: 0 | DT26: 0 | DV26: 3
E27: 0 | F27: 0 | G27: 0 | H27: 2.2. SUM: | I27: =IF(H27='Kompetansetilskudd og BPA'!$E$12,4,IF(E27=0,IF(F27=0,IF(G27=0,FALSE,3),2),1)) -> FALSE | J27: =IF(I27=1,E27,IF(I27=2,F27,IF(I27=3,G27,IF(I27=4,G27)))) -> FALSE | K27: =IF(I27=1,F27,IF(I27=2,G27,IF(I27=3,H27,IF(I27=4,H27)))) -> FALSE | L27: 3 | M27: 2.3f | N27: Ergoterapi | O27: 4 | P27: 2.3j | Q27: Merknader Nærmere om hvilken annen utdanning Forsøk å skrive mindre enn 100 ord | R27: ='Forside og oppsummering'!$E$23 -> 0 | S27: =IF(O27=1,P27,S26) -> 2. | T27: =IF(O27=1,Q27,T26) -> Kompetansetiltak (grunn-, videre- og etterutdanning) | U27: =IF(O27=1,"",IF(O27=2,P27,U26)) -> 2.3. | V27: =IF(O27=1,"",IF(O27=2,Q27,V26)) -> Bachelorutdanning helse- og sosialfag | W27: =P27 -> 2.3j | X27: =IF(O27<3,"",IF(O27=3,Q27,X26)) -> Annen bachelorutdanning | Y27: =IF(O28=4,P28) -> FALSE | Z27: =O27=4 -> TRUE | AA27: =IF(Z27,5,O27) -> 5 | AC27: =IF(AJ27="",FALSE,MATCH(AJ27,$J$3:$J$152,0)) -> 20 | AD27: =IF(AL27=FALSE,"",MATCH(AL27,$J$3:$J$152,0)) | AE27: 0 | AF27: 2. | AG27: Kompetansetiltak (grunn-, videre- og etterutdanning) | AH27: 2.2. | AI27: Fagskoleutdanning | AJ27: 2.2b | AK27: Eldreomsorg/demens | AL27: FALSE | AM27: {=IF(AND(NOT($AC27=FALSE),NOT(AM$2=FALSE)),INDEX('Kompetansetilskudd og BPA'!$A$1:$R$148,$AC27,AM$2),"")} -> 0 | AN27: {=IF(AND(NOT($AC27=FALSE),NOT(AN$2=FALSE)),INDEX('Kompetansetilskudd og BPA'!$A$1:$R$148,$AC27,IF($AF27="3.",AN$4,AN$2)),"")} -> 0 | AO27: {=IF(AND(NOT($AC27=FALSE),NOT(AO$2=FALSE)),INDEX('Kompetansetilskudd og BPA'!$A$1:$R$148,$AC27,IF($AF27="3.",AO$4,AO$2)),"")} | AP27: {=IF(AND(NOT($AC27=FALSE),NOT(AP$2=FALSE)),INDEX('Kompetansetilskudd og BPA'!$A$1:$R$148,$AC27,IF($AF27="3.",AP$4,AP$2)),"")} -> 0 | AQ27: {=IF(AND(NOT($AC27=FALSE),NOT(AQ$2=FALSE)),INDEX('Kompetansetilskudd og BPA'!$A$1:$R$148,$AC27,IF($AF27="3.",AQ$4,AQ$2)),"")} -> 0 | AR27: {=IF(AND(NOT($AC27=FALSE),NOT(AR$2=FALSE)),INDEX('Kompetansetilskudd og BPA'!$A$1:$R$148,$AC27,IF($AF27="3.",AR$4,AR$2)),"")} -> 0 | AS27: {=IF(AND(NOT($AC27=FALSE),NOT(AS$2=FALSE)),INDEX('Kompetansetilskudd og BPA'!$A$1:$R$148,$AC27,IF($AF27="3.",AS$4,AS$2)),"")} | AT27: {=IF(AND(NOT($AC27=FALSE),NOT(AT$2=FALSE)),INDEX('Kompetansetilskudd og BPA'!$A$1:$R$148,$AC27,IF($AF27="3.",AT$4,AT$2)),"")} -> 0 | AU27: {=IF(AND(NOT($AC27=FALSE),NOT(AU$2=FALSE)),INDEX('Kompetansetilskudd og BPA'!$A$1:$R$148,$AC27,IF($AF27="3.",AU$4,AU$2)),"")} -> 0 | AV27: {=IF(AND(NOT(AV$2=FALSE),NOT(AD27="")),INDEX('Kompetansetilskudd og BPA'!$A$1:$R$148,$AD27,AV$2),"")} | AW27: 3 | AX27: 0 | AY27: Kompetansetiltak (grunn-, videre- og etterutdanning) | AZ27: Fagskoleutdanning | BA27: 2.2b | BB27: Eldreomsorg/demens | BC27: 0 | BD27: 0 | BE27: 0 | BF27: 0 | BG27: 0 | BH27: 0 | BI27: 0 | BK27: 3 | BO27: =BA27<>0 -> TRUE | BQ27: 0 | BR27: P1.3b | BS27: Mål for tiltaket på kort og lengre sikt | CA27: 0 | CB27: =BQ27>"" -> FALSE | CC27: =AND(BQ27=0,OR(BR27=0,BS27=0)) -> FALSE | CD27: =$CD$4 -> TRUE | CE27: =IF(CD27,FALSE,NOT(AND(CC27,CB28=FALSE))) -> FALSE | CF27: =IF(LEN(BQ27)=3,1,IF(CB28,5,IF(CB27,2,IF(BS27="Søknad",3,4)))) -> 4 | CG27: ='Forside og oppsummering'!$E$23 -> 0 | CH27: Prosjekt 1 | CI27: =IF(CF27=1,"",IF(CF27=2,BR27,CI26)) -> Prosjektbeskrivelse: Innovasjonsprosjekt 1 | CJ27: =IF(CF27<3,BQ27,IF(AND(BR27=0,CE27),_xlfn.CONCAT(LEFT(BR26,LEN(BR26)-1),CHAR(CODE(RIGHT(BR26,1))+1)),BR27)) -> P1.3b | CK27: =BS27 -> Mål for tiltaket på kort og lengre sikt | CL27: 0 | CM27: 0 | CN27: 0 | CO27: 0 | CP27: 0 | CQ27: 0 | CR27: 0 | CS27: 0 | CT27: =CF27 -> 4 | DI27: 0 | DJ27: Kompetansetiltak (grunn-, videre- og etterutdanning) | DK27: Fagskoleutdanning | DL27: 2.2b | DM27: Eldreomsorg/demens | DN27: 0 | DO27: 0 | DP27: 0 | DQ27: 0 | DR27: 0 | DS27: 0 | DT27: 0 | DV27: 3
E28: 0 | F28: 0 | G28: 0 | H28: 0 | I28: =IF(H28='Kompetansetilskudd og BPA'!$E$12,4,IF(E28=0,IF(F28=0,IF(G28=0,FALSE,3),2),1)) -> FALSE | J28: =IF(I28=1,E28,IF(I28=2,F28,IF(I28=3,G28,IF(I28=4,G28)))) -> FALSE | K28: =IF(I28=1,F28,IF(I28=2,G28,IF(I28=3,H28,IF(I28=4,H28)))) -> FALSE | L28: 3 | M28: 2.3g | N28: Sosial arbeid (sosionom) | O28: 2 | P28: 2.4. | Q28: Videreutdanning og mastergradutdanning (påbygg bachelorutdanning) | R28: ='Forside og oppsummering'!$E$23 -> 0 | S28: =IF(O28=1,P28,S27) -> 2. | T28: =IF(O28=1,Q28,T27) -> Kompetansetiltak (grunn-, videre- og etterutdanning) | U28: =IF(O28=1,"",IF(O28=2,P28,U27)) -> 2.4. | V28: =IF(O28=1,"",IF(O28=2,Q28,V27)) -> Videreutdanning og mastergradutdanning (påbygg bachelorutdanning) | W28: =P28 -> 2.4. | X28: =IF(O28<3,"",IF(O28=3,Q28,X27)) | Y28: =IF(O29=4,P29) -> FALSE | Z28: =O28=4 -> FALSE | AA28: =IF(Z28,5,O28) -> 2 | AC28: =IF(AJ28="",FALSE,MATCH(AJ28,$J$3:$J$152,0)) -> 21 | AD28: =IF(AL28=FALSE,"",MATCH(AL28,$J$3:$J$152,0)) | AE28: 0 | AF28: 2. | AG28: Kompetansetiltak (grunn-, videre- og etterutdanning) | AH28: 2.2. | AI28: Fagskoleutdanning | AJ28: 2.2c | AK28: Habilitering/rehabilitering | AL28: FALSE | AM28: {=IF(AND(NOT($AC28=FALSE),NOT(AM$2=FALSE)),INDEX('Kompetansetilskudd og BPA'!$A$1:$R$148,$AC28,AM$2),"")} -> 0 | AN28: {=IF(AND(NOT($AC28=FALSE),NOT(AN$2=FALSE)),INDEX('Kompetansetilskudd og BPA'!$A$1:$R$148,$AC28,IF($AF28="3.",AN$4,AN$2)),"")} -> 0 | AO28: {=IF(AND(NOT($AC28=FALSE),NOT(AO$2=FALSE)),INDEX('Kompetansetilskudd og BPA'!$A$1:$R$148,$AC28,IF($AF28="3.",AO$4,AO$2)),"")} | AP28: {=IF(AND(NOT($AC28=FALSE),NOT(AP$2=FALSE)),INDEX('Kompetansetilskudd og BPA'!$A$1:$R$148,$AC28,IF($AF28="3.",AP$4,AP$2)),"")} -> 0 | AQ28: {=IF(AND(NOT($AC28=FALSE),NOT(AQ$2=FALSE)),INDEX('Kompetansetilskudd og BPA'!$A$1:$R$148,$AC28,IF($AF28="3.",AQ$4,AQ$2)),"")} -> 0 | AR28: {=IF(AND(NOT($AC28=FALSE),NOT(AR$2=FALSE)),INDEX('Kompetansetilskudd og BPA'!$A$1:$R$148,$AC28,IF($AF28="3.",AR$4,AR$2)),"")} -> 0 | AS28: {=IF(AND(NOT($AC28=FALSE),NOT(AS$2=FALSE)),INDEX('Kompetansetilskudd og BPA'!$A$1:$R$148,$AC28,IF($AF28="3.",AS$4,AS$2)),"")} | AT28: {=IF(AND(NOT($AC28=FALSE),NOT(AT$2=FALSE)),INDEX('Kompetansetilskudd og BPA'!$A$1:$R$148,$AC28,IF($AF28="3.",AT$4,AT$2)),"")} -> 0 | AU28: {=IF(AND(NOT($AC28=FALSE),NOT(AU$2=FALSE)),INDEX('Kompetansetilskudd og BPA'!$A$1:$R$148,$AC28,IF($AF28="3.",AU$4,AU$2)),"")} -> 0 | AV28: {=IF(AND(NOT(AV$2=FALSE),NOT(AD28="")),INDEX('Kompetansetilskudd og BPA'!$A$1:$R$148,$AD28,AV$2),"")} | AW28: 3 | AX28: 0 | AY28: Kompetansetiltak (grunn-, videre- og etterutdanning) | AZ28: Fagskoleutdanning | BA28: 2.2c | BB28: Habilitering/rehabilitering | BC28: 0 | BD28: 0 | BE28: 0 | BF28: 0 | BG28: 0 | BH28: 0 | BI28: 0 | BK28: 3 | BO28: =BA28<>0 -> TRUE | BQ28: 0 | BR28: 0 | BS28: Herunder mål for året dere søker om tilskudd og målgruppe for tiltaket | CA28: 0 | CB28: =BQ28>"" -> FALSE | CC28: =AND(BQ28=0,OR(BR28=0,BS28=0)) -> TRUE | CD28: =$CD$4 -> TRUE | CE28: =IF(CD28,FALSE,NOT(AND(CC28,CB29=FALSE))) -> FALSE | CF28: =IF(LEN(BQ28)=3,1,IF(CB29,5,IF(CB28,2,IF(BS28="Søknad",3,4)))) -> 4 | CG28: ='Forside og oppsummering'!$E$23 -> 0 | CH28: Prosjekt 1 | CI28: =IF(CF28=1,"",IF(CF28=2,BR28,CI27)) -> Prosjektbeskrivelse: Innovasjonsprosjekt 1 | CJ28: =IF(CF28<3,BQ28,IF(AND(BR28=0,CE28),_xlfn.CONCAT(LEFT(BR27,LEN(BR27)-1),CHAR(CODE(RIGHT(BR27,1))+1)),BR28)) -> 0 | CK28: =BS28 -> Herunder mål for året dere søker om tilskudd og målgruppe for tiltaket | CL28: 0 | CM28: 0 | CN28: 0 | CO28: 0 | CP28: 0 | CQ28: 0 | CR28: 0 | CS28: 0 | CT28: =CF28 -> 4 | DI28: 0 | DJ28: Kompetansetiltak (grunn-, videre- og etterutdanning) | DK28: Fagskoleutdanning | DL28: 2.2c | DM28: Habilitering/rehabilitering | DN28: 0 | DO28: 0 | DP28: 0 | DQ28: 0 | DR28: 0 | DS28: 0 | DT28: 0 | DV28: 3
E29: 0 | F29: 0 | G29: 2.2g | H29: Merknader Nærmere om hvilken annen utdanning Forsøk å skrive mindre enn 100 ord | I29: =IF(H29='Kompetansetilskudd og BPA'!$E$12,4,IF(E29=0,IF(F29=0,IF(G29=0,FALSE,3),2),1)) -> 4 | J29: =IF(I29=1,E29,IF(I29=2,F29,IF(I29=3,G29,IF(I29=4,G29)))) -> 2.2g | K29: =IF(I29=1,F29,IF(I29=2,G29,IF(I29=3,H29,IF(I29=4,H29)))) -> Merknader Nærmere om hvilken annen utdanning Forsøk å skrive mindre enn 100 ord | L29: 3 | M29: 2.3h | N29: Barnevernspedagogikk | O29: 3 | P29: 2.4a | Q29: Psykisk helsearbeid og rusarbeid | R29: ='Forside og oppsummering'!$E$23 -> 0 | S29: =IF(O29=1,P29,S28) -> 2. | T29: =IF(O29=1,Q29,T28) -> Kompetansetiltak (grunn-, videre- og etterutdanning) | U29: =IF(O29=1,"",IF(O29=2,P29,U28)) -> 2.4. | V29: =IF(O29=1,"",IF(O29=2,Q29,V28)) -> Videreutdanning og mastergradutdanning (påbygg bachelorutdanning) | W29: =P29 -> 2.4a | X29: =IF(O29<3,"",IF(O29=3,Q29,X28)) -> Psykisk helsearbeid og rusarbeid | Y29: =IF(O30=4,P30) -> FALSE | Z29: =O29=4 -> FALSE | AA29: =IF(Z29,5,O29) -> 3 | AC29: =IF(AJ29="",FALSE,MATCH(AJ29,$J$3:$J$152,0)) -> 22 | AD29: =IF(AL29=FALSE,"",MATCH(AL29,$J$3:$J$152,0)) | AE29: 0 | AF29: 2. | AG29: Kompetansetiltak (grunn-, videre- og etterutdanning) | AH29: 2.2. | AI29: Fagskoleutdanning | AJ29: 2.2d | AK29: Kreftomsorg/lindrende behandling | AL29: FALSE | AM29: {=IF(AND(NOT($AC29=FALSE),NOT(AM$2=FALSE)),INDEX('Kompetansetilskudd og BPA'!$A$1:$R$148,$AC29,AM$2),"")} -> 0 | AN29: {=IF(AND(NOT($AC29=FALSE),NOT(AN$2=FALSE)),INDEX('Kompetansetilskudd og BPA'!$A$1:$R$148,$AC29,IF($AF29="3.",AN$4,AN$2)),"")} -> 0 | AO29: {=IF(AND(NOT($AC29=FALSE),NOT(AO$2=FALSE)),INDEX('Kompetansetilskudd og BPA'!$A$1:$R$148,$AC29,IF($AF29="3.",AO$4,AO$2)),"")} | AP29: {=IF(AND(NOT($AC29=FALSE),NOT(AP$2=FALSE)),INDEX('Kompetansetilskudd og BPA'!$A$1:$R$148,$AC29,IF($AF29="3.",AP$4,AP$2)),"")} -> 0 | AQ29: {=IF(AND(NOT($AC29=FALSE),NOT(AQ$2=FALSE)),INDEX('Kompetansetilskudd og BPA'!$A$1:$R$148,$AC29,IF($AF29="3.",AQ$4,AQ$2)),"")} -> 0 | AR29: {=IF(AND(NOT($AC29=FALSE),NOT(AR$2=FALSE)),INDEX('Kompetansetilskudd og BPA'!$A$1:$R$148,$AC29,IF($AF29="3.",AR$4,AR$2)),"")} -> 0 | AS29: {=IF(AND(NOT($AC29=FALSE),NOT(AS$2=FALSE)),INDEX('Kompetansetilskudd og BPA'!$A$1:$R$148,$AC29,IF($AF29="3.",AS$4,AS$2)),"")} | AT29: {=IF(AND(NOT($AC29=FALSE),NOT(AT$2=FALSE)),INDEX('Kompetansetilskudd og BPA'!$A$1:$R$148,$AC29,IF($AF29="3.",AT$4,AT$2)),"")} -> 0 | AU29: {=IF(AND(NOT($AC29=FALSE),NOT(AU$2=FALSE)),INDEX('Kompetansetilskudd og BPA'!$A$1:$R$148,$AC29,IF($AF29="3.",AU$4,AU$2)),"")} -> 0 | AV29: {=IF(AND(NOT(AV$2=FALSE),NOT(AD29="")),INDEX('Kompetansetilskudd og BPA'!$A$1:$R$148,$AD29,AV$2),"")} | AW29: 3 | AX29: 0 | AY29: Kompetansetiltak (grunn-, videre- og etterutdanning) | AZ29: Fagskoleutdanning | BA29: 2.2d | BB29: Kreftomsorg/lindrende behandling | BC29: 0 | BD29: 0 | BE29: 0 | BF29: 0 | BG29: 0 | BH29: 0 | BI29: 0 | BK29: 3 | BO29: =BA29<>0 -> TRUE | BQ29: 0 | BR29: P1.3c | BS29: Aktivitets- og fremdriftsplan for året dere søker tilskudd | CA29: 0 | CB29: =BQ29>"" -> FALSE | CC29: =AND(BQ29=0,OR(BR29=0,BS29=0)) -> FALSE | CD29: =$CD$4 -> TRUE | CE29: =IF(CD29,FALSE,NOT(AND(CC29,CB30=FALSE))) -> FALSE | CF29: =IF(LEN(BQ29)=3,1,IF(CB30,5,IF(CB29,2,IF(BS29="Søknad",3,4)))) -> 4 | CG29: ='Forside og oppsummering'!$E$23 -> 0 | CH29: Prosjekt 1 | CI29: =IF(CF29=1,"",IF(CF29=2,BR29,CI28)) -> Prosjektbeskrivelse: Innovasjonsprosjekt 1 | CJ29: =IF(CF29<3,BQ29,IF(AND(BR29=0,CE29),_xlfn.CONCAT(LEFT(BR28,LEN(BR28)-1),CHAR(CODE(RIGHT(BR28,1))+1)),BR29)) -> P1.3c | CK29: =BS29 -> Aktivitets- og fremdriftsplan for året dere søker tilskudd | CL29: 0 | CM29: 0 | CN29: 0 | CO29: 0 | CP29: 0 | CQ29: 0 | CR29: 0 | CS29: 0 | CT29: =CF29 -> 4 | DI29: 0 | DJ29: Kompetansetiltak (grunn-, videre- og etterutdanning) | DK29: Fagskoleutdanning | DL29: 2.2d | DM29: Kreftomsorg/lindrende behandling | DN29: 0 | DO29: 0 | DP29: 0 | DQ29: 0 | DR29: 0 | DS29: 0 | DT29: 0 | DV29: 3
E30: 0 | F30: 0 | G30: 0 | H30: 0 | I30: =IF(H30='Kompetansetilskudd og BPA'!$E$12,4,IF(E30=0,IF(F30=0,IF(G30=0,FALSE,3),2),1)) -> FALSE | J30: =IF(I30=1,E30,IF(I30=2,F30,IF(I30=3,G30,IF(I30=4,G30)))) -> FALSE | K30: =IF(I30=1,F30,IF(I30=2,G30,IF(I30=3,H30,IF(I30=4,H30)))) -> FALSE | L30: 3 | M30: 2.3i | N30: Annen bachelorutdanning | O30: 3 | P30: 2.4b | Q30: Tverrfaglig videreutdanning i psykososialt arbeid med barn og unge | R30: ='Forside og oppsummering'!$E$23 -> 0 | S30: =IF(O30=1,P30,S29) -> 2. | T30: =IF(O30=1,Q30,T29) -> Kompetansetiltak (grunn-, videre- og etterutdanning) | U30: =IF(O30=1,"",IF(O30=2,P30,U29)) -> 2.4. | V30: =IF(O30=1,"",IF(O30=2,Q30,V29)) -> Videreutdanning og mastergradutdanning (påbygg bachelorutdanning) | W30: =P30 -> 2.4b | X30: =IF(O30<3,"",IF(O30=3,Q30,X29)) -> Tverrfaglig videreutdanning i psykososialt arbeid med barn og unge | Y30: =IF(O31=4,P31) -> FALSE | Z30: =O30=4 -> FALSE | AA30: =IF(Z30,5,O30) -> 3 | AC30: =IF(AJ30="",FALSE,MATCH(AJ30,$J$3:$J$152,0)) -> 23 | AD30: =IF(AL30=FALSE,"",MATCH(AL30,$J$3:$J$152,0)) | AE30: 0 | AF30: 2. | AG30: Kompetansetiltak (grunn-, videre- og etterutdanning) | AH30: 2.2. | AI30: Fagskoleutdanning | AJ30: 2.2e | AK30: Veiledning | AL30: FALSE | AM30: {=IF(AND(NOT($AC30=FALSE),NOT(AM$2=FALSE)),INDEX('Kompetansetilskudd og BPA'!$A$1:$R$148,$AC30,AM$2),"")} -> 0 | AN30: {=IF(AND(NOT($AC30=FALSE),NOT(AN$2=FALSE)),INDEX('Kompetansetilskudd og BPA'!$A$1:$R$148,$AC30,IF($AF30="3.",AN$4,AN$2)),"")} -> 0 | AO30: {=IF(AND(NOT($AC30=FALSE),NOT(AO$2=FALSE)),INDEX('Kompetansetilskudd og BPA'!$A$1:$R$148,$AC30,IF($AF30="3.",AO$4,AO$2)),"")} | AP30: {=IF(AND(NOT($AC30=FALSE),NOT(AP$2=FALSE)),INDEX('Kompetansetilskudd og BPA'!$A$1:$R$148,$AC30,IF($AF30="3.",AP$4,AP$2)),"")} -> 0 | AQ30: {=IF(AND(NOT($AC30=FALSE),NOT(AQ$2=FALSE)),INDEX('Kompetansetilskudd og BPA'!$A$1:$R$148,$AC30,IF($AF30="3.",AQ$4,AQ$2)),"")} -> 0 | AR30: {=IF(AND(NOT($AC30=FALSE),NOT(AR$2=FALSE)),INDEX('Kompetansetilskudd og BPA'!$A$1:$R$148,$AC30,IF($AF30="3.",AR$4,AR$2)),"")} -> 0 | AS30: {=IF(AND(NOT($AC30=FALSE),NOT(AS$2=FALSE)),INDEX('Kompetansetilskudd og BPA'!$A$1:$R$148,$AC30,IF($AF30="3.",AS$4,AS$2)),"")} | AT30: {=IF(AND(NOT($AC30=FALSE),NOT(AT$2=FALSE)),INDEX('Kompetansetilskudd og BPA'!$A$1:$R$148,$AC30,IF($AF30="3.",AT$4,AT$2)),"")} -> 0 | AU30: {=IF(AND(NOT($AC30=FALSE),NOT(AU$2=FALSE)),INDEX('Kompetansetilskudd og BPA'!$A$1:$R$148,$AC30,IF($AF30="3.",AU$4,AU$2)),"")} -> 0 | AV30: {=IF(AND(NOT(AV$2=FALSE),NOT(AD30="")),INDEX('Kompetansetilskudd og BPA'!$A$1:$R$148,$AD30,AV$2),"")} | AW30: 3 | AX30: 0 | AY30: Kompetansetiltak (grunn-, videre- og etterutdanning) | AZ30: Fagskoleutdanning | BA30: 2.2e | BB30: Veiledning | BC30: 0 | BD30: 0 | BE30: 0 | BF30: 0 | BG30: 0 | BH30: 0 | BI30: 0 | BK30: 3 | BO30: =BA30<>0 -> TRUE | BQ30: 0 | BR30: 0 | BS30: Sett inn de viktigste aktivitetene for å nå målene for innovasjonsprosjektet og angi gjerne måned for gjennomføring | CA30: 0 | CB30: =BQ30>"" -> FALSE | CC30: =AND(BQ30=0,OR(BR30=0,BS30=0)) -> TRUE | CD30: =$CD$4 -> TRUE | CE30: =IF(CD30,FALSE,NOT(AND(CC30,CB31=FALSE))) -> FALSE | CF30: =IF(LEN(BQ30)=3,1,IF(CB31,5,IF(CB30,2,IF(BS30="Søknad",3,4)))) -> 4 | CG30: ='Forside og oppsummering'!$E$23 -> 0 | CH30: Prosjekt 1 | CI30: =IF(CF30=1,"",IF(CF30=2,BR30,CI29)) -> Prosjektbeskrivelse: Innovasjonsprosjekt 1 | CJ30: =IF(CF30<3,BQ30,IF(AND(BR30=0,CE30),_xlfn.CONCAT(LEFT(BR29,LEN(BR29)-1),CHAR(CODE(RIGHT(BR29,1))+1)),BR30)) -> 0 | CK30: =BS30 -> Sett inn de viktigste aktivitetene for å nå målene for innovasjonsprosjektet og angi gjerne måned for gjennomføring | CL30: 0 | CM30: 0 | CN30: 0 | CO30: 0 | CP30: 0 | CQ30: 0 | CR30: 0 | CS30: 0 | CT30: =CF30 -> 4 | DI30: 0 | DJ30: Kompetansetiltak (grunn-, videre- og etterutdanning) | DK30: Fagskoleutdanning | DL30: 2.2e | DM30: Veiledning | DN30: 0 | DO30: 0 | DP30: 0 | DQ30: 0 | DR30: 0 | DS30: 0 | DT30: 0 | DV30: 3
E31: 0 | F31: 2.3. | G31: Bachelorutdanning helse- og sosialfag | H31: 0 | I31: =IF(H31='Kompetansetilskudd og BPA'!$E$12,4,IF(E31=0,IF(F31=0,IF(G31=0,FALSE,3),2),1)) -> 2 | J31: =IF(I31=1,E31,IF(I31=2,F31,IF(I31=3,G31,IF(I31=4,G31)))) -> 2.3. | K31: =IF(I31=1,F31,IF(I31=2,G31,IF(I31=3,H31,IF(I31=4,H31)))) -> Bachelorutdanning helse- og sosialfag | L31: 4 | M31: 2.3j | N31: Merknader Nærmere om hvilken annen utdanning Forsøk å skrive mindre enn 100 ord | O31: 3 | P31: 2.4c | Q31: Eldreomsorg/demens | R31: ='Forside og oppsummering'!$E$23 -> 0 | S31: =IF(O31=1,P31,S30) -> 2. | T31: =IF(O31=1,Q31,T30) -> Kompetansetiltak (grunn-, videre- og etterutdanning) | U31: =IF(O31=1,"",IF(O31=2,P31,U30)) -> 2.4. | V31: =IF(O31=1,"",IF(O31=2,Q31,V30)) -> Videreutdanning og mastergradutdanning (påbygg bachelorutdanning) | W31: =P31 -> 2.4c | X31: =IF(O31<3,"",IF(O31=3,Q31,X30)) -> Eldreomsorg/demens | Y31: =IF(O32=4,P32) -> FALSE | Z31: =O31=4 -> FALSE | AA31: =IF(Z31,5,O31) -> 3 | AC31: =IF(AJ31="",FALSE,MATCH(AJ31,$J$3:$J$152,0)) -> 24 | AD31: =IF(AL31=FALSE,"",MATCH(AL31,$J$3:$J$152,0)) -> 27 | AE31: 0 | AF31: 2. | AG31: Kompetansetiltak (grunn-, videre- og etterutdanning) | AH31: 2.2. | AI31: Fagskoleutdanning | AJ31: 2.2f | AK31: Annen fagskoleutdanning | AL31: 2.2g | AM31: {=IF(AND(NOT($AC31=FALSE),NOT(AM$2=FALSE)),INDEX('Kompetansetilskudd og BPA'!$A$1:$R$148,$AC31,AM$2),"")} -> 0 | AN31: {=IF(AND(NOT($AC31=FALSE),NOT(AN$2=FALSE)),INDEX('Kompetansetilskudd og BPA'!$A$1:$R$148,$AC31,IF($AF31="3.",AN$4,AN$2)),"")} -> 0 | AO31: {=IF(AND(NOT($AC31=FALSE),NOT(AO$2=FALSE)),INDEX('Kompetansetilskudd og BPA'!$A$1:$R$148,$AC31,IF($AF31="3.",AO$4,AO$2)),"")} | AP31: {=IF(AND(NOT($AC31=FALSE),NOT(AP$2=FALSE)),INDEX('Kompetansetilskudd og BPA'!$A$1:$R$148,$AC31,IF($AF31="3.",AP$4,AP$2)),"")} -> 0 | AQ31: {=IF(AND(NOT($AC31=FALSE),NOT(AQ$2=FALSE)),INDEX('Kompetansetilskudd og BPA'!$A$1:$R$148,$AC31,IF($AF31="3.",AQ$4,AQ$2)),"")} -> 0 | AR31: {=IF(AND(NOT($AC31=FALSE),NOT(AR$2=FALSE)),INDEX('Kompetansetilskudd og BPA'!$A$1:$R$148,$AC31,IF($AF31="3.",AR$4,AR$2)),"")} -> 0 | AS31: {=IF(AND(NOT($AC31=FALSE),NOT(AS$2=FALSE)),INDEX('Kompetansetilskudd og BPA'!$A$1:$R$148,$AC31,IF($AF31="3.",AS$4,AS$2)),"")} | AT31: {=IF(AND(NOT($AC31=FALSE),NOT(AT$2=FALSE)),INDEX('Kompetansetilskudd og BPA'!$A$1:$R$148,$AC31,IF($AF31="3.",AT$4,AT$2)),"")} -> 0 | AU31: {=IF(AND(NOT($AC31=FALSE),NOT(AU$2=FALSE)),INDEX('Kompetansetilskudd og BPA'!$A$1:$R$148,$AC31,IF($AF31="3.",AU$4,AU$2)),"")} -> 0 | AV31: {=IF(AND(NOT(AV$2=FALSE),NOT(AD31="")),INDEX('Kompetansetilskudd og BPA'!$A$1:$R$148,$AD31,AV$2),"")} -> 0 | AW31: 3 | AX31: 0 | AY31: Kompetansetiltak (grunn-, videre- og etterutdanning) | AZ31: Fagskoleutdanning | BA31: 2.2f | BB31: Annen fagskoleutdanning | BC31: 0 | BD31: 0 | BE31: 0 | BF31: 0 | BG31: 0 | BH31: 0 | BI31: 0 | BJ31: 0 | BK31: 3 | BO31: =BA31<>0 -> TRUE | BQ31: 0 | BR31: P1.3d | BS31: Metoder kunnskap eller erfaring | CA31: 0 | CB31: =BQ31>"" -> FALSE | CC31: =AND(BQ31=0,OR(BR31=0,BS31=0)) -> FALSE | CD31: =$CD$4 -> TRUE | CE31: =IF(CD31,FALSE,NOT(AND(CC31,CB32=FALSE))) -> FALSE | CF31: =IF(LEN(BQ31)=3,1,IF(CB32,5,IF(CB31,2,IF(BS31="Søknad",3,4)))) -> 4 | CG31: ='Forside og oppsummering'!$E$23 -> 0 | CH31: Prosjekt 1 | CI31: =IF(CF31=1,"",IF(CF31=2,BR31,CI30)) -> Prosjektbeskrivelse: Innovasjonsprosjekt 1 | CJ31: =IF(CF31<3,BQ31,IF(AND(BR31=0,CE31),_xlfn.CONCAT(LEFT(BR30,LEN(BR30)-1),CHAR(CODE(RIGHT(BR30,1))+1)),BR31)) -> P1.3d | CK31: =BS31 -> Metoder kunnskap eller erfaring | CL31: 0 | CM31: 0 | CN31: 0 | CO31: 0 | CP31: 0 | CQ31: 0 | CR31: 0 | CS31: 0 | CT31: =CF31 -> 4 | DI31: 0 | DJ31: Kompetansetiltak (grunn-, videre- og etterutdanning) | DK31: Fagskoleutdanning | DL31: 2.2f | DM31: Annen fagskoleutdanning | DN31: 0 | DO31: 0 | DP31: 0 | DQ31: 0 | DR31: 0 | DS31: 0 | DT31: 0 | DU31: 0 | DV31: 3
E32: 0 | F32: 0 | G32: 0 | H32: 0 | I32: =IF(H32='Kompetansetilskudd og BPA'!$E$12,4,IF(E32=0,IF(F32=0,IF(G32=0,FALSE,3),2),1)) -> FALSE | J32: =IF(I32=1,E32,IF(I32=2,F32,IF(I32=3,G32,IF(I32=4,G32)))) -> FALSE | K32: =IF(I32=1,F32,IF(I32=2,G32,IF(I32=3,H32,IF(I32=4,H32)))) -> FALSE | L32: 3 | N32: 0 | O32: 3 | P32: 2.4d | Q32: Kreftomsorg/lindrende pleie | R32: ='Forside og oppsummering'!$E$23 -> 0 | S32: =IF(O32=1,P32,S31) -> 2. | T32: =IF(O32=1,Q32,T31) -> Kompetansetiltak (grunn-, videre- og etterutdanning) | U32: =IF(O32=1,"",IF(O32=2,P32,U31)) -> 2.4. | V32: =IF(O32=1,"",IF(O32=2,Q32,V31)) -> Videreutdanning og mastergradutdanning (påbygg bachelorutdanning) | W32: =P32 -> 2.4d | X32: =IF(O32<3,"",IF(O32=3,Q32,X31)) -> Kreftomsorg/lindrende pleie | Y32: =IF(O33=4,P33) -> FALSE | Z32: =O32=4 -> FALSE | AA32: =IF(Z32,5,O32) -> 3 | AC32: =IF(AJ32="",FALSE,MATCH(AJ32,$J$3:$J$152,0)) -> 27 | AD32: =IF(AL32=FALSE,"",MATCH(AL32,$J$3:$J$152,0)) | AE32: 0 | AF32: 2. | AG32: Kompetansetiltak (grunn-, videre- og etterutdanning) | AH32: 2.2. | AI32: Fagskoleutdanning | AJ32: 2.2g | AK32: Annen fagskoleutdanning | AL32: FALSE | AM32: {=IF(AND(NOT($AC32=FALSE),NOT(AM$2=FALSE)),INDEX('Kompetansetilskudd og BPA'!$A$1:$R$148,$AC32,AM$2),"")} -> 0 | AN32: {=IF(AND(NOT($AC32=FALSE),NOT(AN$2=FALSE)),INDEX('Kompetansetilskudd og BPA'!$A$1:$R$148,$AC32,IF($AF32="3.",AN$4,AN$2)),"")} -> 0 | AO32: {=IF(AND(NOT($AC32=FALSE),NOT(AO$2=FALSE)),INDEX('Kompetansetilskudd og BPA'!$A$1:$R$148,$AC32,IF($AF32="3.",AO$4,AO$2)),"")} | AP32: {=IF(AND(NOT($AC32=FALSE),NOT(AP$2=FALSE)),INDEX('Kompetansetilskudd og BPA'!$A$1:$R$148,$AC32,IF($AF32="3.",AP$4,AP$2)),"")} -> 0 | AQ32: {=IF(AND(NOT($AC32=FALSE),NOT(AQ$2=FALSE)),INDEX('Kompetansetilskudd og BPA'!$A$1:$R$148,$AC32,IF($AF32="3.",AQ$4,AQ$2)),"")} -> 0 | AR32: {=IF(AND(NOT($AC32=FALSE),NOT(AR$2=FALSE)),INDEX('Kompetansetilskudd og BPA'!$A$1:$R$148,$AC32,IF($AF32="3.",AR$4,AR$2)),"")} -> 0 | AS32: {=IF(AND(NOT($AC32=FALSE),NOT(AS$2=FALSE)),INDEX('Kompetansetilskudd og BPA'!$A$1:$R$148,$AC32,IF($AF32="3.",AS$4,AS$2)),"")} | AT32: {=IF(AND(NOT($AC32=FALSE),NOT(AT$2=FALSE)),INDEX('Kompetansetilskudd og BPA'!$A$1:$R$148,$AC32,IF($AF32="3.",AT$4,AT$2)),"")} -> 0 | AU32: {=IF(AND(NOT($AC32=FALSE),NOT(AU$2=FALSE)),INDEX('Kompetansetilskudd og BPA'!$A$1:$R$148,$AC32,IF($AF32="3.",AU$4,AU$2)),"")} -> 0 | AV32: {=IF(AND(NOT(AV$2=FALSE),NOT(AD32="")),INDEX('Kompetansetilskudd og BPA'!$A$1:$R$148,$AD32,AV$2),"")} | AW32: 5 | AX32: 0 | AY32: Kompetansetiltak (grunn-, videre- og etterutdanning) | AZ32: Fagskoleutdanning | BA32: 2.2g | BB32: Annen fagskoleutdanning | BC32: 0 | BD32: 0 | BE32: 0 | BF32: 0 | BG32: 0 | BH32: 0 | BI32: 0 | BK32: 5 | BO32: =BA32<>0 -> TRUE | BQ32: 0 | BR32: 0 | BS32: Beskriv hvilke teorier / faglige metoder dere benytter i innovasjonsprosjektet eller hvilken kunnskap/erfaring dere bygger på. Herunder metoder for brukermedvirkning | CA32: 0 | CB32: =BQ32>"" -> FALSE | CC32: =AND(BQ32=0,OR(BR32=0,BS32=0)) -> TRUE | CD32: =$CD$4 -> TRUE | CE32: =IF(CD32,FALSE,NOT(AND(CC32,CB33=FALSE))) -> FALSE | CF32: =IF(LEN(BQ32)=3,1,IF(CB33,5,IF(CB32,2,IF(BS32="Søknad",3,4)))) -> 4 | CG32: ='Forside og oppsummering'!$E$23 -> 0 | CH32: Prosjekt 1 | CI32: =IF(CF32=1,"",IF(CF32=2,BR32,CI31)) -> Prosjektbeskrivelse: Innovasjonsprosjekt 1 | CJ32: =IF(CF32<3,BQ32,IF(AND(BR32=0,CE32),_xlfn.CONCAT(LEFT(BR31,LEN(BR31)-1),CHAR(CODE(RIGHT(BR31,1))+1)),BR32)) -> 0 | CK32: =BS32 -> Beskriv hvilke teorier / faglige metoder dere benytter i innovasjonsprosjektet eller hvilken kunnskap/erfaring dere bygger på. Herunder metoder for brukermedvirkning | CL32: 0 | CM32: 0 | CN32: 0 | CO32: 0 | CP32: 0 | CQ32: 0 | CR32: 0 | CS32: 0 | CT32: =CF32 -> 4 | DI32: 0 | DJ32: Kompetansetiltak (grunn-, videre- og etterutdanning) | DK32: Fagskoleutdanning | DL32: 2.2g | DM32: Annen fagskoleutdanning | DN32: 0 | DO32: 0 | DP32: 0 | DQ32: 0 | DR32: 0 | DS32: 0 | DT32: 0 | DV32: 5
E33: 0 | F33: 0 | G33: 0 | H33: 0 | I33: =IF(H33='Kompetansetilskudd og BPA'!$E$12,4,IF(E33=0,IF(F33=0,IF(G33=0,FALSE,3),2),1)) -> FALSE | J33: =IF(I33=1,E33,IF(I33=2,F33,IF(I33=3,G33,IF(I33=4,G33)))) -> FALSE | K33: =IF(I33=1,F33,IF(I33=2,G33,IF(I33=3,H33,IF(I33=4,H33)))) -> FALSE | L33: 2 | M33: 2.4. | N33: Videreutdanning og mastergradutdanning (påbygg bachelorutdanning) | O33: 3 | P33: 2.4e | Q33: Habilitering/rehabilitering | R33: ='Forside og oppsummering'!$E$23 -> 0 | S33: =IF(O33=1,P33,S32) -> 2. | T33: =IF(O33=1,Q33,T32) -> Kompetansetiltak (grunn-, videre- og etterutdanning) | U33: =IF(O33=1,"",IF(O33=2,P33,U32)) -> 2.4. | V33: =IF(O33=1,"",IF(O33=2,Q33,V32)) -> Videreutdanning og mastergradutdanning (påbygg bachelorutdanning) | W33: =P33 -> 2.4e | X33: =IF(O33<3,"",IF(O33=3,Q33,X32)) -> Habilitering/rehabilitering | Y33: =IF(O34=4,P34) -> FALSE | Z33: =O33=4 -> FALSE | AA33: =IF(Z33,5,O33) -> 3 | AC33: =IF(AJ33="",FALSE,MATCH(AJ33,$J$3:$J$152,0)) -> 29 | AD33: =IF(AL33=FALSE,"",MATCH(AL33,$J$3:$J$152,0)) | AE33: 0 | AF33: 2. | AG33: Kompetansetiltak (grunn-, videre- og etterutdanning) | AH33: 2.3. | AI33: Bachelorutdanning helse- og sosialfag | AJ33: 2.3. | AL33: FALSE | AM33: {=IF(AND(NOT($AC33=FALSE),NOT(AM$2=FALSE)),INDEX('Kompetansetilskudd og BPA'!$A$1:$R$148,$AC33,AM$2),"")} -> 0 | AN33: {=IF(AND(NOT($AC33=FALSE),NOT(AN$2=FALSE)),INDEX('Kompetansetilskudd og BPA'!$A$1:$R$148,$AC33,IF($AF33="3.",AN$4,AN$2)),"")} -> 0 | AO33: {=IF(AND(NOT($AC33=FALSE),NOT(AO$2=FALSE)),INDEX('Kompetansetilskudd og BPA'!$A$1:$R$148,$AC33,IF($AF33="3.",AO$4,AO$2)),"")} | AP33: {=IF(AND(NOT($AC33=FALSE),NOT(AP$2=FALSE)),INDEX('Kompetansetilskudd og BPA'!$A$1:$R$148,$AC33,IF($AF33="3.",AP$4,AP$2)),"")} -> 0 | AQ33: {=IF(AND(NOT($AC33=FALSE),NOT(AQ$2=FALSE)),INDEX('Kompetansetilskudd og BPA'!$A$1:$R$148,$AC33,IF($AF33="3.",AQ$4,AQ$2)),"")} -> 0 | AR33: {=IF(AND(NOT($AC33=FALSE),NOT(AR$2=FALSE)),INDEX('Kompetansetilskudd og BPA'!$A$1:$R$148,$AC33,IF($AF33="3.",AR$4,AR$2)),"")} -> 0 | AS33: {=IF(AND(NOT($AC33=FALSE),NOT(AS$2=FALSE)),INDEX('Kompetansetilskudd og BPA'!$A$1:$R$148,$AC33,IF($AF33="3.",AS$4,AS$2)),"")} | AT33: {=IF(AND(NOT($AC33=FALSE),NOT(AT$2=FALSE)),INDEX('Kompetansetilskudd og BPA'!$A$1:$R$148,$AC33,IF($AF33="3.",AT$4,AT$2)),"")} -> 0 | AU33: {=IF(AND(NOT($AC33=FALSE),NOT(AU$2=FALSE)),INDEX('Kompetansetilskudd og BPA'!$A$1:$R$148,$AC33,IF($AF33="3.",AU$4,AU$2)),"")} -> 0 | AV33: {=IF(AND(NOT(AV$2=FALSE),NOT(AD33="")),INDEX('Kompetansetilskudd og BPA'!$A$1:$R$148,$AD33,AV$2),"")} | AW33: 2 | AX33: 0 | AY33: Kompetansetiltak (grunn-, videre- og etterutdanning) | AZ33: Bachelorutdanning helse- og sosialfag | BA33: 2.3. | BC33: 0 | BD33: 0 | BE33: 0 | BF33: 0 | BG33: 0 | BH33: 0 | BI33: 0 | BK33: 2 | BO33: =BA33<>0 -> TRUE | BQ33: 0 | BR33: P1.3e | BS33: Gevinster og effekter | CA33: 0 | CB33: =BQ33>"" -> FALSE | CC33: =AND(BQ33=0,OR(BR33=0,BS33=0)) -> FALSE | CD33: =$CD$4 -> TRUE | CE33: =IF(CD33,FALSE,NOT(AND(CC33,CB34=FALSE))) -> FALSE | CF33: =IF(LEN(BQ33)=3,1,IF(CB34,5,IF(CB33,2,IF(BS33="Søknad",3,4)))) -> 4 | CG33: ='Forside og oppsummering'!$E$23 -> 0 | CH33: Prosjekt 1 | CI33: =IF(CF33=1,"",IF(CF33=2,BR33,CI32)) -> Prosjektbeskrivelse: Innovasjonsprosjekt 1 | CJ33: =IF(CF33<3,BQ33,IF(AND(BR33=0,CE33),_xlfn.CONCAT(LEFT(BR32,LEN(BR32)-1),CHAR(CODE(RIGHT(BR32,1))+1)),BR33)) -> P1.3e | CK33: =BS33 -> Gevinster og effekter | CL33: 0 | CM33: 0 | CN33: 0 | CO33: 0 | CP33: 0 | CQ33: 0 | CR33: 0 | CS33: 0 | CT33: =CF33 -> 4 | DI33: 0 | DJ33: Kompetansetiltak (grunn-, videre- og etterutdanning) | DK33: Bachelorutdanning helse- og sosialfag | DL33: 2.3. | DN33: 0 | DO33: 0 | DP33: 0 | DQ33: 0 | DR33: 0 | DS33: 0 | DT33: 0 | DV33: 2
E34: 0 | F34: 0 | H34: 0 | I34: =IF(H34='Kompetansetilskudd og BPA'!$E$12,4,IF(E34=0,IF(F34=0,IF(G34=0,FALSE,3),2),1)) -> 3 | J34: =IF(I34=1,E34,IF(I34=2,F34,IF(I34=3,G34,IF(I34=4,G34)))) | K34: =IF(I34=1,F34,IF(I34=2,G34,IF(I34=3,H34,IF(I34=4,H34)))) -> 0 | L34: 3 | N34: 0 | O34: 3 | P34: 2.4f | Q34: Veiledning | R34: ='Forside og oppsummering'!$E$23 -> 0 | S34: =IF(O34=1,P34,S33) -> 2. | T34: =IF(O34=1,Q34,T33) -> Kompetansetiltak (grunn-, videre- og etterutdanning) | U34: =IF(O34=1,"",IF(O34=2,P34,U33)) -> 2.4. | V34: =IF(O34=1,"",IF(O34=2,Q34,V33)) -> Videreutdanning og mastergradutdanning (påbygg bachelorutdanning) | W34: =P34 -> 2.4f | X34: =IF(O34<3,"",IF(O34=3,Q34,X33)) -> Veiledning | Y34: =IF(O35=4,P35) -> FALSE | Z34: =O34=4 -> FALSE | AA34: =IF(Z34,5,O34) -> 3 | AC34: =IF(AJ34="",FALSE,MATCH(AJ34,$J$3:$J$152,0)) -> 34 | AD34: =IF(AL34=FALSE,"",MATCH(AL34,$J$3:$J$152,0)) | AE34: 0 | AF34: 2. | AG34: Kompetansetiltak (grunn-, videre- og etterutdanning) | AH34: 2.3. | AI34: Bachelorutdanning helse- og sosialfag | AJ34: 2.3a | AK34: Sykepleie | AL34: FALSE | AM34: {=IF(AND(NOT($AC34=FALSE),NOT(AM$2=FALSE)),INDEX('Kompetansetilskudd og BPA'!$A$1:$R$148,$AC34,AM$2),"")} -> 0 | AN34: {=IF(AND(NOT($AC34=FALSE),NOT(AN$2=FALSE)),INDEX('Kompetansetilskudd og BPA'!$A$1:$R$148,$AC34,IF($AF34="3.",AN$4,AN$2)),"")} -> 0 | AO34: {=IF(AND(NOT($AC34=FALSE),NOT(AO$2=FALSE)),INDEX('Kompetansetilskudd og BPA'!$A$1:$R$148,$AC34,IF($AF34="3.",AO$4,AO$2)),"")} | AP34: {=IF(AND(NOT($AC34=FALSE),NOT(AP$2=FALSE)),INDEX('Kompetansetilskudd og BPA'!$A$1:$R$148,$AC34,IF($AF34="3.",AP$4,AP$2)),"")} -> 0 | AQ34: {=IF(AND(NOT($AC34=FALSE),NOT(AQ$2=FALSE)),INDEX('Kompetansetilskudd og BPA'!$A$1:$R$148,$AC34,IF($AF34="3.",AQ$4,AQ$2)),"")} -> 0 | AR34: {=IF(AND(NOT($AC34=FALSE),NOT(AR$2=FALSE)),INDEX('Kompetansetilskudd og BPA'!$A$1:$R$148,$AC34,IF($AF34="3.",AR$4,AR$2)),"")} -> 0 | AS34: {=IF(AND(NOT($AC34=FALSE),NOT(AS$2=FALSE)),INDEX('Kompetansetilskudd og BPA'!$A$1:$R$148,$AC34,IF($AF34="3.",AS$4,AS$2)),"")} | AT34: {=IF(AND(NOT($AC34=FALSE),NOT(AT$2=FALSE)),INDEX('Kompetansetilskudd og BPA'!$A$1:$R$148,$AC34,IF($AF34="3.",AT$4,AT$2)),"")} -> 0 | AU34: {=IF(AND(NOT($AC34=FALSE),NOT(AU$2=FALSE)),INDEX('Kompetansetilskudd og BPA'!$A$1:$R$148,$AC34,IF($AF34="3.",AU$4,AU$2)),"")} -> 0 | AV34: {=IF(AND(NOT(AV$2=FALSE),NOT(AD34="")),INDEX('Kompetansetilskudd og BPA'!$A$1:$R$148,$AD34,AV$2),"")} | AW34: 3 | AX34: 0 | AY34: Kompetansetiltak (grunn-, videre- og etterutdanning) | AZ34: Bachelorutdanning helse- og sosialfag | BA34: 2.3a | BB34: Sykepleie | BC34: 0 | BD34: 0 | BE34: 0 | BF34: 0 | BG34: 0 | BH34: 0 | BI34: 0 | BK34: 3 | BO34: =BA34<>0 -> TRUE | BQ34: 0 | BR34: 0 | BS34: Hvilke konkrete gevinster/effekter forventes tiltaket å gi, hvilken betydning kan det få for omlegging av praksis | CA34: 0 | CB34: =BQ34>"" -> FALSE | CC34: =AND(BQ34=0,OR(BR34=0,BS34=0)) -> TRUE | CD34: =$CD$4 -> TRUE | CE34: =IF(CD34,FALSE,NOT(AND(CC34,CB35=FALSE))) -> FALSE | CF34: =IF(LEN(BQ34)=3,1,IF(CB35,5,IF(CB34,2,IF(BS34="Søknad",3,4)))) -> 4 | CG34: ='Forside og oppsummering'!$E$23 -> 0 | CH34: Prosjekt 1 | CI34: =IF(CF34=1,"",IF(CF34=2,BR34,CI33)) -> Prosjektbeskrivelse: Innovasjonsprosjekt 1 | CJ34: =IF(CF34<3,BQ34,IF(AND(BR34=0,CE34),_xlfn.CONCAT(LEFT(BR33,LEN(BR33)-1),CHAR(CODE(RIGHT(BR33,1))+1)),BR34)) -> 0 | CK34: =BS34 -> Hvilke konkrete gevinster/effekter forventes tiltaket å gi, hvilken betydning kan det få for omlegging av praksis | CL34: 0 | CM34: 0 | CN34: 0 | CO34: 0 | CP34: 0 | CQ34: 0 | CR34: 0 | CS34: 0 | CT34: =CF34 -> 4 | DI34: 0 | DJ34: Kompetansetiltak (grunn-, videre- og etterutdanning) | DK34: Bachelorutdanning helse- og sosialfag | DL34: 2.3a | DM34: Sykepleie | DN34: 0 | DO34: 0 | DP34: 0 | DQ34: 0 | DR34: 0 | DS34: 0 | DT34: 0 | DV34: 3
E35: 0 | F35: 0 | G35: 0 | H35: Utdanningstype | I35: =IF(H35='Kompetansetilskudd og BPA'!$E$12,4,IF(E35=0,IF(F35=0,IF(G35=0,FALSE,3),2),1)) -> FALSE | J35: =IF(I35=1,E35,IF(I35=2,F35,IF(I35=3,G35,IF(I35=4,G35)))) -> FALSE | K35: =IF(I35=1,F35,IF(I35=2,G35,IF(I35=3,H35,IF(I35=4,H35)))) -> FALSE | L35: 3 | M35: 2.4a | N35: Psykisk helsearbeid og rusarbeid | O35: 3 | P35: 2.4g | Q35: Lederutdanning | R35: ='Forside og oppsummering'!$E$23 -> 0 | S35: =IF(O35=1,P35,S34) -> 2. | T35: =IF(O35=1,Q35,T34) -> Kompetansetiltak (grunn-, videre- og etterutdanning) | U35: =IF(O35=1,"",IF(O35=2,P35,U34)) -> 2.4. | V35: =IF(O35=1,"",IF(O35=2,Q35,V34)) -> Videreutdanning og mastergradutdanning (påbygg bachelorutdanning) | W35: =P35 -> 2.4g | X35: =IF(O35<3,"",IF(O35=3,Q35,X34)) -> Lederutdanning | Y35: =IF(O36=4,P36) -> FALSE | Z35: =O35=4 -> FALSE | AA35: =IF(Z35,5,O35) -> 3 | AC35: =IF(AJ35="",FALSE,MATCH(AJ35,$J$3:$J$152,0)) -> 35 | AD35: =IF(AL35=FALSE,"",MATCH(AL35,$J$3:$J$152,0)) | AE35: 0 | AF35: 2. | AG35: Kompetansetiltak (grunn-, videre- og etterutdanning) | AH35: 2.3. | AI35: Bachelorutdanning helse- og sosialfag | AJ35: 2.3b | AK35: Desentralisert sykepleie | AL35: FALSE | AM35: {=IF(AND(NOT($AC35=FALSE),NOT(AM$2=FALSE)),INDEX('Kompetansetilskudd og BPA'!$A$1:$R$148,$AC35,AM$2),"")} -> 0 | AN35: {=IF(AND(NOT($AC35=FALSE),NOT(AN$2=FALSE)),INDEX('Kompetansetilskudd og BPA'!$A$1:$R$148,$AC35,IF($AF35="3.",AN$4,AN$2)),"")} -> 0 | AO35: {=IF(AND(NOT($AC35=FALSE),NOT(AO$2=FALSE)),INDEX('Kompetansetilskudd og BPA'!$A$1:$R$148,$AC35,IF($AF35="3.",AO$4,AO$2)),"")} | AP35: {=IF(AND(NOT($AC35=FALSE),NOT(AP$2=FALSE)),INDEX('Kompetansetilskudd og BPA'!$A$1:$R$148,$AC35,IF($AF35="3.",AP$4,AP$2)),"")} -> 0 | AQ35: {=IF(AND(NOT($AC35=FALSE),NOT(AQ$2=FALSE)),INDEX('Kompetansetilskudd og BPA'!$A$1:$R$148,$AC35,IF($AF35="3.",AQ$4,AQ$2)),"")} -> 0 | AR35: {=IF(AND(NOT($AC35=FALSE),NOT(AR$2=FALSE)),INDEX('Kompetansetilskudd og BPA'!$A$1:$R$148,$AC35,IF($AF35="3.",AR$4,AR$2)),"")} -> 0 | AS35: {=IF(AND(NOT($AC35=FALSE),NOT(AS$2=FALSE)),INDEX('Kompetansetilskudd og BPA'!$A$1:$R$148,$AC35,IF($AF35="3.",AS$4,AS$2)),"")} | AT35: {=IF(AND(NOT($AC35=FALSE),NOT(AT$2=FALSE)),INDEX('Kompetansetilskudd og BPA'!$A$1:$R$148,$AC35,IF($AF35="3.",AT$4,AT$2)),"")} -> 0 | AU35: {=IF(AND(NOT($AC35=FALSE),NOT(AU$2=FALSE)),INDEX('Kompetansetilskudd og BPA'!$A$1:$R$148,$AC35,IF($AF35="3.",AU$4,AU$2)),"")} -> 0 | AV35: {=IF(AND(NOT(AV$2=FALSE),NOT(AD35="")),INDEX('Kompetansetilskudd og BPA'!$A$1:$R$148,$AD35,AV$2),"")} | AW35: 3 | AX35: 0 | AY35: Kompetansetiltak (grunn-, videre- og etterutdanning) | AZ35: Bachelorutdanning helse- og sosialfag | BA35: 2.3b | BB35: Desentralisert sykepleie | BC35: 0 | BD35: 0 | BE35: 0 | BF35: 0 | BG35: 0 | BH35: 0 | BI35: 0 | BK35: 3 | BO35: =BA35<>0 -> TRUE | BQ35: 0 | BR35: P1.3f | BS35: Risikofaktorer | CA35: 0 | CB35: =BQ35>"" -> FALSE | CC35: =AND(BQ35=0,OR(BR35=0,BS35=0)) -> FALSE | CD35: =$CD$4 -> TRUE | CE35: =IF(CD35,FALSE,NOT(AND(CC35,CB36=FALSE))) -> FALSE | CF35: =IF(LEN(BQ35)=3,1,IF(CB36,5,IF(CB35,2,IF(BS35="Søknad",3,4)))) -> 4 | CG35: ='Forside og oppsummering'!$E$23 -> 0 | CH35: Prosjekt 1 | CI35: =IF(CF35=1,"",IF(CF35=2,BR35,CI34)) -> Prosjektbeskrivelse: Innovasjonsprosjekt 1 | CJ35: =IF(CF35<3,BQ35,IF(AND(BR35=0,CE35),_xlfn.CONCAT(LEFT(BR34,LEN(BR34)-1),CHAR(CODE(RIGHT(BR34,1))+1)),BR35)) -> P1.3f | CK35: =BS35 -> Risikofaktorer | CL35: 0 | CM35: 0 | CN35: 0 | CO35: 0 | CP35: 0 | CQ35: 0 | CR35: 0 | CS35: 0 | CT35: =CF35 -> 4 | DI35: 0 | DJ35: Kompetansetiltak (grunn-, videre- og etterutdanning) | DK35: Bachelorutdanning helse- og sosialfag | DL35: 2.3b | DM35: Desentralisert sykepleie | DN35: 0 | DO35: 0 | DP35: 0 | DQ35: 0 | DR35: 0 | DS35: 0 | DT35: 0 | DV35: 3
E36: 0 | F36: 0 | G36: 2.3a | H36: Sykepleie | I36: =IF(H36='Kompetansetilskudd og BPA'!$E$12,4,IF(E36=0,IF(F36=0,IF(G36=0,FALSE,3),2),1)) -> 3 | J36: =IF(I36=1,E36,IF(I36=2,F36,IF(I36=3,G36,IF(I36=4,G36)))) -> 2.3a | K36: =IF(I36=1,F36,IF(I36=2,G36,IF(I36=3,H36,IF(I36=4,H36)))) -> Sykepleie | L36: 3 | M36: 2.4b | N36: Tverrfaglig videreutdanning i psykososialt arbeid med barn og unge | O36: 3 | P36: 2.4h | Q36: Annen videreutdanning og/eller masterutdanning | R36: ='Forside og oppsummering'!$E$23 -> 0 | S36: =IF(O36=1,P36,S35) -> 2. | T36: =IF(O36=1,Q36,T35) -> Kompetansetiltak (grunn-, videre- og etterutdanning) | U36: =IF(O36=1,"",IF(O36=2,P36,U35)) -> 2.4. | V36: =IF(O36=1,"",IF(O36=2,Q36,V35)) -> Videreutdanning og mastergradutdanning (påbygg bachelorutdanning) | W36: =P36 -> 2.4h | X36: =IF(O36<3,"",IF(O36=3,Q36,X35)) -> Annen videreutdanning og/eller masterutdanning | Y36: =IF(O37=4,P37) -> 2.4i | Z36: =O36=4 -> FALSE | AA36: =IF(Z36,5,O36) -> 3 | AC36: =IF(AJ36="",FALSE,MATCH(AJ36,$J$3:$J$152,0)) -> 36 | AD36: =IF(AL36=FALSE,"",MATCH(AL36,$J$3:$J$152,0)) | AE36: 0 | AF36: 2. | AG36: Kompetansetiltak (grunn-, videre- og etterutdanning) | AH36: 2.3. | AI36: Bachelorutdanning helse- og sosialfag | AJ36: 2.3c | AK36: Vernepleie | AL36: FALSE | AM36: {=IF(AND(NOT($AC36=FALSE),NOT(AM$2=FALSE)),INDEX('Kompetansetilskudd og BPA'!$A$1:$R$148,$AC36,AM$2),"")} -> 0 | AN36: {=IF(AND(NOT($AC36=FALSE),NOT(AN$2=FALSE)),INDEX('Kompetansetilskudd og BPA'!$A$1:$R$148,$AC36,IF($AF36="3.",AN$4,AN$2)),"")} -> 0 | AO36: {=IF(AND(NOT($AC36=FALSE),NOT(AO$2=FALSE)),INDEX('Kompetansetilskudd og BPA'!$A$1:$R$148,$AC36,IF($AF36="3.",AO$4,AO$2)),"")} | AP36: {=IF(AND(NOT($AC36=FALSE),NOT(AP$2=FALSE)),INDEX('Kompetansetilskudd og BPA'!$A$1:$R$148,$AC36,IF($AF36="3.",AP$4,AP$2)),"")} -> 0 | AQ36: {=IF(AND(NOT($AC36=FALSE),NOT(AQ$2=FALSE)),INDEX('Kompetansetilskudd og BPA'!$A$1:$R$148,$AC36,IF($AF36="3.",AQ$4,AQ$2)),"")} -> 0 | AR36: {=IF(AND(NOT($AC36=FALSE),NOT(AR$2=FALSE)),INDEX('Kompetansetilskudd og BPA'!$A$1:$R$148,$AC36,IF($AF36="3.",AR$4,AR$2)),"")} -> 0 | AS36: {=IF(AND(NOT($AC36=FALSE),NOT(AS$2=FALSE)),INDEX('Kompetansetilskudd og BPA'!$A$1:$R$148,$AC36,IF($AF36="3.",AS$4,AS$2)),"")} | AT36: {=IF(AND(NOT($AC36=FALSE),NOT(AT$2=FALSE)),INDEX('Kompetansetilskudd og BPA'!$A$1:$R$148,$AC36,IF($AF36="3.",AT$4,AT$2)),"")} -> 0 | AU36: {=IF(AND(NOT($AC36=FALSE),NOT(AU$2=FALSE)),INDEX('Kompetansetilskudd og BPA'!$A$1:$R$148,$AC36,IF($AF36="3.",AU$4,AU$2)),"")} -> 0 | AV36: {=IF(AND(NOT(AV$2=FALSE),NOT(AD36="")),INDEX('Kompetansetilskudd og BPA'!$A$1:$R$148,$AD36,AV$2),"")} | AW36: 3 | AX36: 0 | AY36: Kompetansetiltak (grunn-, videre- og etterutdanning) | AZ36: Bachelorutdanning helse- og sosialfag | BA36: 2.3c | BB36: Vernepleie | BC36: 0 | BD36: 0 | BE36: 0 | BF36: 0 | BG36: 0 | BH36: 0 | BI36: 0 | BK36: 3 | BO36: =BA36<>0 -> TRUE | BQ36: 0 | BR36: 0 | BS36: Hvilke faktorer gjør det usikkert at dere når målene, selv om dere mottar tilskudd fra Statsforvalteren? | CA36: 0 | CB36: =BQ36>"" -> FALSE | CC36: =AND(BQ36=0,OR(BR36=0,BS36=0)) -> TRUE | CD36: =$CD$4 -> TRUE | CE36: =IF(CD36,FALSE,NOT(AND(CC36,CB37=FALSE))) -> FALSE | CF36: =IF(LEN(BQ36)=3,1,IF(CB37,5,IF(CB36,2,IF(BS36="Søknad",3,4)))) -> 4 | CG36: ='Forside og oppsummering'!$E$23 -> 0 | CH36: Prosjekt 1 | CI36: =IF(CF36=1,"",IF(CF36=2,BR36,CI35)) -> Prosjektbeskrivelse: Innovasjonsprosjekt 1 | CJ36: =IF(CF36<3,BQ36,IF(AND(BR36=0,CE36),_xlfn.CONCAT(LEFT(BR35,LEN(BR35)-1),CHAR(CODE(RIGHT(BR35,1))+1)),BR36)) -> 0 | CK36: =BS36 -> Hvilke faktorer gjør det usikkert at dere når målene, selv om dere mottar tilskudd fra Statsforvalteren? | CL36: 0 | CM36: 0 | CN36: 0 | CO36: 0 | CP36: 0 | CQ36: 0 | CR36: 0 | CS36: 0 | CT36: =CF36 -> 4 | DI36: 0 | DJ36: Kompetansetiltak (grunn-, videre- og etterutdanning) | DK36: Bachelorutdanning helse- og sosialfag | DL36: 2.3c | DM36: Vernepleie | DN36: 0 | DO36: 0 | DP36: 0 | DQ36: 0 | DR36: 0 | DS36: 0 | DT36: 0 | DV36: 3
E37: 0 | F37: 0 | G37: 2.3b | H37: Desentralisert sykepleie | I37: =IF(H37='Kompetansetilskudd og BPA'!$E$12,4,IF(E37=0,IF(F37=0,IF(G37=0,FALSE,3),2),1)) -> 3 | J37: =IF(I37=1,E37,IF(I37=2,F37,IF(I37=3,G37,IF(I37=4,G37)))) -> 2.3b | K37: =IF(I37=1,F37,IF(I37=2,G37,IF(I37=3,H37,IF(I37=4,H37)))) -> Desentralisert sykepleie | L37: 3 | M37: 2.4c | N37: Eldreomsorg/demens | O37: 4 | P37: 2.4i | Q37: Merknader Nærmere om hvilken annen utdanning Forsøk å skrive mindre enn 100 ord | R37: ='Forside og oppsummering'!$E$23 -> 0 | S37: =IF(O37=1,P37,S36) -> 2. | T37: =IF(O37=1,Q37,T36) -> Kompetansetiltak (grunn-, videre- og etterutdanning) | U37: =IF(O37=1,"",IF(O37=2,P37,U36)) -> 2.4. | V37: =IF(O37=1,"",IF(O37=2,Q37,V36)) -> Videreutdanning og mastergradutdanning (påbygg bachelorutdanning) | W37: =P37 -> 2.4i | X37: =IF(O37<3,"",IF(O37=3,Q37,X36)) -> Annen videreutdanning og/eller masterutdanning | Y37: =IF(O38=4,P38) -> FALSE | Z37: =O37=4 -> TRUE | AA37: =IF(Z37,5,O37) -> 5 | AC37: =IF(AJ37="",FALSE,MATCH(AJ37,$J$3:$J$152,0)) -> 37 | AD37: =IF(AL37=FALSE,"",MATCH(AL37,$J$3:$J$152,0)) | AE37: 0 | AF37: 2. | AG37: Kompetansetiltak (grunn-, videre- og etterutdanning) | AH37: 2.3. | AI37: Bachelorutdanning helse- og sosialfag | AJ37: 2.3d | AK37: Desentralisert vernepleie | AL37: FALSE | AM37: {=IF(AND(NOT($AC37=FALSE),NOT(AM$2=FALSE)),INDEX('Kompetansetilskudd og BPA'!$A$1:$R$148,$AC37,AM$2),"")} -> 0 | AN37: {=IF(AND(NOT($AC37=FALSE),NOT(AN$2=FALSE)),INDEX('Kompetansetilskudd og BPA'!$A$1:$R$148,$AC37,IF($AF37="3.",AN$4,AN$2)),"")} -> 0 | AO37: {=IF(AND(NOT($AC37=FALSE),NOT(AO$2=FALSE)),INDEX('Kompetansetilskudd og BPA'!$A$1:$R$148,$AC37,IF($AF37="3.",AO$4,AO$2)),"")} | AP37: {=IF(AND(NOT($AC37=FALSE),NOT(AP$2=FALSE)),INDEX('Kompetansetilskudd og BPA'!$A$1:$R$148,$AC37,IF($AF37="3.",AP$4,AP$2)),"")} -> 0 | AQ37: {=IF(AND(NOT($AC37=FALSE),NOT(AQ$2=FALSE)),INDEX('Kompetansetilskudd og BPA'!$A$1:$R$148,$AC37,IF($AF37="3.",AQ$4,AQ$2)),"")} -> 0 | AR37: {=IF(AND(NOT($AC37=FALSE),NOT(AR$2=FALSE)),INDEX('Kompetansetilskudd og BPA'!$A$1:$R$148,$AC37,IF($AF37="3.",AR$4,AR$2)),"")} -> 0 | AS37: {=IF(AND(NOT($AC37=FALSE),NOT(AS$2=FALSE)),INDEX('Kompetansetilskudd og BPA'!$A$1:$R$148,$AC37,IF($AF37="3.",AS$4,AS$2)),"")} | AT37: {=IF(AND(NOT($AC37=FALSE),NOT(AT$2=FALSE)),INDEX('Kompetansetilskudd og BPA'!$A$1:$R$148,$AC37,IF($AF37="3.",AT$4,AT$2)),"")} -> 0 | AU37: {=IF(AND(NOT($AC37=FALSE),NOT(AU$2=FALSE)),INDEX('Kompetansetilskudd og BPA'!$A$1:$R$148,$AC37,IF($AF37="3.",AU$4,AU$2)),"")} -> 0 | AV37: {=IF(AND(NOT(AV$2=FALSE),NOT(AD37="")),INDEX('Kompetansetilskudd og BPA'!$A$1:$R$148,$AD37,AV$2),"")} | AW37: 3 | AX37: 0 | AY37: Kompetansetiltak (grunn-, videre- og etterutdanning) | AZ37: Bachelorutdanning helse- og sosialfag | BA37: 2.3d | BB37: Desentralisert vernepleie | BC37: 0 | BD37: 0 | BE37: 0 | BF37: 0 | BG37: 0 | BH37: 0 | BI37: 0 | BK37: 3 | BO37: =BA37<>0 -> TRUE | BQ37: 0 | BR37: P1.3g | BS37: Forankring internt i kommunen | CA37: 0 | CB37: =BQ37>"" -> FALSE | CC37: =AND(BQ37=0,OR(BR37=0,BS37=0)) -> FALSE | CD37: =$CD$4 -> TRUE | CE37: =IF(CD37,FALSE,NOT(AND(CC37,CB38=FALSE))) -> FALSE | CF37: =IF(LEN(BQ37)=3,1,IF(CB38,5,IF(CB37,2,IF(BS37="Søknad",3,4)))) -> 4 | CG37: ='Forside og oppsummering'!$E$23 -> 0 | CH37: Prosjekt 1 | CI37: =IF(CF37=1,"",IF(CF37=2,BR37,CI36)) -> Prosjektbeskrivelse: Innovasjonsprosjekt 1 | CJ37: =IF(CF37<3,BQ37,IF(AND(BR37=0,CE37),_xlfn.CONCAT(LEFT(BR36,LEN(BR36)-1),CHAR(CODE(RIGHT(BR36,1))+1)),BR37)) -> P1.3g | CK37: =BS37 -> Forankring internt i kommunen | CL37: 0 | CM37: 0 | CN37: 0 | CO37: 0 | CP37: 0 | CQ37: 0 | CR37: 0 | CS37: 0 | CT37: =CF37 -> 4 | DI37: 0 | DJ37: Kompetansetiltak (grunn-, videre- og etterutdanning) | DK37: Bachelorutdanning helse- og sosialfag | DL37: 2.3d | DM37: Desentralisert vernepleie | DN37: 0 | DO37: 0 | DP37: 0 | DQ37: 0 | DR37: 0 | DS37: 0 | DT37: 0 | DV37: 3
E38: 0 | F38: 0 | G38: 2.3c | H38: Vernepleie | I38: =IF(H38='Kompetansetilskudd og BPA'!$E$12,4,IF(E38=0,IF(F38=0,IF(G38=0,FALSE,3),2),1)) -> 3 | J38: =IF(I38=1,E38,IF(I38=2,F38,IF(I38=3,G38,IF(I38=4,G38)))) -> 2.3c | K38: =IF(I38=1,F38,IF(I38=2,G38,IF(I38=3,H38,IF(I38=4,H38)))) -> Vernepleie | L38: 3 | M38: 2.4d | N38: Kreftomsorg/lindrende pleie | O38: 2 | P38: 2.5. | Q38: ABC-opplæring | R38: ='Forside og oppsummering'!$E$23 -> 0 | S38: =IF(O38=1,P38,S37) -> 2. | T38: =IF(O38=1,Q38,T37) -> Kompetansetiltak (grunn-, videre- og etterutdanning) | U38: =IF(O38=1,"",IF(O38=2,P38,U37)) -> 2.5. | V38: =IF(O38=1,"",IF(O38=2,Q38,V37)) -> ABC-opplæring | W38: =P38 -> 2.5. | X38: =IF(O38<3,"",IF(O38=3,Q38,X37)) | Y38: =IF(O39=4,P39) -> FALSE | Z38: =O38=4 -> FALSE | AA38: =IF(Z38,5,O38) -> 2 | AC38: =IF(AJ38="",FALSE,MATCH(AJ38,$J$3:$J$152,0)) -> 38 | AD38: =IF(AL38=FALSE,"",MATCH(AL38,$J$3:$J$152,0)) | AE38: 0 | AF38: 2. | AG38: Kompetansetiltak (grunn-, videre- og etterutdanning) | AH38: 2.3. | AI38: Bachelorutdanning helse- og sosialfag | AJ38: 2.3e | AK38: Fysioterapi | AL38: FALSE | AM38: {=IF(AND(NOT($AC38=FALSE),NOT(AM$2=FALSE)),INDEX('Kompetansetilskudd og BPA'!$A$1:$R$148,$AC38,AM$2),"")} -> 0 | AN38: {=IF(AND(NOT($AC38=FALSE),NOT(AN$2=FALSE)),INDEX('Kompetansetilskudd og BPA'!$A$1:$R$148,$AC38,IF($AF38="3.",AN$4,AN$2)),"")} -> 0 | AO38: {=IF(AND(NOT($AC38=FALSE),NOT(AO$2=FALSE)),INDEX('Kompetansetilskudd og BPA'!$A$1:$R$148,$AC38,IF($AF38="3.",AO$4,AO$2)),"")} | AP38: {=IF(AND(NOT($AC38=FALSE),NOT(AP$2=FALSE)),INDEX('Kompetansetilskudd og BPA'!$A$1:$R$148,$AC38,IF($AF38="3.",AP$4,AP$2)),"")} -> 0 | AQ38: {=IF(AND(NOT($AC38=FALSE),NOT(AQ$2=FALSE)),INDEX('Kompetansetilskudd og BPA'!$A$1:$R$148,$AC38,IF($AF38="3.",AQ$4,AQ$2)),"")} -> 0 | AR38: {=IF(AND(NOT($AC38=FALSE),NOT(AR$2=FALSE)),INDEX('Kompetansetilskudd og BPA'!$A$1:$R$148,$AC38,IF($AF38="3.",AR$4,AR$2)),"")} -> 0 | AS38: {=IF(AND(NOT($AC38=FALSE),NOT(AS$2=FALSE)),INDEX('Kompetansetilskudd og BPA'!$A$1:$R$148,$AC38,IF($AF38="3.",AS$4,AS$2)),"")} | AT38: {=IF(AND(NOT($AC38=FALSE),NOT(AT$2=FALSE)),INDEX('Kompetansetilskudd og BPA'!$A$1:$R$148,$AC38,IF($AF38="3.",AT$4,AT$2)),"")} -> 0 | AU38: {=IF(AND(NOT($AC38=FALSE),NOT(AU$2=FALSE)),INDEX('Kompetansetilskudd og BPA'!$A$1:$R$148,$AC38,IF($AF38="3.",AU$4,AU$2)),"")} -> 0 | AV38: {=IF(AND(NOT(AV$2=FALSE),NOT(AD38="")),INDEX('Kompetansetilskudd og BPA'!$A$1:$R$148,$AD38,AV$2),"")} | AW38: 3 | AX38: 0 | AY38: Kompetansetiltak (grunn-, videre- og etterutdanning) | AZ38: Bachelorutdanning helse- og sosialfag | BA38: 2.3e | BB38: Fysioterapi | BC38: 0 | BD38: 0 | BE38: 0 | BF38: 0 | BG38: 0 | BH38: 0 | BI38: 0 | BK38: 3 | BO38: =BA38<>0 -> TRUE | BQ38: 0 | BR38: 0 | BS38: Beskriv hvordan tiltaket er forankret internt i kommunen, faglig og administrativt i både utviklings og implementeringsfasen | CA38: 0 | CB38: =BQ38>"" -> FALSE | CC38: =AND(BQ38=0,OR(BR38=0,BS38=0)) -> TRUE | CD38: =$CD$4 -> TRUE | CE38: =IF(CD38,FALSE,NOT(AND(CC38,CB39=FALSE))) -> FALSE | CF38: =IF(LEN(BQ38)=3,1,IF(CB39,5,IF(CB38,2,IF(BS38="Søknad",3,4)))) -> 4 | CG38: ='Forside og oppsummering'!$E$23 -> 0 | CH38: Prosjekt 1 | CI38: =IF(CF38=1,"",IF(CF38=2,BR38,CI37)) -> Prosjektbeskrivelse: Innovasjonsprosjekt 1 | CJ38: =IF(CF38<3,BQ38,IF(AND(BR38=0,CE38),_xlfn.CONCAT(LEFT(BR37,LEN(BR37)-1),CHAR(CODE(RIGHT(BR37,1))+1)),BR38)) -> 0 | CK38: =BS38 -> Beskriv hvordan tiltaket er forankret internt i kommunen, faglig og administrativt i både utviklings og implementeringsfasen | CL38: 0 | CM38: 0 | CN38: 0 | CO38: 0 | CP38: 0 | CQ38: 0 | CR38: 0 | CS38: 0 | CT38: =CF38 -> 4 | DI38: 0 | DJ38: Kompetansetiltak (grunn-, videre- og etterutdanning) | DK38: Bachelorutdanning helse- og sosialfag | DL38: 2.3e | DM38: Fysioterapi | DN38: 0 | DO38: 0 | DP38: 0 | DQ38: 0 | DR38: 0 | DS38: 0 | DT38: 0 | DV38: 3
E39: 0 | F39: 0 | G39: 2.3d | H39: Desentralisert vernepleie | I39: =IF(H39='Kompetansetilskudd og BPA'!$E$12,4,IF(E39=0,IF(F39=0,IF(G39=0,FALSE,3),2),1)) -> 3 | J39: =IF(I39=1,E39,IF(I39=2,F39,IF(I39=3,G39,IF(I39=4,G39)))) -> 2.3d | K39: =IF(I39=1,F39,IF(I39=2,G39,IF(I39=3,H39,IF(I39=4,H39)))) -> Desentralisert vernepleie | L39: 3 | M39: 2.4e | N39: Habilitering/rehabilitering | O39: 3 | P39: 2.5a | Q39: Demensomsorgens ABC | R39: ='Forside og oppsummering'!$E$23 -> 0 | S39: =IF(O39=1,P39,S38) -> 2. | T39: =IF(O39=1,Q39,T38) -> Kompetansetiltak (grunn-, videre- og etterutdanning) | U39: =IF(O39=1,"",IF(O39=2,P39,U38)) -> 2.5. | V39: =IF(O39=1,"",IF(O39=2,Q39,V38)) -> ABC-opplæring | W39: =P39 -> 2.5a | X39: =IF(O39<3,"",IF(O39=3,Q39,X38)) -> Demensomsorgens ABC | Y39: =IF(O40=4,P40) -> FALSE | Z39: =O39=4 -> FALSE | AA39: =IF(Z39,5,O39) -> 3 | AC39: =IF(AJ39="",FALSE,MATCH(AJ39,$J$3:$J$152,0)) -> 39 | AD39: =IF(AL39=FALSE,"",MATCH(AL39,$J$3:$J$152,0)) | AE39: 0 | AF39: 2. | AG39: Kompetansetiltak (grunn-, videre- og etterutdanning) | AH39: 2.3. | AI39: Bachelorutdanning helse- og sosialfag | AJ39: 2.3f | AK39: Ergoterapi | AL39: FALSE | AM39: {=IF(AND(NOT($AC39=FALSE),NOT(AM$2=FALSE)),INDEX('Kompetansetilskudd og BPA'!$A$1:$R$148,$AC39,AM$2),"")} -> 0 | AN39: {=IF(AND(NOT($AC39=FALSE),NOT(AN$2=FALSE)),INDEX('Kompetansetilskudd og BPA'!$A$1:$R$148,$AC39,IF($AF39="3.",AN$4,AN$2)),"")} -> 0 | AO39: {=IF(AND(NOT($AC39=FALSE),NOT(AO$2=FALSE)),INDEX('Kompetansetilskudd og BPA'!$A$1:$R$148,$AC39,IF($AF39="3.",AO$4,AO$2)),"")} | AP39: {=IF(AND(NOT($AC39=FALSE),NOT(AP$2=FALSE)),INDEX('Kompetansetilskudd og BPA'!$A$1:$R$148,$AC39,IF($AF39="3.",AP$4,AP$2)),"")} -> 0 | AQ39: {=IF(AND(NOT($AC39=FALSE),NOT(AQ$2=FALSE)),INDEX('Kompetansetilskudd og BPA'!$A$1:$R$148,$AC39,IF($AF39="3.",AQ$4,AQ$2)),"")} -> 0 | AR39: {=IF(AND(NOT($AC39=FALSE),NOT(AR$2=FALSE)),INDEX('Kompetansetilskudd og BPA'!$A$1:$R$148,$AC39,IF($AF39="3.",AR$4,AR$2)),"")} -> 0 | AS39: {=IF(AND(NOT($AC39=FALSE),NOT(AS$2=FALSE)),INDEX('Kompetansetilskudd og BPA'!$A$1:$R$148,$AC39,IF($AF39="3.",AS$4,AS$2)),"")} | AT39: {=IF(AND(NOT($AC39=FALSE),NOT(AT$2=FALSE)),INDEX('Kompetansetilskudd og BPA'!$A$1:$R$148,$AC39,IF($AF39="3.",AT$4,AT$2)),"")} -> 0 | AU39: {=IF(AND(NOT($AC39=FALSE),NOT(AU$2=FALSE)),INDEX('Kompetansetilskudd og BPA'!$A$1:$R$148,$AC39,IF($AF39="3.",AU$4,AU$2)),"")} -> 0 | AV39: {=IF(AND(NOT(AV$2=FALSE),NOT(AD39="")),INDEX('Kompetansetilskudd og BPA'!$A$1:$R$148,$AD39,AV$2),"")} | AW39: 3 | AX39: 0 | AY39: Kompetansetiltak (grunn-, videre- og etterutdanning) | AZ39: Bachelorutdanning helse- og sosialfag | BA39: 2.3f | BB39: Ergoterapi | BC39: 0 | BD39: 0 | BE39: 0 | BF39: 0 | BG39: 0 | BH39: 0 | BI39: 0 | BK39: 3 | BO39: =BA39<>0 -> TRUE | BQ39: 0 | BR39: P1.3h | BS39: Kontrolltiltak | CA39: 0 | CB39: =BQ39>"" -> FALSE | CC39: =AND(BQ39=0,OR(BR39=0,BS39=0)) -> FALSE | CD39: =$CD$4 -> TRUE | CE39: =IF(CD39,FALSE,NOT(AND(CC39,CB40=FALSE))) -> FALSE | CF39: =IF(LEN(BQ39)=3,1,IF(CB40,5,IF(CB39,2,IF(BS39="Søknad",3,4)))) -> 4 | CG39: ='Forside og oppsummering'!$E$23 -> 0 | CH39: Prosjekt 1 | CI39: =IF(CF39=1,"",IF(CF39=2,BR39,CI38)) -> Prosjektbeskrivelse: Innovasjonsprosjekt 1 | CJ39: =IF(CF39<3,BQ39,IF(AND(BR39=0,CE39),_xlfn.CONCAT(LEFT(BR38,LEN(BR38)-1),CHAR(CODE(RIGHT(BR38,1))+1)),BR39)) -> P1.3h | CK39: =BS39 -> Kontrolltiltak | CL39: 0 | CM39: 0 | CN39: 0 | CO39: 0 | CP39: 0 | CQ39: 0 | CR39: 0 | CS39: 0 | CT39: =CF39 -> 4 | DI39: 0 | DJ39: Kompetansetiltak (grunn-, videre- og etterutdanning) | DK39: Bachelorutdanning helse- og sosialfag | DL39: 2.3f | DM39: Ergoterapi | DN39: 0 | DO39: 0 | DP39: 0 | DQ39: 0 | DR39: 0 | DS39: 0 | DT39: 0 | DV39: 3
E40: 0 | F40: 0 | G40: 2.3e | H40: Fysioterapi | I40: =IF(H40='Kompetansetilskudd og BPA'!$E$12,4,IF(E40=0,IF(F40=0,IF(G40=0,FALSE,3),2),1)) -> 3 | J40: =IF(I40=1,E40,IF(I40=2,F40,IF(I40=3,G40,IF(I40=4,G40)))) -> 2.3e | K40: =IF(I40=1,F40,IF(I40=2,G40,IF(I40=3,H40,IF(I40=4,H40)))) -> Fysioterapi | L40: 3 | M40: 2.4f | N40: Veiledning | O40: 3 | P40: 2.5b | Q40: Eldreomsorgens ABC | R40: ='Forside og oppsummering'!$E$23 -> 0 | S40: =IF(O40=1,P40,S39) -> 2. | T40: =IF(O40=1,Q40,T39) -> Kompetansetiltak (grunn-, videre- og etterutdanning) | U40: =IF(O40=1,"",IF(O40=2,P40,U39)) -> 2.5. | V40: =IF(O40=1,"",IF(O40=2,Q40,V39)) -> ABC-opplæring | W40: =P40 -> 2.5b | X40: =IF(O40<3,"",IF(O40=3,Q40,X39)) -> Eldreomsorgens ABC | Y40: =IF(O41=4,P41) -> FALSE | Z40: =O40=4 -> FALSE | AA40: =IF(Z40,5,O40) -> 3 | AC40: =IF(AJ40="",FALSE,MATCH(AJ40,$J$3:$J$152,0)) -> 40 | AD40: =IF(AL40=FALSE,"",MATCH(AL40,$J$3:$J$152,0)) | AE40: 0 | AF40: 2. | AG40: Kompetansetiltak (grunn-, videre- og etterutdanning) | AH40: 2.3. | AI40: Bachelorutdanning helse- og sosialfag | AJ40: 2.3g | AK40: Sosial arbeid (sosionom) | AL40: FALSE | AM40: {=IF(AND(NOT($AC40=FALSE),NOT(AM$2=FALSE)),INDEX('Kompetansetilskudd og BPA'!$A$1:$R$148,$AC40,AM$2),"")} -> 0 | AN40: {=IF(AND(NOT($AC40=FALSE),NOT(AN$2=FALSE)),INDEX('Kompetansetilskudd og BPA'!$A$1:$R$148,$AC40,IF($AF40="3.",AN$4,AN$2)),"")} -> 0 | AO40: {=IF(AND(NOT($AC40=FALSE),NOT(AO$2=FALSE)),INDEX('Kompetansetilskudd og BPA'!$A$1:$R$148,$AC40,IF($AF40="3.",AO$4,AO$2)),"")} | AP40: {=IF(AND(NOT($AC40=FALSE),NOT(AP$2=FALSE)),INDEX('Kompetansetilskudd og BPA'!$A$1:$R$148,$AC40,IF($AF40="3.",AP$4,AP$2)),"")} -> 0 | AQ40: {=IF(AND(NOT($AC40=FALSE),NOT(AQ$2=FALSE)),INDEX('Kompetansetilskudd og BPA'!$A$1:$R$148,$AC40,IF($AF40="3.",AQ$4,AQ$2)),"")} -> 0 | AR40: {=IF(AND(NOT($AC40=FALSE),NOT(AR$2=FALSE)),INDEX('Kompetansetilskudd og BPA'!$A$1:$R$148,$AC40,IF($AF40="3.",AR$4,AR$2)),"")} -> 0 | AS40: {=IF(AND(NOT($AC40=FALSE),NOT(AS$2=FALSE)),INDEX('Kompetansetilskudd og BPA'!$A$1:$R$148,$AC40,IF($AF40="3.",AS$4,AS$2)),"")} | AT40: {=IF(AND(NOT($AC40=FALSE),NOT(AT$2=FALSE)),INDEX('Kompetansetilskudd og BPA'!$A$1:$R$148,$AC40,IF($AF40="3.",AT$4,AT$2)),"")} -> 0 | AU40: {=IF(AND(NOT($AC40=FALSE),NOT(AU$2=FALSE)),INDEX('Kompetansetilskudd og BPA'!$A$1:$R$148,$AC40,IF($AF40="3.",AU$4,AU$2)),"")} -> 0 | AV40: {=IF(AND(NOT(AV$2=FALSE),NOT(AD40="")),INDEX('Kompetansetilskudd og BPA'!$A$1:$R$148,$AD40,AV$2),"")} | AW40: 3 | AX40: 0 | AY40: Kompetansetiltak (grunn-, videre- og etterutdanning) | AZ40: Bachelorutdanning helse- og sosialfag | BA40: 2.3g | BB40: Sosial arbeid (sosionom) | BC40: 0 | BD40: 0 | BE40: 0 | BF40: 0 | BG40: 0 | BH40: 0 | BI40: 0 | BK40: 3 | BO40: =BA40<>0 -> TRUE | BQ40: 0 | BR40: 0 | BS40: -Beskriv de interne og eksterne kontrolltiltak hos dere som skal sikre korrekt rapportering og at målene nås. -Beskriv om de gjennomføres allerede eller er planlagt. -Interne kontrollaktiviteter, internrevisjon, autorisert / ikke autorisert revisor, andre offentlige tilsyn, Riksrevisjonen, evaluering og systematisk kvalitetssikret dokumentasjon er eksempler på kontrolltiltak som kan øke sikkerheten for at målene nås. | CA40: 0 | CB40: =BQ40>"" -> FALSE | CC40: =AND(BQ40=0,OR(BR40=0,BS40=0)) -> TRUE | CD40: =$CD$4 -> TRUE | CE40: =IF(CD40,FALSE,NOT(AND(CC40,CB41=FALSE))) -> FALSE | CF40: =IF(LEN(BQ40)=3,1,IF(CB41,5,IF(CB40,2,IF(BS40="Søknad",3,4)))) -> 5 | CG40: ='Forside og oppsummering'!$E$23 -> 0 | CH40: Prosjekt 1 | CI40: =IF(CF40=1,"",IF(CF40=2,BR40,CI39)) -> Prosjektbeskrivelse: Innovasjonsprosjekt 1 | CJ40: =IF(CF40<3,BQ40,IF(AND(BR40=0,CE40),_xlfn.CONCAT(LEFT(BR39,LEN(BR39)-1),CHAR(CODE(RIGHT(BR39,1))+1)),BR40)) -> 0 | CK40: =BS40 -> -Beskriv de interne og eksterne kontrolltiltak hos dere som skal sikre korrekt rapportering og at målene nås. -Beskriv om de gjennomføres allerede eller er planlagt. -Interne kontrollaktiviteter, internrevisjon, autorisert / ikke autorisert revisor, andre offentlige tilsyn, Riksrevisjonen, evaluering og systematisk kvalitetssikret dokumentasjon er eksempler på kontrolltiltak som kan øke sikkerheten for at målene nås. | CL40: 0 | CM40: 0 | CN40: 0 | CO40: 0 | CP40: 0 | CQ40: 0 | CR40: 0 | CS40: 0 | CT40: =CF40 -> 5 | DI40: 0 | DJ40: Kompetansetiltak (grunn-, videre- og etterutdanning) | DK40: Bachelorutdanning helse- og sosialfag | DL40: 2.3g | DM40: Sosial arbeid (sosionom) | DN40: 0 | DO40: 0 | DP40: 0 | DQ40: 0 | DR40: 0 | DS40: 0 | DT40: 0 | DV40: 3
E41: 0 | F41: 0 | G41: 2.3f | H41: Ergoterapi | I41: =IF(H41='Kompetansetilskudd og BPA'!$E$12,4,IF(E41=0,IF(F41=0,IF(G41=0,FALSE,3),2),1)) -> 3 | J41: =IF(I41=1,E41,IF(I41=2,F41,IF(I41=3,G41,IF(I41=4,G41)))) -> 2.3f | K41: =IF(I41=1,F41,IF(I41=2,G41,IF(I41=3,H41,IF(I41=4,H41)))) -> Ergoterapi | L41: 3 | M41: 2.4g | N41: Lederutdanning | O41: 3 | P41: 2.5c | Q41: Mitt livs ABC | R41: ='Forside og oppsummering'!$E$23 -> 0 | S41: =IF(O41=1,P41,S40) -> 2. | T41: =IF(O41=1,Q41,T40) -> Kompetansetiltak (grunn-, videre- og etterutdanning) | U41: =IF(O41=1,"",IF(O41=2,P41,U40)) -> 2.5. | V41: =IF(O41=1,"",IF(O41=2,Q41,V40)) -> ABC-opplæring | W41: =P41 -> 2.5c | X41: =IF(O41<3,"",IF(O41=3,Q41,X40)) -> Mitt livs ABC | Y41: =IF(O42=4,P42) -> FALSE | Z41: =O41=4 -> FALSE | AA41: =IF(Z41,5,O41) -> 3 | AC41: =IF(AJ41="",FALSE,MATCH(AJ41,$J$3:$J$152,0)) -> 41 | AD41: =IF(AL41=FALSE,"",MATCH(AL41,$J$3:$J$152,0)) | AE41: 0 | AF41: 2. | AG41: Kompetansetiltak (grunn-, videre- og etterutdanning) | AH41: 2.3. | AI41: Bachelorutdanning helse- og sosialfag | AJ41: 2.3h | AK41: Barnevernspedagogikk | AL41: FALSE | AM41: {=IF(AND(NOT($AC41=FALSE),NOT(AM$2=FALSE)),INDEX('Kompetansetilskudd og BPA'!$A$1:$R$148,$AC41,AM$2),"")} -> 0 | AN41: {=IF(AND(NOT($AC41=FALSE),NOT(AN$2=FALSE)),INDEX('Kompetansetilskudd og BPA'!$A$1:$R$148,$AC41,IF($AF41="3.",AN$4,AN$2)),"")} -> 0 | AO41: {=IF(AND(NOT($AC41=FALSE),NOT(AO$2=FALSE)),INDEX('Kompetansetilskudd og BPA'!$A$1:$R$148,$AC41,IF($AF41="3.",AO$4,AO$2)),"")} | AP41: {=IF(AND(NOT($AC41=FALSE),NOT(AP$2=FALSE)),INDEX('Kompetansetilskudd og BPA'!$A$1:$R$148,$AC41,IF($AF41="3.",AP$4,AP$2)),"")} -> 0 | AQ41: {=IF(AND(NOT($AC41=FALSE),NOT(AQ$2=FALSE)),INDEX('Kompetansetilskudd og BPA'!$A$1:$R$148,$AC41,IF($AF41="3.",AQ$4,AQ$2)),"")} -> 0 | AR41: {=IF(AND(NOT($AC41=FALSE),NOT(AR$2=FALSE)),INDEX('Kompetansetilskudd og BPA'!$A$1:$R$148,$AC41,IF($AF41="3.",AR$4,AR$2)),"")} -> 0 | AS41: {=IF(AND(NOT($AC41=FALSE),NOT(AS$2=FALSE)),INDEX('Kompetansetilskudd og BPA'!$A$1:$R$148,$AC41,IF($AF41="3.",AS$4,AS$2)),"")} | AT41: {=IF(AND(NOT($AC41=FALSE),NOT(AT$2=FALSE)),INDEX('Kompetansetilskudd og BPA'!$A$1:$R$148,$AC41,IF($AF41="3.",AT$4,AT$2)),"")} -> 0 | AU41: {=IF(AND(NOT($AC41=FALSE),NOT(AU$2=FALSE)),INDEX('Kompetansetilskudd og BPA'!$A$1:$R$148,$AC41,IF($AF41="3.",AU$4,AU$2)),"")} -> 0 | AV41: {=IF(AND(NOT(AV$2=FALSE),NOT(AD41="")),INDEX('Kompetansetilskudd og BPA'!$A$1:$R$148,$AD41,AV$2),"")} | AW41: 3 | AX41: 0 | AY41: Kompetansetiltak (grunn-, videre- og etterutdanning) | AZ41: Bachelorutdanning helse- og sosialfag | BA41: 2.3h | BB41: Barnevernspedagogikk | BC41: 0 | BD41: 0 | BE41: 0 | BF41: 0 | BG41: 0 | BH41: 0 | BI41: 0 | BK41: 3 | BO41: =BA41<>0 -> TRUE | BQ41: ='Prosjekt 1'!$C$44 -> P1.4 | BR41: ='Prosjekt 1'!$D$44 -> Samarbeidspartnere i innovasjonsprosjekt 1 | CB41: =BQ41>"" -> TRUE | CC41: =AND(BQ41=0,OR(BR41=0,BS41=0)) -> FALSE | CD41: =$CD$4 -> TRUE | CE41: =IF(CD41,FALSE,NOT(AND(CC41,CB42=FALSE))) -> FALSE | CF41: =IF(LEN(BQ41)=3,1,IF(CB42,5,IF(CB41,2,IF(BS41="Søknad",3,4)))) -> 2 | CG41: ='Forside og oppsummering'!$E$23 -> 0 | CH41: Prosjekt 1 | CI41: =IF(CF41=1,"",IF(CF41=2,BR41,CI40)) -> Samarbeidspartnere i innovasjonsprosjekt 1 | CJ41: =IF(CF41<3,BQ41,IF(AND(BR41=0,CE41),_xlfn.CONCAT(LEFT(BR40,LEN(BR40)-1),CHAR(CODE(RIGHT(BR40,1))+1)),BR41)) -> P1.4 | CK41: =BS41 -> 0 | CL41: 0 | CM41: 0 | CN41: 0 | CO41: 0 | CP41: 0 | CQ41: 0 | CR41: 0 | CS41: 0 | CT41: =CF41 -> 2 | DI41: 0 | DJ41: Kompetansetiltak (grunn-, videre- og etterutdanning) | DK41: Bachelorutdanning helse- og sosialfag | DL41: 2.3h | DM41: Barnevernspedagogikk | DN41: 0 | DO41: 0 | DP41: 0 | DQ41: 0 | DR41: 0 | DS41: 0 | DT41: 0 | DV41: 3
E42: 0 | F42: 0 | G42: 2.3g | H42: Sosial arbeid (sosionom) | I42: =IF(H42='Kompetansetilskudd og BPA'!$E$12,4,IF(E42=0,IF(F42=0,IF(G42=0,FALSE,3),2),1)) -> 3 | J42: =IF(I42=1,E42,IF(I42=2,F42,IF(I42=3,G42,IF(I42=4,G42)))) -> 2.3g | K42: =IF(I42=1,F42,IF(I42=2,G42,IF(I42=3,H42,IF(I42=4,H42)))) -> Sosial arbeid (sosionom) | L42: 3 | M42: 2.4h | N42: Annen videreutdanning og/eller masterutdanning | O42: 3 | P42: 2.5d | Q42: Velferdsteknologien ABC | R42: ='Forside og oppsummering'!$E$23 -> 0 | S42: =IF(O42=1,P42,S41) -> 2. | T42: =IF(O42=1,Q42,T41) -> Kompetansetiltak (grunn-, videre- og etterutdanning) | U42: =IF(O42=1,"",IF(O42=2,P42,U41)) -> 2.5. | V42: =IF(O42=1,"",IF(O42=2,Q42,V41)) -> ABC-opplæring | W42: =P42 -> 2.5d | X42: =IF(O42<3,"",IF(O42=3,Q42,X41)) -> Velferdsteknologien ABC | Y42: =IF(O43=4,P43) -> 2.5e | Z42: =O42=4 -> FALSE | AA42: =IF(Z42,5,O42) -> 3 | AC42: =IF(AJ42="",FALSE,MATCH(AJ42,$J$3:$J$152,0)) -> 42 | AD42: =IF(AL42=FALSE,"",MATCH(AL42,$J$3:$J$152,0)) -> 45 | AE42: 0 | AF42: 2. | AG42: Kompetansetiltak (grunn-, videre- og etterutdanning) | AH42: 2.3. | AI42: Bachelorutdanning helse- og sosialfag | AJ42: 2.3i | AK42: Annen bachelorutdanning | AL42: 2.3j | AM42: {=IF(AND(NOT($AC42=FALSE),NOT(AM$2=FALSE)),INDEX('Kompetansetilskudd og BPA'!$A$1:$R$148,$AC42,AM$2),"")} -> 0 | AN42: {=IF(AND(NOT($AC42=FALSE),NOT(AN$2=FALSE)),INDEX('Kompetansetilskudd og BPA'!$A$1:$R$148,$AC42,IF($AF42="3.",AN$4,AN$2)),"")} -> 0 | AO42: {=IF(AND(NOT($AC42=FALSE),NOT(AO$2=FALSE)),INDEX('Kompetansetilskudd og BPA'!$A$1:$R$148,$AC42,IF($AF42="3.",AO$4,AO$2)),"")} | AP42: {=IF(AND(NOT($AC42=FALSE),NOT(AP$2=FALSE)),INDEX('Kompetansetilskudd og BPA'!$A$1:$R$148,$AC42,IF($AF42="3.",AP$4,AP$2)),"")} -> 0 | AQ42: {=IF(AND(NOT($AC42=FALSE),NOT(AQ$2=FALSE)),INDEX('Kompetansetilskudd og BPA'!$A$1:$R$148,$AC42,IF($AF42="3.",AQ$4,AQ$2)),"")} -> 0 | AR42: {=IF(AND(NOT($AC42=FALSE),NOT(AR$2=FALSE)),INDEX('Kompetansetilskudd og BPA'!$A$1:$R$148,$AC42,IF($AF42="3.",AR$4,AR$2)),"")} -> 0 | AS42: {=IF(AND(NOT($AC42=FALSE),NOT(AS$2=FALSE)),INDEX('Kompetansetilskudd og BPA'!$A$1:$R$148,$AC42,IF($AF42="3.",AS$4,AS$2)),"")} | AT42: {=IF(AND(NOT($AC42=FALSE),NOT(AT$2=FALSE)),INDEX('Kompetansetilskudd og BPA'!$A$1:$R$148,$AC42,IF($AF42="3.",AT$4,AT$2)),"")} -> 0 | AU42: {=IF(AND(NOT($AC42=FALSE),NOT(AU$2=FALSE)),INDEX('Kompetansetilskudd og BPA'!$A$1:$R$148,$AC42,IF($AF42="3.",AU$4,AU$2)),"")} -> 0 | AV42: {=IF(AND(NOT(AV$2=FALSE),NOT(AD42="")),INDEX('Kompetansetilskudd og BPA'!$A$1:$R$148,$AD42,AV$2),"")} -> 0 | AW42: 3 | AX42: 0 | AY42: Kompetansetiltak (grunn-, videre- og etterutdanning) | AZ42: Bachelorutdanning helse- og sosialfag | BA42: 2.3i | BB42: Annen bachelorutdanning | BC42: 0 | BD42: 0 | BE42: 0 | BF42: 0 | BG42: 0 | BH42: 0 | BI42: 0 | BJ42: 0 | BK42: 3 | BO42: =BA42<>0 -> TRUE | BR42: =_xlfn.CONCAT(BQ41,"a") -> P1.4a | BS42: Samarbeidspartnere | CA42: ='Prosjekt 1'!$D$46 -> 0 | CB42: =BQ42>"" -> FALSE | CC42: =AND(BQ42=0,OR(BR42=0,BS42=0)) -> FALSE | CD42: =$CD$4 -> TRUE | CE42: =IF(CD42,FALSE,NOT(AND(CC42,CB43=FALSE))) -> FALSE | CF42: =IF(LEN(BQ42)=3,1,IF(CB43,5,IF(CB42,2,IF(BS42="Søknad",3,4)))) -> 4 | CG42: ='Forside og oppsummering'!$E$23 -> 0 | CH42: Prosjekt 1 | CI42: =IF(CF42=1,"",IF(CF42=2,BR42,CI41)) -> Samarbeidspartnere i innovasjonsprosjekt 1 | CJ42: =IF(CF42<3,BQ42,IF(AND(BR42=0,CE42),_xlfn.CONCAT(LEFT(BR41,LEN(BR41)-1),CHAR(CODE(RIGHT(BR41,1))+1)),BR42)) -> P1.4a | CK42: =BS42 -> Samarbeidspartnere | CL42: 0 | CM42: 0 | CN42: 0 | CO42: 0 | CP42: 0 | CQ42: 0 | CR42: 0 | CS42: 0 | CT42: =CF42 -> 4 | DI42: 0 | DJ42: Kompetansetiltak (grunn-, videre- og etterutdanning) | DK42: Bachelorutdanning helse- og sosialfag | DL42: 2.3i | DM42: Annen bachelorutdanning | DN42: 0 | DO42: 0 | DP42: 0 | DQ42: 0 | DR42: 0 | DS42: 0 | DT42: 0 | DU42: 0 | DV42: 3
E43: 0 | F43: 0 | G43: 2.3h | H43: Barnevernspedagogikk | I43: =IF(H43='Kompetansetilskudd og BPA'!$E$12,4,IF(E43=0,IF(F43=0,IF(G43=0,FALSE,3),2),1)) -> 3 | J43: =IF(I43=1,E43,IF(I43=2,F43,IF(I43=3,G43,IF(I43=4,G43)))) -> 2.3h | K43: =IF(I43=1,F43,IF(I43=2,G43,IF(I43=3,H43,IF(I43=4,H43)))) -> Barnevernspedagogikk | L43: 4 | M43: 2.4i | N43: Merknader Nærmere om hvilken annen utdanning Forsøk å skrive mindre enn 100 ord | O43: 4 | P43: 2.5e | Q43: Merknader Nærmere om hvilken annen utdanning Forsøk å skrive mindre enn 100 ord | R43: ='Forside og oppsummering'!$E$23 -> 0 | S43: =IF(O43=1,P43,S42) -> 2. | T43: =IF(O43=1,Q43,T42) -> Kompetansetiltak (grunn-, videre- og etterutdanning) | U43: =IF(O43=1,"",IF(O43=2,P43,U42)) -> 2.5. | V43: =IF(O43=1,"",IF(O43=2,Q43,V42)) -> ABC-opplæring | W43: =P43 -> 2.5e | X43: =IF(O43<3,"",IF(O43=3,Q43,X42)) -> Velferdsteknologien ABC | Y43: =IF(O44=4,P44) -> FALSE | Z43: =O43=4 -> TRUE | AA43: =IF(Z43,5,O43) -> 5 | AC43: =IF(AJ43="",FALSE,MATCH(AJ43,$J$3:$J$152,0)) -> 45 | AD43: =IF(AL43=FALSE,"",MATCH(AL43,$J$3:$J$152,0)) | AE43: 0 | AF43: 2. | AG43: Kompetansetiltak (grunn-, videre- og etterutdanning) | AH43: 2.3. | AI43: Bachelorutdanning helse- og sosialfag | AJ43: 2.3j | AK43: Annen bachelorutdanning | AL43: FALSE | AM43: {=IF(AND(NOT($AC43=FALSE),NOT(AM$2=FALSE)),INDEX('Kompetansetilskudd og BPA'!$A$1:$R$148,$AC43,AM$2),"")} -> 0 | AN43: {=IF(AND(NOT($AC43=FALSE),NOT(AN$2=FALSE)),INDEX('Kompetansetilskudd og BPA'!$A$1:$R$148,$AC43,IF($AF43="3.",AN$4,AN$2)),"")} -> 0 | AO43: {=IF(AND(NOT($AC43=FALSE),NOT(AO$2=FALSE)),INDEX('Kompetansetilskudd og BPA'!$A$1:$R$148,$AC43,IF($AF43="3.",AO$4,AO$2)),"")} | AP43: {=IF(AND(NOT($AC43=FALSE),NOT(AP$2=FALSE)),INDEX('Kompetansetilskudd og BPA'!$A$1:$R$148,$AC43,IF($AF43="3.",AP$4,AP$2)),"")} -> 0 | AQ43: {=IF(AND(NOT($AC43=FALSE),NOT(AQ$2=FALSE)),INDEX('Kompetansetilskudd og BPA'!$A$1:$R$148,$AC43,IF($AF43="3.",AQ$4,AQ$2)),"")} -> 0 | AR43: {=IF(AND(NOT($AC43=FALSE),NOT(AR$2=FALSE)),INDEX('Kompetansetilskudd og BPA'!$A$1:$R$148,$AC43,IF($AF43="3.",AR$4,AR$2)),"")} -> 0 | AS43: {=IF(AND(NOT($AC43=FALSE),NOT(AS$2=FALSE)),INDEX('Kompetansetilskudd og BPA'!$A$1:$R$148,$AC43,IF($AF43="3.",AS$4,AS$2)),"")} | AT43: {=IF(AND(NOT($AC43=FALSE),NOT(AT$2=FALSE)),INDEX('Kompetansetilskudd og BPA'!$A$1:$R$148,$AC43,IF($AF43="3.",AT$4,AT$2)),"")} -> 0 | AU43: {=IF(AND(NOT($AC43=FALSE),NOT(AU$2=FALSE)),INDEX('Kompetansetilskudd og BPA'!$A$1:$R$148,$AC43,IF($AF43="3.",AU$4,AU$2)),"")} -> 0 | AV43: {=IF(AND(NOT(AV$2=FALSE),NOT(AD43="")),INDEX('Kompetansetilskudd og BPA'!$A$1:$R$148,$AD43,AV$2),"")} | AW43: 5 | AX43: 0 | AY43: Kompetansetiltak (grunn-, videre- og etterutdanning) | AZ43: Bachelorutdanning helse- og sosialfag | BA43: 2.3j | BB43: Annen bachelorutdanning | BC43: 0 | BD43: 0 | BE43: 0 | BF43: 0 | BG43: 0 | BH43: 0 | BI43: 0 | BK43: 5 | BO43: =BA43<>0 -> TRUE | BP43: ='Prosjekt 1'!$D$50 -> P1.5 Alle estimerte kostnader for innovasjonsprosjektet (I året det søkes for) | CB43: =BQ43>"" -> FALSE | CC43: =AND(BQ43=0,OR(BR43=0,BS43=0)) -> TRUE | CD43: =$CD$4 -> TRUE | CE43: =IF(CD43,FALSE,NOT(AND(CC43,CB44=FALSE))) -> FALSE | CF43: =IF(LEN(BQ43)=3,1,IF(CB44,5,IF(CB43,2,IF(BS43="Søknad",3,4)))) -> 5 | CG43: ='Forside og oppsummering'!$E$23 -> 0 | CH43: Prosjekt 1 | CI43: =IF(CF43=1,"",IF(CF43=2,BR43,CI42)) -> Samarbeidspartnere i innovasjonsprosjekt 1 | CJ43: =IF(CF43<3,BQ43,IF(AND(BR43=0,CE43),_xlfn.CONCAT(LEFT(BR42,LEN(BR42)-1),CHAR(CODE(RIGHT(BR42,1))+1)),BR43)) -> 0 | CK43: =BS43 -> 0 | CL43: 0 | CM43: 0 | CN43: 0 | CO43: 0 | CP43: 0 | CQ43: 0 | CR43: 0 | CS43: 0 | CT43: =CF43 -> 5 | DI43: 0 | DJ43: Kompetansetiltak (grunn-, videre- og etterutdanning) | DK43: Bachelorutdanning helse- og sosialfag | DL43: 2.3j | DM43: Annen bachelorutdanning | DN43: 0 | DO43: 0 | DP43: 0 | DQ43: 0 | DR43: 0 | DS43: 0 | DT43: 0 | DV43: 5
E44: 0 | F44: 0 | G44: 2.3i | H44: Annen bachelorutdanning | I44: =IF(H44='Kompetansetilskudd og BPA'!$E$12,4,IF(E44=0,IF(F44=0,IF(G44=0,FALSE,3),2),1)) -> 3 | J44: =IF(I44=1,E44,IF(I44=2,F44,IF(I44=3,G44,IF(I44=4,G44)))) -> 2.3i | K44: =IF(I44=1,F44,IF(I44=2,G44,IF(I44=3,H44,IF(I44=4,H44)))) -> Annen bachelorutdanning | L44: 2 | M44: 2.5. | N44: ABC-opplæring | O44: 2 | P44: 2.6. | Q44: Annen internopplæring / korte etterutdanninger /kurs mv. | R44: ='Forside og oppsummering'!$E$23 -> 0 | S44: =IF(O44=1,P44,S43) -> 2. | T44: =IF(O44=1,Q44,T43) -> Kompetansetiltak (grunn-, videre- og etterutdanning) | U44: =IF(O44=1,"",IF(O44=2,P44,U43)) -> 2.6. | V44: =IF(O44=1,"",IF(O44=2,Q44,V43)) -> Annen internopplæring / korte etterutdanninger /kurs mv. | W44: =P44 -> 2.6. | X44: =IF(O44<3,"",IF(O44=3,Q44,X43)) | Y44: =IF(O45=4,P45) -> FALSE | Z44: =O44=4 -> FALSE | AA44: =IF(Z44,5,O44) -> 2 | AC44: =IF(AJ44="",FALSE,MATCH(AJ44,$J$3:$J$152,0)) -> 48 | AD44: =IF(AL44=FALSE,"",MATCH(AL44,$J$3:$J$152,0)) | AE44: 0 | AF44: 2. | AG44: Kompetansetiltak (grunn-, videre- og etterutdanning) | AH44: 2.4. | AI44: Videreutdanning og mastergradutdanning (påbygg bachelorutdanning) | AJ44: 2.4. | AL44: FALSE | AM44: {=IF(AND(NOT($AC44=FALSE),NOT(AM$2=FALSE)),INDEX('Kompetansetilskudd og BPA'!$A$1:$R$148,$AC44,AM$2),"")} -> 0 | AN44: {=IF(AND(NOT($AC44=FALSE),NOT(AN$2=FALSE)),INDEX('Kompetansetilskudd og BPA'!$A$1:$R$148,$AC44,IF($AF44="3.",AN$4,AN$2)),"")} -> 0 | AO44: {=IF(AND(NOT($AC44=FALSE),NOT(AO$2=FALSE)),INDEX('Kompetansetilskudd og BPA'!$A$1:$R$148,$AC44,IF($AF44="3.",AO$4,AO$2)),"")} | AP44: {=IF(AND(NOT($AC44=FALSE),NOT(AP$2=FALSE)),INDEX('Kompetansetilskudd og BPA'!$A$1:$R$148,$AC44,IF($AF44="3.",AP$4,AP$2)),"")} -> 0 | AQ44: {=IF(AND(NOT($AC44=FALSE),NOT(AQ$2=FALSE)),INDEX('Kompetansetilskudd og BPA'!$A$1:$R$148,$AC44,IF($AF44="3.",AQ$4,AQ$2)),"")} -> 0 | AR44: {=IF(AND(NOT($AC44=FALSE),NOT(AR$2=FALSE)),INDEX('Kompetansetilskudd og BPA'!$A$1:$R$148,$AC44,IF($AF44="3.",AR$4,AR$2)),"")} -> 0 | AS44: {=IF(AND(NOT($AC44=FALSE),NOT(AS$2=FALSE)),INDEX('Kompetansetilskudd og BPA'!$A$1:$R$148,$AC44,IF($AF44="3.",AS$4,AS$2)),"")} | AT44: {=IF(AND(NOT($AC44=FALSE),NOT(AT$2=FALSE)),INDEX('Kompetansetilskudd og BPA'!$A$1:$R$148,$AC44,IF($AF44="3.",AT$4,AT$2)),"")} -> 0 | AU44: {=IF(AND(NOT($AC44=FALSE),NOT(AU$2=FALSE)),INDEX('Kompetansetilskudd og BPA'!$A$1:$R$148,$AC44,IF($AF44="3.",AU$4,AU$2)),"")} -> 0 | AV44: {=IF(AND(NOT(AV$2=FALSE),NOT(AD44="")),INDEX('Kompetansetilskudd og BPA'!$A$1:$R$148,$AD44,AV$2),"")} | AW44: 2 | AX44: 0 | AY44: Kompetansetiltak (grunn-, videre- og etterutdanning) | AZ44: Videreutdanning og mastergradutdanning (påbygg bachelorutdanning) | BA44: 2.4. | BC44: 0 | BD44: 0 | BE44: 0 | BF44: 0 | BG44: 0 | BH44: 0 | BI44: 0 | BK44: 2 | BO44: =BA44<>0 -> TRUE | BP44: =FIND(" ",BP43) -> 5 | BQ44: =LEFT(BP43,BP44) -> P1.5 | BR44: =RIGHT(BP43,LEN(BP43)-BP44-1) -> Alle estimerte kostnader for innovasjonsprosjektet (I året det søkes for) | CB44: =BQ44>"" -> TRUE | CC44: =AND(BQ44=0,OR(BR44=0,BS44=0)) -> FALSE | CD44: =$CD$4 -> TRUE | CE44: =IF(CD44,FALSE,NOT(AND(CC44,CB45=FALSE))) -> FALSE | CF44: =IF(LEN(BQ44)=3,1,IF(CB45,5,IF(CB44,2,IF(BS44="Søknad",3,4)))) -> 2 | CG44: ='Forside og oppsummering'!$E$23 -> 0 | CH44: Prosjekt 1 | CI44: =IF(CF44=1,"",IF(CF44=2,BR44,CI43)) -> Alle estimerte kostnader for innovasjonsprosjektet (I året det søkes for) | CJ44: =IF(CF44<3,BQ44,IF(AND(BR44=0,CE44),_xlfn.CONCAT(LEFT(BR43,LEN(BR43)-1),CHAR(CODE(RIGHT(BR43,1))+1)),BR44)) -> P1.5 | CK44: =BS44 -> 0 | CL44: 0 | CM44: 0 | CN44: 0 | CO44: 0 | CP44: 0 | CQ44: 0 | CR44: 0 | CS44: 0 | CT44: =CF44 -> 2 | DI44: 0 | DJ44: Kompetansetiltak (grunn-, videre- og etterutdanning) | DK44: Videreutdanning og mastergradutdanning (påbygg bachelorutdanning) | DL44: 2.4. | DN44: 0 | DO44: 0 | DP44: 0 | DQ44: 0 | DR44: 0 | DS44: 0 | DT44: 0 | DV44: 2
