Workbook

Sheet Forside og oppsummering
B4: Søknad om Kommunalt kompetanse- og innovasjonstilskudd
B6: Instruksjoner til søknadsskjemaet
C7: Søknadsskjemaet er delt inn i flere faner:
D8: Forside og oppsummering: I denne fanen oppgir dere informasjon om kommunen. Her oppsummeres det også hva som er søkt om slik at en kan få en oversikt etter at søknaden er ferdig utfylt.
D9: Kompetansetilskudd og BPA: I denne fanen fyller dere inn for de utdannelsene / kursene det søkes om.
D10: Prosjekt (1-5): I disse fanene fyller dere inn prosjektbeskrivelse og budsjett for eventuelle innovasjonsprosjekter. Det kan maksimalt søkes om 5 ulike innovasjonsprosjekter
C12: Begreper i seksjonen for kompetansetilskudd:
D13: Ubrukte midler ønskes overført: Dersom dere har ubrukte midler igjen fra et tiltak i forrige periode så kan disse midlene søkes overført til kommende periode.
D14: Søknadsbeløp: Dette er hvor mye nytt tilskudd som søkes utbetalt til tiltaket.
D15: Eksempel: Dersom et tiltak totalt koster 20 000kr og dere har igjen 5 000kr i ubrukte midler som ønskes overført, så blir søknadsbeløpet 15 000kr.
C17: Det er bare cellene som er fargelagt med gul/lys gul som kan fylles ut
C19: Skjemaet skal sendes inn som excel-fil og ikke konverteres til PDF.
B22: 1. | C22: Informasjon om kommunen
C23: 1.1. | D23: Navn på kommunen
C24: 1.2. | D24: Org.nummer
C25: 1.3. | D25: Kontonummer
C26: 1.4. | D26: Kontaktperson Én person
C27: 1.5. | D27: E-post Til kontaktperson
C28: 1.6. | D28: Telefon Til kontaktperson
C29: 1.7. | D29: Merknad på utbetalingen
C30: 1.8. | D30: Har kommunen kompetanseplan? (Ja/Nei) Vedlegges søknaden
C32: Bekreftelse på tildelt myndighet
C33: Jeg, som innsender av søknadsskjemaet, bekrefter å ha blitt gitt fullmakt, av kommunaldirektør, eller den vedkommende har delegert myndighet til, til å søke på vegne av nevnte kommune. Min bekreftelse innebærer at kommunen aksepterer vilkårene for å motta tilskuddsmidler, som er oppført i regelverket for tilskuddsordningen.
C36: Sted/dato/navn
B41: 2. | C41: Oppsummering av Kompetansetiltak (grunn-, videre- og etterutdanning)
E43: ='Kompetansetilskudd og BPA'!F$6 -> Videreføring: Antall personer | F43: ='Kompetansetilskudd og BPA'!G$6 -> Antall nye personer | G43: ='Kompetansetilskudd og BPA'!I$6 -> Ubrukte midler som ønskes overført | H43: ='Kompetansetilskudd og BPA'!J$6 -> Søknads- beløp | I43: ='Kompetansetilskudd og BPA'!K$6 -> Ubrukte midler som tilbakebetales | J43: ='Kompetansetilskudd og BPA'!M$6 -> Totalt antall personer det søkes for | K43: ='Kompetansetilskudd og BPA'!N$6 -> Totalt beløp det søkes om til tiltaket
C44: 2.1. | D44: Videregående skole, fag- og yrkesopplæring innen helse (fagbrev) | E44: ='Kompetansetilskudd og BPA'!F10 -> 0 | F44: ='Kompetansetilskudd og BPA'!G10 -> 0 | G44: ='Kompetansetilskudd og BPA'!I10 -> 0 | H44: ='Kompetansetilskudd og BPA'!J10 -> 0 | I44: ='Kompetansetilskudd og BPA'!K10 -> 0 | J44: ='Kompetansetilskudd og BPA'!M10 -> 0 | K44: ='Kompetansetilskudd og BPA'!N10 -> 0
C45: 2.2. | D45: Fagskoleutdanning | E45: ='Kompetansetilskudd og BPA'!F25 -> 0 | F45: ='Kompetansetilskudd og BPA'!G25 -> 0 | G45: ='Kompetansetilskudd og BPA'!I25 -> 0 | H45: ='Kompetansetilskudd og BPA'!J25 -> 0 | I45: ='Kompetansetilskudd og BPA'!K25 -> 0 | J45: ='Kompetansetilskudd og BPA'!M25 -> 0 | K45: ='Kompetansetilskudd og BPA'!N25 -> 0
C46: 2.3. | D46: Bachelorutdanning helse- og sosialfag | E46: ='Kompetansetilskudd og BPA'!F43 -> 0 | F46: ='Kompetansetilskudd og BPA'!G43 -> 0 | G46: ='Kompetansetilskudd og BPA'!I43 -> 0 | H46: ='Kompetansetilskudd og BPA'!J43 -> 0 | I46: ='Kompetansetilskudd og BPA'!K43 -> 0 | J46: ='Kompetansetilskudd og BPA'!M43 -> 0 | K46: ='Kompetansetilskudd og BPA'!N43 -> 0
C47: 2.4. | D47: Videreutdanning og mastergradutdanning (påbygg bachelorutdanning) | E47: ='Kompetansetilskudd og BPA'!F61 -> 0 | F47: ='Kompetansetilskudd og BPA'!G61 -> 0 | G47: ='Kompetansetilskudd og BPA'!I61 -> 0 | H47: ='Kompetansetilskudd og BPA'!J61 -> 0 | I47: ='Kompetansetilskudd og BPA'!K61 -> 0 | J47: ='Kompetansetilskudd og BPA'!M61 -> 0 | K47: ='Kompetansetilskudd og BPA'!N61 -> 0
C48: 2.5. | D48: ABC-opplæring | E48: ='Kompetansetilskudd og BPA'!F74 -> 0 | F48: ='Kompetansetilskudd og BPA'!G74 -> 0 | G48: ='Kompetansetilskudd og BPA'!I74 -> 0 | H48: ='Kompetansetilskudd og BPA'!J74 -> 0 | I48: ='Kompetansetilskudd og BPA'!K74 -> 0 | J48: ='Kompetansetilskudd og BPA'!M74 -> 0 | K48: ='Kompetansetilskudd og BPA'!N74 -> 0
C49: 2.6. | D49: Annen internopplæring / korte etterutdanninger /kurs mv. | E49: ='Kompetansetilskudd og BPA'!F86 -> 0 | F49: ='Kompetansetilskudd og BPA'!G86 -> 0 | G49: ='Kompetansetilskudd og BPA'!I86 -> 0 | H49: ='Kompetansetilskudd og BPA'!J86 -> 0 | I49: ='Kompetansetilskudd og BPA'!K86 -> 0 | J49: ='Kompetansetilskudd og BPA'!M86 -> 0 | K49: ='Kompetansetilskudd og BPA'!N86 -> 0
D50: SUM Kompetansetiltak: | E50: =SUM(E44:E49) -> 0 | F50: =SUM(F44:F49) -> 0 | G50: =SUM(G44:G49) -> 0 | H50: =SUM(H44:H49) -> 0 | I50: =SUM(I44:I49) -> 0 | J50: =SUM(J44:J49) -> 0 | K50: =SUM(K44:K49) -> 0
B53: 3. | C53: Oppsummering av Opplæringstilskudd BPA (brukerstyrt personlig assistanse)
F55: Totalt antall personer | G55: ='Kompetansetilskudd og BPA'!I$6 -> Ubrukte midler som ønskes overført | H55: ='Kompetansetilskudd og BPA'!J$6 -> Søknads- beløp | I55: ='Kompetansetilskudd og BPA'!K$6 -> Ubrukte midler som tilbakebetales | J55: ='Kompetansetilskudd og BPA'!N$6 -> Totalt beløp det søkes om til tiltaket
E56: SUM BPA: | F56: ='Kompetansetilskudd og BPA'!G102 -> 0 | G56: ='Kompetansetilskudd og BPA'!I102 -> 0 | H56: ='Kompetansetilskudd og BPA'!J102 -> 0 | I56: ='Kompetansetilskudd og BPA'!K102 -> 0 | J56: ='Kompetansetilskudd og BPA'!M102 -> 0
B59: 4. | C59: Oppsummering av innovasjonsprosjekter
H61: Tallene er hentet fra innovasjonsprosjektenes egne faner
E62: Rangering etter antatt nytte Der 1 er høyest og 5 er lavest (Valgfritt) | F62: Kostnader | G62: Andre inntekter | H62: Ubrukte midler som ønskes overført | I62: Søknadsbeløp | J62: Totalt beløp det søkes om til tiltaket
D63: ='Prosjekt 1'!$C$2 -> Innovasjonsprosjekt 1: | E63: =IF('Prosjekt 1'!$G$11="","",'Prosjekt 1'!$G$11) | F63: ='Prosjekt 1'!$G$73 -> 0 | G63: ='Prosjekt 1'!$H$73 -> 0 | H63: ='Prosjekt 1'!$F$73 -> 0 | I63: =J63-H63 -> 0 | J63: =F63-G63 -> 0
...

Sheet Kompetansetilskudd og BPA
B2: 2. | C2: Kompetansetiltak (grunn-, videre- og etterutdanning)
C3: 2.1. | D3: Videregående skole, fag- og yrkesopplæring innen helse (fagbrev)
F5: Personer | I5: Beløper | M5: Oppsummering
F6: Videreføring: Antall personer | G6: Antall nye personer | I6: Ubrukte midler som ønskes overført | J6: Søknads- beløp | K6: Ubrukte midler som tilbakebetales | M6: Totalt antall personer det søkes for | N6: Totalt beløp det søkes om til tiltaket | P6: Statsforvalteren (Fylles ikke ut av kommunen)
E7: Utdanningstype | F7: Personer som fortsetter påbegynt utdannelse | G7: Personer som starter ny utdannelse | I7: Ubrukte midler som ønskes overført til kommende periode | J7: Nye midler som søkes utbetalt til tiltaket | M7: (Autosummert) | N7: (Autosummert) | P7: Resultat vedtak | Q7: Totalt innvilget tildelingsbeløp | R7: Totalt innvilget utbetalingsbeløp
D8: 2.1a | E8: Helsefagarbeider | M8: =F8+G8 -> 0 | N8: =I8+J8 -> 0
D9: 2.1b | E9: Annen utdanning på videregående skolenivå | M9: =F9+G9 -> 0 | N9: =I9+J9 -> 0
E10: 2.1. SUM: | F10: =SUM(F8:F9) -> 0 | G10: =SUM(G8:G9) -> 0 | I10: =SUM(I8:I9) -> 0 | J10: =SUM(J8:J9) -> 0 | K10: =SUM(K8:K9) -> 0 | M10: =SUM(M8:M9) -> 0 | N10: =SUM(N8:N9) -> 0 | Q10: =SUM(Q8:Q9) -> 0 | R10: =SUM(R8:R9) -> 0
D12: 2.1c | E12: Merknader Nærmere om hvilken annen utdanning Forsøk å skrive mindre enn 100 ord | S12: =IF(LEN(F12)-LEN(SUBSTITUTE(F12," ",""))>100,_xlfn.CONCAT("Du har skrevet ",LEN(F12)-LEN(SUBSTITUTE(F12," ",""))," ord i merknadsfeltet. Forsøk å korte ned."),"")
C14: 2.2. | D14: Fagskoleutdanning
F16: Personer | I16: Beløper | M16: Oppsummering
F17: =F$6 -> Videreføring: Antall personer | G17: =G$6 -> Antall nye personer | I17: =I$6 -> Ubrukte midler som ønskes overført | J17: =J$6 -> Søknads- beløp | K17: =K$6 -> Ubrukte midler som tilbakebetales | M17: =M$6 -> Totalt antall personer det søkes for | N17: =N$6 -> Totalt beløp det søkes om til tiltaket | P17: Statsforvalteren (Fylles ikke ut av kommunen)
E18: Utdanningstype | F18: =IF(F$7="","",F$7) -> Personer som fortsetter påbegynt utdannelse | G18: =IF(G$7="","",G$7) -> Personer som starter ny utdannelse | I18: =IF(I$7="","",I$7) -> Ubrukte midler som ønskes overført til kommende periode | J18: =IF(J$7="","",J$7) -> Nye midler som søkes utbetalt til tiltaket | K18: =IF(K$7="","",K$7) | M18: =IF(M$7="","",M$7) -> (Autosummert) | N18: =IF(N$7="","",N$7) -> (Autosummert) | P18: Resultat vedtak | Q18: Totalt innvilget tildelingsbeløp | R18: Totalt innvilget utbetalingsbeløp
D19: 2.2a | E19: Psykisk helsearbeid og rusarbeid | M19: =F19+G19 -> 0 | N19: =I19+J19 -> 0
D20: 2.2b | E20: Eldreomsorg/demens | M20: =F20+G20 -> 0 | N20: =I20+J20 -> 0
D21: 2.2c | E21: Habilitering/rehabilitering | M21: =F21+G21 -> 0 | N21: =I21+J21 -> 0
D22: 2.2d | E22: Kreftomsorg/lindrende behandling | M22: =F22+G22 -> 0 | N22: =I22+J22 -> 0
D23: 2.2e | E23: Veiledning | M23: =F23+G23 -> 0 | N23: =I23+J23 -> 0
D24: 2.2f | E24: Annen fagskoleutdanning | M24: =F24+G24 -> 0 | N24: =I24+J24 -> 0
E25: 2.2. SUM: | F25: =SUM(F19:F24) -> 0 | G25: =SUM(G19:G24) -> 0 | I25: =SUM(I19:I24) -> 0 | J25: =SUM(J19:J24) -> 0 | K25: =SUM(K19:K24) -> 0 | M25: =SUM(M19:M24) -> 0 | N25: =SUM(N19:N24) -> 0 | Q25: =SUM(Q19:Q24) -> 0 | R25: =SUM(R19:R24) -> 0
D27: 2.2g | E27: Merknader Nærmere om hvilken annen utdanning Forsøk å skrive mindre enn 100 ord | S27: =IF(LEN(F27)-LEN(SUBSTITUTE(F27," ",""))>100,_xlfn.CONCAT("Du har skrevet ",LEN(F27)-LEN(SUBSTITUTE(F27," ",""))," ord i merknadsfeltet. Forsøk å korte ned."),"")
C29: 2.3. | D29: Bachelorutdanning helse- og sosialfag
F31: Personer | I31: Beløper | M31: Oppsummering
F32: =F$6 -> Videreføring: Antall personer | G32: =G$6 -> Antall nye personer | I32: =I$6 -> Ubrukte midler som ønskes overført | J32: =J$6 -> Søknads- beløp | K32: =K$6 -> Ubrukte midler som tilbakebetales | M32: =M$6 -> Totalt antall personer det søkes for | N32: =N$6 -> Totalt beløp det søkes om til tiltaket | P32: Statsforvalteren (Fylles ikke ut av kommunen)
E33: Utdanningstype | F33: =IF(F$7="","",F$7) -> Personer som fortsetter påbegynt utdannelse | G33: =IF(G$7="","",G$7) -> Personer som starter ny utdannelse | I33: =IF(I$7="","",I$7) -> Ubrukte midler som ønskes overført til kommende periode | J33: =IF(J$7="","",J$7) -> Nye midler som søkes utbetalt til tiltaket | K33: =IF(K$7="","",K$7) | M33: =IF(M$7="","",M$7) -> (Autosummert) | N33: =IF(N$7="","",N$7) -> (Autosummert) | P33: Resultat vedtak | Q33: Totalt innvilget tildelingsbeløp | R33: Totalt innvilget utbetalingsbeløp
D34: 2.3a | E34: Sykepleie | M34: =F34+G34 -> 0 | N34: =I34+J34 -> 0
D35: 2.3b | E35: Desentralisert sykepleie | M35: =F35+G35 -> 0 | N35: =I35+J35 -> 0
D36: 2.3c | E36: Vernepleie | M36: =F36+G36 -> 0 | N36: =I36+J36 -> 0
D37: 2.3d | E37: Desentralisert vernepleie | M37: =F37+G37 -> 0 | N37: =I37+J37 -> 0
D38: 2.3e | E38: Fysioterapi | M38: =F38+G38 -> 0 | N38: =I38+J38 -> 0
D39: 2.3f | E39: Ergoterapi | M39: =F39+G39 -> 0 | N39: =I39+J39 -> 0
D40: 2.3g | E40: Sosial arbeid (sosionom) | M40: =F40+G40 -> 0 | N40: =I40+J40 -> 0
D41: 2.3h | E41: Barnevernspedagogikk | M41: =F41+G41 -> 0 | N41: =I41+J41 -> 0
D42: 2.3i | E42: Annen bachelorutdanning | M42: =F42+G42 -> 0 | N42: =I42+J42 -> 0
E43: 2.3. SUM: | F43: =SUM(F34:F42) -> 0 | G43: =SUM(G34:G42) -> 0 | I43: =SUM(I34:I42) -> 0 | J43: =SUM(J34:J42) -> 0 | K43: =SUM(K34:K42) -> 0 | M43: =SUM(M34:M42) -> 0 | N43: =SUM(N34:N42) -> 0 | Q43: =SUM(Q34:Q42) -> 0 | R43: =SUM(R34:R42) -> 0
D45: 2.3j | E45: Merknader Nærmere om hvilken annen utdanning Forsøk å skrive mindre enn 100 ord | S45: =IF(LEN(F45)-LEN(SUBSTITUTE(F45," ",""))>100,_xlfn.CONCAT("Du har skrevet ",LEN(F45)-LEN(SUBSTITUTE(F45," ",""))," ord i merknadsfeltet. Forsøk å korte ned."),"")
C48: 2.4. | D48: Videreutdanning og mastergradutdanning (påbygg bachelorutdanning)
F50: Personer | I50: Beløper | M50: Oppsummering
F51: =F$6 -> Videreføring: Antall personer | G51: =G$6 -> Antall nye personer | I51: =I$6 -> Ubrukte midler som ønskes overført | J51: =J$6 -> Søknads- beløp | K51: =K$6 -> Ubrukte midler som tilbakebetales | M51: =M$6 -> Totalt antall personer det søkes for | N51: =N$6 -> Totalt beløp det søkes om til tiltaket | P51: Statsforvalteren (Fylles ikke ut av kommunen)
E52: Utdanningstype | F52: =IF(F$7="","",F$7) -> Personer som fortsetter påbegynt utdannelse | G52: =IF(G$7="","",G$7) -> Personer som starter ny utdannelse | I52: =IF(I$7="","",I$7) -> Ubrukte midler som ønskes overført til kommende periode | J52: =IF(J$7="","",J$7) -> Nye midler som søkes utbetalt til tiltaket | K52: =IF(K$7="","",K$7) | M52: =IF(M$7="","",M$7) -> (Autosummert) | N52: =IF(N$7="","",N$7) -> (Autosummert) | P52: Resultat vedtak | Q52: Totalt innvilget tildelingsbeløp | R52: Totalt innvilget utbetalingsbeløp
...

Sheet Prosjekt 1
B1: 1
C2: =_xlfn.CONCAT("Innovasjonsprosjekt ", B1, ": ",G8) -> Innovasjonsprosjekt 1:
E3: - Statsforvalteren legger særlig vekt på samlet måloppnåelse i prosjektet ved vurdering av søknadene.
E4: - Dersom dere har flere prosjekter kan dere velge å angi rangering på hvert prosjekt for å fremheve hvilke prosjekter dere anser at gir mest nytte for kommunen
C7: P1.1 | D7: Overordnede prosjektdetaljer
D8: P1.1a | E8: Tittel for innovasjonsprosjektet Skriv inn en tittel som er beskrivende for prosjektet - maks 100 tegn | M8: =IF(LEN(G8)-LEN(SUBSTITUTE(G8," ",""))>100,_xlfn.CONCAT("Du har skrevet ",LEN(G8)-LEN(SUBSTITUTE(G8," ",""))," ord. Forsøk å korte ned."),"")
D9: P1.1b | E9: Er dette videreføring av et eksisterende innovasjonsprosjekt? (Ja/Nei)
D10: P1.1c | E10: Estimert startdato for innovasjonsprosjektet
D11: P1.1d | E11: Prioritering i forhold til andre innovasjonsprosjekter (Valgfritt) Dersom dere her søker om flere innovasjonsprosjekter og mener at det kan være ulikt hvor mye nytte de gir så kan dere bruke dette feltet til å opplyse om dette. Angi 1 for innovasjonsprosjektet dere anser at har størst nytte og 2 for innovasjonsprosjektet med nest høyest nytte osv. | K11: (Valgfritt)
D12: P1.1e | E12: Status for innovasjonsprosjektet - Besvares dersom dette er videreføring av et eksisterende innovasjonsprosjekt - Beskriv kort hva som er status for innovasjonsprosjektet og hvordan prosjektet ligger an i forhold til den opprinnelige fremdriftsplanen
C14: P1.2 | D14: =_xlfn.CONCAT("Tema for innovasjonsprosjekt ",B1) -> Tema for innovasjonsprosjekt 1
D15: Marker de temaene som inngår i innovasjonsprosjektet med "Ja"
D16: P1.2a | E16: Forebygging tidlig innsats og egenmestring
D17: P1.2b | E17: Fritidsaktivitet med assistanse
D18: P1.2c | E18: Kulturopplevelser
D19: P1.2d | E19: Ernæring
D20: P1.2e | E20: Legemiddelhåndtering
D21: P1.2f | E21: Rehabilitering og Habilitering
D22: P1.2g | E22: Samspill med pårørende og frivillige i omsorgssektoren generelt og demensomsorgen spesielt
D23: P1.2h | E23: Andre nyskapende løsninger av stor betydning for brukerne av de kommunale helse- og omsorgstjenestene
C25: P1.3 | D25: =_xlfn.CONCAT("Prosjektbeskrivelse: Innovasjonsprosjekt ",B1) -> Prosjektbeskrivelse: Innovasjonsprosjekt 1
D26: - Fyll inn deltaljer for innovasjonsprosjektet der dette er hensiktsmessig - Forsøk å skrive kortfattet (Med et detaljnivå som står i rimelig forhold til innovasjonsprosjektets omfang)
D27: P1.3a | E27: Kort beskrivelse | M27: =IF(LEN(G27)-LEN(SUBSTITUTE(G27," ",""))>100,_xlfn.CONCAT("Du har skrevet ",LEN(G27)-LEN(SUBSTITUTE(G27," ",""))," ord. Forsøk å korte ned."),"")
E28: Gi en kort beskrivelse av innovasjonsprosjektet, herunder delprosjekter, tiltak og bakgrunn for innovasjonsprosjektet
D29: P1.3b | E29: Mål for tiltaket på kort og lengre sikt | M29: =IF(LEN(G29)-LEN(SUBSTITUTE(G29," ",""))>100,_xlfn.CONCAT("Du har skrevet ",LEN(G29)-LEN(SUBSTITUTE(G29," ",""))," ord. Forsøk å korte ned."),"")
E30: Herunder mål for året dere søker om tilskudd og målgruppe for tiltaket
D31: P1.3c | E31: Aktivitets- og fremdriftsplan for året dere søker tilskudd | M31: =IF(LEN(G31)-LEN(SUBSTITUTE(G31," ",""))>100,_xlfn.CONCAT("Du har skrevet ",LEN(G31)-LEN(SUBSTITUTE(G31," ",""))," ord. Forsøk å korte ned."),"")
E32: Sett inn de viktigste aktivitetene for å nå målene for innovasjonsprosjektet og angi gjerne måned for gjennomføring
D33: P1.3d | E33: Metoder kunnskap eller erfaring | M33: =IF(LEN(G33)-LEN(SUBSTITUTE(G33," ",""))>100,_xlfn.CONCAT("Du har skrevet ",LEN(G33)-LEN(SUBSTITUTE(G33," ",""))," ord. Forsøk å korte ned."),"")
E34: Beskriv hvilke teorier / faglige metoder dere benytter i innovasjonsprosjektet eller hvilken kunnskap/erfaring dere bygger på. Herunder metoder for brukermedvirkning
D35: P1.3e | E35: Gevinster og effekter | M35: =IF(LEN(G35)-LEN(SUBSTITUTE(G35," ",""))>100,_xlfn.CONCAT("Du har skrevet ",LEN(G35)-LEN(SUBSTITUTE(G35," ",""))," ord. Forsøk å korte ned."),"")
E36: Hvilke konkrete gevinster/effekter forventes tiltaket å gi, hvilken betydning kan det få for omlegging av praksis
D37: P1.3f | E37: Risikofaktorer | M37: =IF(LEN(G37)-LEN(SUBSTITUTE(G37," ",""))>100,_xlfn.CONCAT("Du har skrevet ",LEN(G37)-LEN(SUBSTITUTE(G37," ",""))," ord. Forsøk å korte ned."),"")
E38: Hvilke faktorer gjør det usikkert at dere når målene, selv om dere mottar tilskudd fra Statsforvalteren?
D39: P1.3g | E39: Forankring internt i kommunen | M39: =IF(LEN(G39)-LEN(SUBSTITUTE(G39," ",""))>100,_xlfn.CONCAT("Du har skrevet ",LEN(G39)-LEN(SUBSTITUTE(G39," ",""))," ord. Forsøk å korte ned."),"")
E40: Beskriv hvordan tiltaket er forankret internt i kommunen, faglig og administrativt i både utviklings og implementeringsfasen
D41: P1.3h | E41: Kontrolltiltak | M41: =IF(LEN(G41)-LEN(SUBSTITUTE(G41," ",""))>100,_xlfn.CONCAT("Du har skrevet ",LEN(G41)-LEN(SUBSTITUTE(G41," ",""))," ord. Forsøk å korte ned."),"")
E42: -Beskriv de interne og eksterne kontrolltiltak hos dere som skal sikre korrekt rapportering og at målene nås. -Beskriv om de gjennomføres allerede eller er planlagt. -Interne kontrollaktiviteter, internrevisjon, autorisert / ikke autorisert revisor, andre offentlige tilsyn, Riksrevisjonen, evaluering og systematisk kvalitetssikret dokumentasjon er eksempler på kontrolltiltak som kan øke sikkerheten for at målene nås.
C44: P1.4 | D44: =_xlfn.CONCAT("Samarbeidspartnere i innovasjonsprosjekt ",B1) -> Samarbeidspartnere i innovasjonsprosjekt 1
D45: Skriv navnet på virksomheter og organisasjoner som er samarbeidspartnere i innovasjonsprosjektet
...

Sheet Prosjekt 2
B1: 2
C2: =_xlfn.CONCAT("Innovasjonsprosjekt ", B1, ": ",G8) -> Innovasjonsprosjekt 2:
E3: - Statsforvalteren legger særlig vekt på samlet måloppnåelse i prosjektet ved vurdering av søknadene.
E4: - Dersom dere har flere prosjekter kan dere velge å angi rangering på hvert prosjekt for å fremheve hvilke prosjekter dere anser at gir mest nytte for kommunen
C7: P2.1 | D7: Overordnede prosjektdetaljer
D8: P2.1a | E8: Tittel for innovasjonsprosjektet Skriv inn en tittel som er beskrivende for prosjektet - maks 100 tegn | M8: =IF(LEN(G8)-LEN(SUBSTITUTE(G8," ",""))>100,_xlfn.CONCAT("Du har skrevet ",LEN(G8)-LEN(SUBSTITUTE(G8," ",""))," ord. Forsøk å korte ned."),"")
D9: P2.1b | E9: Er dette videreføring av et eksisterende innovasjonsprosjekt? (Ja/Nei)
D10: P2.1c | E10: Estimert startdato for innovasjonsprosjektet
D11: P2.1d | E11: Prioritering i forhold til andre innovasjonsprosjekter (Valgfritt) Dersom dere her søker om flere innovasjonsprosjekter og mener at det kan være ulikt hvor mye nytte de gir så kan dere bruke dette feltet til å opplyse om dette. Angi 1 for innovasjonsprosjektet dere anser at har størst nytte og 2 for innovasjonsprosjektet med nest høyest nytte osv. | K11: (Valgfritt)
D12: P2.1e | E12: Status for innovasjonsprosjektet - Besvares dersom dette er videreføring av et eksisterende innovasjonsprosjekt - Beskriv kort hva som er status for innovasjonsprosjektet og hvordan prosjektet ligger an i forhold til den opprinnelige fremdriftsplanen
C14: P2.2 | D14: =_xlfn.CONCAT("Tema for innovasjonsprosjekt ",B1) -> Tema for innovasjonsprosjekt 2
D15: Marker de temaene som inngår i innovasjonsprosjektet med "Ja"
D16: P2.2a | E16: Forebygging tidlig innsats og egenmestring
D17: P2.2b | E17: Fritidsaktivitet med assistanse
D18: P2.2c | E18: Kulturopplevelser
D19: P2.2d | E19: Ernæring
D20: P2.2e | E20: Legemiddelhåndtering
D21: P2.2f | E21: Rehabilitering og Habilitering
D22: P2.2g | E22: Samspill med pårørende og frivillige i omsorgssektoren generelt og demensomsorgen spesielt
D23: P2.2h | E23: Andre nyskapende løsninger av stor betydning for brukerne av de kommunale helse- og omsorgstjenestene
C25: P2.3 | D25: =_xlfn.CONCAT("Prosjektbeskrivelse: Innovasjonsprosjekt ",B1) -> Prosjektbeskrivelse: Innovasjonsprosjekt 2
D26: - Fyll inn deltaljer for innovasjonsprosjektet der dette er hensiktsmessig - Forsøk å skrive kortfattet (Med et detaljnivå som står i rimelig forhold til innovasjonsprosjektets omfang)
D27: P2.3a | E27: Kort beskrivelse | M27: =IF(LEN(G27)-LEN(SUBSTITUTE(G27," ",""))>100,_xlfn.CONCAT("Du har skrevet ",LEN(G27)-LEN(SUBSTITUTE(G27," ",""))," ord. Forsøk å korte ned."),"")
E28: Gi en kort beskrivelse av innovasjonsprosjektet, herunder delprosjekter, tiltak og bakgrunn for innovasjonsprosjektet
D29: P2.3b | E29: Mål for tiltaket på kort og lengre sikt | M29: =IF(LEN(G29)-LEN(SUBSTITUTE(G29," ",""))>100,_xlfn.CONCAT("Du har skrevet ",LEN(G29)-LEN(SUBSTITUTE(G29," ",""))," ord. Forsøk å korte ned."),"")
E30: Herunder mål for året dere søker om tilskudd og målgruppe for tiltaket
D31: P2.3c | E31: Aktivitets- og fremdriftsplan for året dere søker tilskudd | M31: =IF(LEN(G31)-LEN(SUBSTITUTE(G31," ",""))>100,_xlfn.CONCAT("Du har skrevet ",LEN(G31)-LEN(SUBSTITUTE(G31," ",""))," ord. Forsøk å korte ned."),"")
E32: Sett inn de viktigste aktivitetene for å nå målene for innovasjonsprosjektet og angi gjerne måned for gjennomføring
D33: P2.3d | E33: Metoder kunnskap eller erfaring | M33: =IF(LEN(G33)-LEN(SUBSTITUTE(G33," ",""))>100,_xlfn.CONCAT("Du har skrevet ",LEN(G33)-LEN(SUBSTITUTE(G33," ",""))," ord. Forsøk å korte ned."),"")
E34: Beskriv hvilke teorier / faglige metoder dere benytter i innovasjonsprosjektet eller hvilken kunnskap/erfaring dere bygger på. Herunder metoder for brukermedvirkning
D35: P2.3e | E35: Gevinster og effekter | M35: =IF(LEN(G35)-LEN(SUBSTITUTE(G35," ",""))>100,_xlfn.CONCAT("Du har skrevet ",LEN(G35)-LEN(SUBSTITUTE(G35," ",""))," ord. Forsøk å korte ned."),"")
E36: Hvilke konkrete gevinster/effekter forventes tiltaket å gi, hvilken betydning kan det få for omlegging av praksis
D37: P2.3f | E37: Risikofaktorer | M37: =IF(LEN(G37)-LEN(SUBSTITUTE(G37," ",""))>100,_xlfn.CONCAT("Du har skrevet ",LEN(G37)-LEN(SUBSTITUTE(G37," ",""))," ord. Forsøk å korte ned."),"")
E38: Hvilke faktorer gjør det usikkert at dere når målene, selv om dere mottar tilskudd fra Statsforvalteren?
D39: P2.3g | E39: Forankring internt i kommunen | M39: =IF(LEN(G39)-LEN(SUBSTITUTE(G39," ",""))>100,_xlfn.CONCAT("Du har skrevet ",LEN(G39)-LEN(SUBSTITUTE(G39," ",""))," ord. Forsøk å korte ned."),"")
E40: Beskriv hvordan tiltaket er forankret internt i kommunen, faglig og administrativt i både utviklings og implementeringsfasen
D41: P2.3h | E41: Kontrolltiltak | M41: =IF(LEN(G41)-LEN(SUBSTITUTE(G41," ",""))>100,_xlfn.CONCAT("Du har skrevet ",LEN(G41)-LEN(SUBSTITUTE(G41," ",""))," ord. Forsøk å korte ned."),"")
E42: -Beskriv de interne og eksterne kontrolltiltak hos dere som skal sikre korrekt rapportering og at målene nås. -Beskriv om de gjennomføres allerede eller er planlagt. -Interne kontrollaktiviteter, internrevisjon, autorisert / ikke autorisert revisor, andre offentlige tilsyn, Riksrevisjonen, evaluering og systematisk kvalitetssikret dokumentasjon er eksempler på kontrolltiltak som kan øke sikkerheten for at målene nås.
C44: P2.4 | D44: =_xlfn.CONCAT("Samarbeidspartnere i innovasjonsprosjekt ",B1) -> Samarbeidspartnere i innovasjonsprosjekt 2
D45: Skriv navnet på virksomheter og organisasjoner som er samarbeidspartnere i innovasjonsprosjektet
...

Sheet Prosjekt 3
B1: 3
C2: =_xlfn.CONCAT("Innovasjonsprosjekt ", B1, ": ",G8) -> Innovasjonsprosjekt 3:
E3: - Statsforvalteren legger særlig vekt på samlet måloppnåelse i prosjektet ved vurdering av søknadene.
E4: - Dersom dere har flere prosjekter kan dere velge å angi rangering på hvert prosjekt for å fremheve hvilke prosjekter dere anser at gir mest nytte for kommunen
C7: P3.1 | D7: Overordnede prosjektdetaljer
D8: P3.1a | E8: Tittel for innovasjonsprosjektet Skriv inn en tittel som er beskrivende for prosjektet - maks 100 tegn | M8: =IF(LEN(G8)-LEN(SUBSTITUTE(G8," ",""))>100,_xlfn.CONCAT("Du har skrevet ",LEN(G8)-LEN(SUBSTITUTE(G8," ",""))," ord. Forsøk å korte ned."),"")
D9: P3.1b | E9: Er dette videreføring av et eksisterende innovasjonsprosjekt? (Ja/Nei)
D10: P3.1c | E10: Estimert startdato for innovasjonsprosjektet
D11: P3.1d | E11: Prioritering i forhold til andre innovasjonsprosjekter (Valgfritt) Dersom dere her søker om flere innovasjonsprosjekter og mener at det kan være ulikt hvor mye nytte de gir så kan dere bruke dette feltet til å opplyse om dette. Angi 1 for innovasjonsprosjektet dere anser at har størst nytte og 2 for innovasjonsprosjektet med nest høyest nytte osv. | K11: (Valgfritt)
D12: P3.1e | E12: Status for innovasjonsprosjektet - Besvares dersom dette er videreføring av et eksisterende innovasjonsprosjekt - Beskriv kort hva som er status for innovasjonsprosjektet og hvordan prosjektet ligger an i forhold til den opprinnelige fremdriftsplanen
C14: P3.2 | D14: =_xlfn.CONCAT("Tema for innovasjonsprosjekt ",B1) -> Tema for innovasjonsprosjekt 3
D15: Marker de temaene som inngår i innovasjonsprosjektet med "Ja"
D16: P3.2a | E16: Forebygging tidlig innsats og egenmestring
D17: P3.2b | E17: Fritidsaktivitet med assistanse
D18: P3.2c | E18: Kulturopplevelser
D19: P3.2d | E19: Ernæring
D20: P3.2e | E20: Legemiddelhåndtering
D21: P3.2f | E21: Rehabilitering og Habilitering
D22: P3.2g | E22: Samspill med pårørende og frivillige i omsorgssektoren generelt og demensomsorgen spesielt
D23: P3.2h | E23: Andre nyskapende løsninger av stor betydning for brukerne av de kommunale helse- og omsorgstjenestene
C25: P3.3 | D25: =_xlfn.CONCAT("Prosjektbeskrivelse: Innovasjonsprosjekt ",B1) -> Prosjektbeskrivelse: Innovasjonsprosjekt 3
D26: - Fyll inn deltaljer for innovasjonsprosjektet der dette er hensiktsmessig - Forsøk å skrive kortfattet (Med et detaljnivå som står i rimelig forhold til innovasjonsprosjektets omfang)
D27: P3.3a | E27: Kort beskrivelse | M27: =IF(LEN(G27)-LEN(SUBSTITUTE(G27," ",""))>100,_xlfn.CONCAT("Du har skrevet ",LEN(G27)-LEN(SUBSTITUTE(G27," ",""))," ord. Forsøk å korte ned."),"")
E28: Gi en kort beskrivelse av innovasjonsprosjektet, herunder delprosjekter, tiltak og bakgrunn for innovasjonsprosjektet
D29: P3.3b | E29: Mål for tiltaket på kort og lengre sikt | M29: =IF(LEN(G29)-LEN(SUBSTITUTE(G29," ",""))>100,_xlfn.CONCAT("Du har skrevet ",LEN(G29)-LEN(SUBSTITUTE(G29," ",""))," ord. Forsøk å korte ned."),"")
E30: Herunder mål for året dere søker om tilskudd og målgruppe for tiltaket
D31: P3.3c | E31: Aktivitets- og fremdriftsplan for året dere søker tilskudd | M31: =IF(LEN(G31)-LEN(SUBSTITUTE(G31," ",""))>100,_xlfn.CONCAT("Du har skrevet ",LEN(G31)-LEN(SUBSTITUTE(G31," ",""))," ord. Forsøk å korte ned."),"")
E32: Sett inn de viktigste aktivitetene for å nå målene for innovasjonsprosjektet og angi gjerne måned for gjennomføring
D33: P3.3d | E33: Metoder kunnskap eller erfaring | M33: =IF(LEN(G33)-LEN(SUBSTITUTE(G33," ",""))>100,_xlfn.CONCAT("Du har skrevet ",LEN(G33)-LEN(SUBSTITUTE(G33," ",""))," ord. Forsøk å korte ned."),"")
E34: Beskriv hvilke teorier / faglige metoder dere benytter i innovasjonsprosjektet eller hvilken kunnskap/erfaring dere bygger på. Herunder metoder for brukermedvirkning
D35: P3.3e | E35: Gevinster og effekter | M35: =IF(LEN(G35)-LEN(SUBSTITUTE(G35," ",""))>100,_xlfn.CONCAT("Du har skrevet ",LEN(G35)-LEN(SUBSTITUTE(G35," ",""))," ord. Forsøk å korte ned."),"")
E36: Hvilke konkrete gevinster/effekter forventes tiltaket å gi, hvilken betydning kan det få for omlegging av praksis
D37: P3.3f | E37: Risikofaktorer | M37: =IF(LEN(G37)-LEN(SUBSTITUTE(G37," ",""))>100,_xlfn.CONCAT("Du har skrevet ",LEN(G37)-LEN(SUBSTITUTE(G37," ",""))," ord. Forsøk å korte ned."),"")
E38: Hvilke faktorer gjør det usikkert at dere når målene, selv om dere mottar tilskudd fra Statsforvalteren?
D39: P3.3g | E39: Forankring internt i kommunen | M39: =IF(LEN(G39)-LEN(SUBSTITUTE(G39," ",""))>100,_xlfn.CONCAT("Du har skrevet ",LEN(G39)-LEN(SUBSTITUTE(G39," ",""))," ord. Forsøk å korte ned."),"")
E40: Beskriv hvordan tiltaket er forankret internt i kommunen, faglig og administrativt i både utviklings og implementeringsfasen
D41: P3.3h | E41: Kontrolltiltak | M41: =IF(LEN(G41)-LEN(SUBSTITUTE(G41," ",""))>100,_xlfn.CONCAT("Du har skrevet ",LEN(G41)-LEN(SUBSTITUTE(G41," ",""))," ord. Forsøk å korte ned."),"")
E42: -Beskriv de interne og eksterne kontrolltiltak hos dere som skal sikre korrekt rapportering og at målene nås. -Beskriv om de gjennomføres allerede eller er planlagt. -Interne kontrollaktiviteter, internrevisjon, autorisert / ikke autorisert revisor, andre offentlige tilsyn, Riksrevisjonen, evaluering og systematisk kvalitetssikret dokumentasjon er eksempler på kontrolltiltak som kan øke sikkerheten for at målene nås.
C44: P3.4 | D44: =_xlfn.CONCAT("Samarbeidspartnere i innovasjonsprosjekt ",B1) -> Samarbeidspartnere i innovasjonsprosjekt 3
D45: Skriv navnet på virksomheter og organisasjoner som er samarbeidspartnere i innovasjonsprosjektet
...

Sheet Prosjekt 4
B1: 4
C2: =_xlfn.CONCAT("Innovasjonsprosjekt ", B1, ": ",G8) -> Innovasjonsprosjekt 4:
E3: - Statsforvalteren legger særlig vekt på samlet måloppnåelse i prosjektet ved vurdering av søknadene.
E4: - Dersom dere har flere prosjekter kan dere velge å angi rangering på hvert prosjekt for å fremheve hvilke prosjekter dere anser at gir mest nytte for kommunen
C7: P4.1 | D7: Overordnede prosjektdetaljer
D8: P4.1a | E8: Tittel for innovasjonsprosjektet Skriv inn en tittel som er beskrivende for prosjektet - maks 100 tegn | M8: =IF(LEN(G8)-LEN(SUBSTITUTE(G8," ",""))>100,_xlfn.CONCAT("Du har skrevet ",LEN(G8)-LEN(SUBSTITUTE(G8," ",""))," ord. Forsøk å korte ned."),"")
D9: P4.1b | E9: Er dette videreføring av et eksisterende innovasjonsprosjekt? (Ja/Nei)
D10: P4.1c | E10: Estimert startdato for innovasjonsprosjektet
D11: P4.1d | E11: Prioritering i forhold til andre innovasjonsprosjekter (Valgfritt) Dersom dere her søker om flere innovasjonsprosjekter og mener at det kan være ulikt hvor mye nytte de gir så kan dere bruke dette feltet til å opplyse om dette. Angi 1 for innovasjonsprosjektet dere anser at har størst nytte og 2 for innovasjonsprosjektet med nest høyest nytte osv. | K11: (Valgfritt)
D12: P4.1e | E12: Status for innovasjonsprosjektet - Besvares dersom dette er videreføring av et eksisterende innovasjonsprosjekt - Beskriv kort hva som er status for innovasjonsprosjektet og hvordan prosjektet ligger an i forhold til den opprinnelige fremdriftsplanen
C14: P4.2 | D14: =_xlfn.CONCAT("Tema for innovasjonsprosjekt ",B1) -> Tema for innovasjonsprosjekt 4
D15: Marker de temaene som inngår i innovasjonsprosjektet med "Ja"
D16: P4.2a | E16: Forebygging tidlig innsats og egenmestring
D17: P4.2b | E17: Fritidsaktivitet med assistanse
D18: P4.2c | E18: Kulturopplevelser
D19: P4.2d | E19: Ernæring
D20: P4.2e | E20: Legemiddelhåndtering
D21: P4.2f | E21: Rehabilitering og Habilitering
D22: P4.2g | E22: Samspill med pårørende og frivillige i omsorgssektoren generelt og demensomsorgen spesielt
D23: P4.2h | E23: Andre nyskapende løsninger av stor betydning for brukerne av de kommunale helse- og omsorgstjenestene
C25: P4.3 | D25: =_xlfn.CONCAT("Prosjektbeskrivelse: Innovasjonsprosjekt ",B1) -> Prosjektbeskrivelse: Innovasjonsprosjekt 4
D26: - Fyll inn deltaljer for innovasjonsprosjektet der dette er hensiktsmessig - Forsøk å skrive kortfattet (Med et detaljnivå som står i rimelig forhold til innovasjonsprosjektets omfang)
D27: P4.3a | E27: Kort beskrivelse | M27: =IF(LEN(G27)-LEN(SUBSTITUTE(G27," ",""))>100,_xlfn.CONCAT("Du har skrevet ",LEN(G27)-LEN(SUBSTITUTE(G27," ",""))," ord. Forsøk å korte ned."),"")
E28: Gi en kort beskrivelse av innovasjonsprosjektet, herunder delprosjekter, tiltak og bakgrunn for innovasjonsprosjektet
D29: P4.3b | E29: Mål for tiltaket på kort og lengre sikt | M29: =IF(LEN(G29)-LEN(SUBSTITUTE(G29," ",""))>100,_xlfn.CONCAT("Du har skrevet ",LEN(G29)-LEN(SUBSTITUTE(G29," ",""))," ord. Forsøk å korte ned."),"")
E30: Herunder mål for året dere søker om tilskudd og målgruppe for tiltaket
D31: P4.3c | E31: Aktivitets- og fremdriftsplan for året dere søker tilskudd | M31: =IF(LEN(G31)-LEN(SUBSTITUTE(G31," ",""))>100,_xlfn.CONCAT("Du har skrevet ",LEN(G31)-LEN(SUBSTITUTE(G31," ",""))," ord. Forsøk å korte ned."),"")
E32: Sett inn de viktigste aktivitetene for å nå målene for innovasjonsprosjektet og angi gjerne måned for gjennomføring
D33: P4.3d | E33: Metoder kunnskap eller erfaring | M33: =IF(LEN(G33)-LEN(SUBSTITUTE(G33," ",""))>100,_xlfn.CONCAT("Du har skrevet ",LEN(G33)-LEN(SUBSTITUTE(G33," ",""))," ord. Forsøk å korte ned."),"")
E34: Beskriv hvilke teorier / faglige metoder dere benytter i innovasjonsprosjektet eller hvilken kunnskap/erfaring dere bygger på. Herunder metoder for brukermedvirkning
D35: P4.3e | E35: Gevinster og effekter | M35: =IF(LEN(G35)-LEN(SUBSTITUTE(G35," ",""))>100,_xlfn.CONCAT("Du har skrevet ",LEN(G35)-LEN(SUBSTITUTE(G35," ",""))," ord. Forsøk å korte ned."),"")
E36: Hvilke konkrete gevinster/effekter forventes tiltaket å gi, hvilken betydning kan det få for omlegging av praksis
D37: P4.3f | E37: Risikofaktorer | M37: =IF(LEN(G37)-LEN(SUBSTITUTE(G37," ",""))>100,_xlfn.CONCAT("Du har skrevet ",LEN(G37)-LEN(SUBSTITUTE(G37," ",""))," ord. Forsøk å korte ned."),"")
E38: Hvilke faktorer gjør det usikkert at dere når målene, selv om dere mottar tilskudd fra Statsforvalteren?
D39: P4.3g | E39: Forankring internt i kommunen | M39: =IF(LEN(G39)-LEN(SUBSTITUTE(G39," ",""))>100,_xlfn.CONCAT("Du har skrevet ",LEN(G39)-LEN(SUBSTITUTE(G39," ",""))," ord. Forsøk å korte ned."),"")
E40: Beskriv hvordan tiltaket er forankret internt i kommunen, faglig og administrativt i både utviklings og implementeringsfasen
D41: P4.3h | E41: Kontrolltiltak | M41: =IF(LEN(G41)-LEN(SUBSTITUTE(G41," ",""))>100,_xlfn.CONCAT("Du har skrevet ",LEN(G41)-LEN(SUBSTITUTE(G41," ",""))," ord. Forsøk å korte ned."),"")
E42: -Beskriv de interne og eksterne kontrolltiltak hos dere som skal sikre korrekt rapportering og at målene nås. -Beskriv om de gjennomføres allerede eller er planlagt. -Interne kontrollaktiviteter, internrevisjon, autorisert / ikke autorisert revisor, andre offentlige tilsyn, Riksrevisjonen, evaluering og systematisk kvalitetssikret dokumentasjon er eksempler på kontrolltiltak som kan øke sikkerheten for at målene nås.
C44: P4.4 | D44: =_xlfn.CONCAT("Samarbeidspartnere i innovasjonsprosjekt ",B1) -> Samarbeidspartnere i innovasjonsprosjekt 4
D45: Skriv navnet på virksomheter og organisasjoner som er samarbeidspartnere i innovasjonsprosjektet
...

Sheet Prosjekt 5
B1: 5
C2: =_xlfn.CONCAT("Innovasjonsprosjekt ", B1, ": ",G8) -> Innovasjonsprosjekt 5:
E3: - Statsforvalteren legger særlig vekt på samlet måloppnåelse i prosjektet ved vurdering av søknadene.
E4: - Dersom dere har flere prosjekter kan dere velge å angi rangering på hvert prosjekt for å fremheve hvilke prosjekter dere anser at gir mest nytte for kommunen
C7: P5.1 | D7: Overordnede prosjektdetaljer
D8: P5.1a | E8: Tittel for innovasjonsprosjektet Skriv inn en tittel som er beskrivende for prosjektet - maks 100 tegn | M8: =IF(LEN(G8)-LEN(SUBSTITUTE(G8," ",""))>100,_xlfn.CONCAT("Du har skrevet ",LEN(G8)-LEN(SUBSTITUTE(G8," ",""))," ord. Forsøk å korte ned."),"")
D9: P5.1b | E9: Er dette videreføring av et eksisterende innovasjonsprosjekt? (Ja/Nei)
D10: P5.1c | E10: Estimert startdato for innovasjonsprosjektet
D11: P5.1d | E11: Prioritering i forhold til andre innovasjonsprosjekter (Valgfritt) Dersom dere her søker om flere innovasjonsprosjekter og mener at det kan være ulikt hvor mye nytte de gir så kan dere bruke dette feltet til å opplyse om dette. Angi 1 for innovasjonsprosjektet dere anser at har størst nytte og 2 for innovasjonsprosjektet med nest høyest nytte osv. | K11: (Valgfritt)
D12: P5.1e | E12: Status for innovasjonsprosjektet - Besvares dersom dette er videreføring av et eksisterende innovasjonsprosjekt - Beskriv kort hva som er status for innovasjonsprosjektet og hvordan prosjektet ligger an i forhold til den opprinnelige fremdriftsplanen
C14: P5.2 | D14: =_xlfn.CONCAT("Tema for innovasjonsprosjekt ",B1) -> Tema for innovasjonsprosjekt 5
D15: Marker de temaene som inngår i innovasjonsprosjektet med "Ja"
D16: P5.2a | E16: Forebygging tidlig innsats og egenmestring
D17: P5.2b | E17: Fritidsaktivitet med assistanse
D18: P5.2c | E18: Kulturopplevelser
D19: P5.2d | E19: Ernæring
D20: P5.2e | E20: Legemiddelhåndtering
D21: P5.2f | E21: Rehabilitering og Habilitering
D22: P5.2g | E22: Samspill med pårørende og frivillige i omsorgssektoren generelt og demensomsorgen spesielt
D23: P5.2h | E23: Andre nyskapende løsninger av stor betydning for brukerne av de kommunale helse- og omsorgstjenestene
C25: P5.3 | D25: =_xlfn.CONCAT("Prosjektbeskrivelse: Innovasjonsprosjekt ",B1) -> Prosjektbeskrivelse: Innovasjonsprosjekt 5
D26: - Fyll inn deltaljer for innovasjonsprosjektet der dette er hensiktsmessig - Forsøk å skrive kortfattet (Med et detaljnivå som står i rimelig forhold til innovasjonsprosjektets omfang)
D27: P5.3a | E27: Kort beskrivelse | M27: =IF(LEN(G27)-LEN(SUBSTITUTE(G27," ",""))>100,_xlfn.CONCAT("Du har skrevet ",LEN(G27)-LEN(SUBSTITUTE(G27," ",""))," ord. Forsøk å korte ned."),"")
E28: Gi en kort beskrivelse av innovasjonsprosjektet, herunder delprosjekter, tiltak og bakgrunn for innovasjonsprosjektet
D29: P5.3b | E29: Mål for tiltaket på kort og lengre sikt | M29: =IF(LEN(G29)-LEN(SUBSTITUTE(G29," ",""))>100,_xlfn.CONCAT("Du har skrevet ",LEN(G29)-LEN(SUBSTITUTE(G29," ",""))," ord. Forsøk å korte ned."),"")
E30: Herunder mål for året dere søker om tilskudd og målgruppe for tiltaket
D31: P5.3c | E31: Aktivitets- og fremdriftsplan for året dere søker tilskudd | M31: =IF(LEN(G31)-LEN(SUBSTITUTE(G31," ",""))>100,_xlfn.CONCAT("Du har skrevet ",LEN(G31)-LEN(SUBSTITUTE(G31," ",""))," ord. Forsøk å korte ned."),"")
E32: Sett inn de viktigste aktivitetene for å nå målene for innovasjonsprosjektet og angi gjerne måned for gjennomføring
D33: P5.3d | E33: Metoder kunnskap eller erfaring | M33: =IF(LEN(G33)-LEN(SUBSTITUTE(G33," ",""))>100,_xlfn.CONCAT("Du har skrevet ",LEN(G33)-LEN(SUBSTITUTE(G33," ",""))," ord. Forsøk å korte ned."),"")
E34: Beskriv hvilke teorier / faglige metoder dere benytter i innovasjonsprosjektet eller hvilken kunnskap/erfaring dere bygger på. Herunder metoder for brukermedvirkning
D35: P5.3e | E35: Gevinster og effekter | M35: =IF(LEN(G35)-LEN(SUBSTITUTE(G35," ",""))>100,_xlfn.CONCAT("Du har skrevet ",LEN(G35)-LEN(SUBSTITUTE(G35," ",""))," ord. Forsøk å korte ned."),"")
E36: Hvilke konkrete gevinster/effekter forventes tiltaket å gi, hvilken betydning kan det få for omlegging av praksis
D37: P5.3f | E37: Risikofaktorer | M37: =IF(LEN(G37)-LEN(SUBSTITUTE(G37," ",""))>100,_xlfn.CONCAT("Du har skrevet ",LEN(G37)-LEN(SUBSTITUTE(G37," ",""))," ord. Forsøk å korte ned."),"")
E38: Hvilke faktorer gjør det usikkert at dere når målene, selv om dere mottar tilskudd fra Statsforvalteren?
D39: P5.3g | E39: Forankring internt i kommunen | M39: =IF(LEN(G39)-LEN(SUBSTITUTE(G39," ",""))>100,_xlfn.CONCAT("Du har skrevet ",LEN(G39)-LEN(SUBSTITUTE(G39," ",""))," ord. Forsøk å korte ned."),"")
E40: Beskriv hvordan tiltaket er forankret internt i kommunen, faglig og administrativt i både utviklings og implementeringsfasen
D41: P5.3h | E41: Kontrolltiltak | M41: =IF(LEN(G41)-LEN(SUBSTITUTE(G41," ",""))>100,_xlfn.CONCAT("Du har skrevet ",LEN(G41)-LEN(SUBSTITUTE(G41," ",""))," ord. Forsøk å korte ned."),"")
E42: -Beskriv de interne og eksterne kontrolltiltak hos dere som skal sikre korrekt rapportering og at målene nås. -Beskriv om de gjennomføres allerede eller er planlagt. -Interne kontrollaktiviteter, internrevisjon, autorisert / ikke autorisert revisor, andre offentlige tilsyn, Riksrevisjonen, evaluering og systematisk kvalitetssikret dokumentasjon er eksempler på kontrolltiltak som kan øke sikkerheten for at målene nås.
C44: P5.4 | D44: =_xlfn.CONCAT("Samarbeidspartnere i innovasjonsprosjekt ",B1) -> Samarbeidspartnere i innovasjonsprosjekt 5
D45: Skriv navnet på virksomheter og organisasjoner som er samarbeidspartnere i innovasjonsprosjektet
...

Sheet Backend
A1: FRA FORSIDE | E1: FRA KOMPETANSETILSKUDD | L1: Filter<>FALSE | O1: FILTER<>"" | AM1: COL seksjon2: | AV1: Kol_merknad i søknad | DZ1: {=_xlfn._xlws.FILTER(DI1:DV496,DI1:DI496>"")} -> #VALUE! | ET1: versjon
A2: {='Forside og oppsummering'!B22:E30} -> 1. | B2: Informasjon om kommunen | C2: 0 | D2: 0 | I2: NIVÅ | J2: LinjeID | K2: Linje_tittel | L2: NIVÅ | M2: LinjeID | N2: Linje_tittel | O2: NIVÅ | P2: LinjeID | Q2: Linje_tittel | R2: Kommune | S2: Nivå 1 | T2: 1_tittel | U2: Nivå 2 | V2: 2_tittel | W2: Nivå 3 | X2: 3_tittel | Y2: Nivå 4 (merknad) | Z2: BRUK_SOM_BLANK | AA2: header_lvl | AE2: TRUE | AF2: FALSE | AG2: TRUE | AH2: FALSE | AI2: TRUE | AJ2: TRUE | AK2: TRUE | AL2: FALSE | AM2: =IFERROR(MATCH(AM3,'Kompetansetilskudd og BPA'!$A$6:$N$6,0),FALSE) -> 6 | AN2: =IFERROR(MATCH(AN3,'Kompetansetilskudd og BPA'!$A$6:$N$6,0),FALSE) -> 7 | AO2: =IFERROR(MATCH(AO3,'Kompetansetilskudd og BPA'!$A$6:$N$6,0),FALSE) -> FALSE | AP2: =IFERROR(MATCH(AP3,'Kompetansetilskudd og BPA'!$A$6:$N$6,0),FALSE) -> 9 | AQ2: =IFERROR(MATCH(AQ3,'Kompetansetilskudd og BPA'!$A$6:$N$6,0),FALSE) -> 10 | AR2: =IFERROR(MATCH(AR3,'Kompetansetilskudd og BPA'!$A$6:$N$6,0),FALSE) -> 11 | AS2: =IFERROR(MATCH(AS3,'Kompetansetilskudd og BPA'!$A$6:$N$6,0),FALSE) -> FALSE | AT2: =IFERROR(MATCH(AT3,'Kompetansetilskudd og BPA'!$A$6:$N$6,0),FALSE) -> 13 | AU2: =IFERROR(MATCH(AU3,'Kompetansetilskudd og BPA'!$A$6:$N$6,0),FALSE) -> 14 | AV2: 6 | AW2: TRUE | AX2: Headere | ET2: 20220125_1110 | EU2: Ny tekst i signaturfelt
B3: 1.1. | C3: Navn på kommunen | D3: 0 | E3: {='Kompetansetilskudd og BPA'!B1:E149} -> 0 | F3: 0 | G3: 0 | H3: 0 | Z3: =AND(W4=FALSE,Y4=FALSE) -> FALSE | AE3: Kommune | AG3: Seksjon | AI3: Type | AJ3: Nr. | AK3: Utdannelse/Kurs | AM3: {='Kompetansetilskudd og BPA'!F6:N6} -> Videreføring: Antall personer | AN3: Antall nye personer | AO3: 0 | AP3: Ubrukte midler som ønskes overført | AQ3: Søknads- beløp | AR3: Ubrukte midler som tilbakebetales | AS3: 0 | AT3: Totalt antall personer det søkes for | AU3: Totalt beløp det søkes om til tiltaket | AV3: Svar / Merknad | AW3: =AA2 -> header_lvl | AX3: {=_xlfn._xlws.FILTER(AE3:AW3,AE2:AW2<>FALSE)} -> Kommune | AY3: Seksjon | AZ3: Type | BA3: Nr. | BB3: Utdannelse/Kurs | BC3: Videreføring: Antall personer | BD3: Antall nye personer | BE3: Ubrukte midler som ønskes overført | BF3: Søknads- beløp | BG3: Ubrukte midler som tilbakebetales | BH3: Totalt antall personer det søkes for | BI3: Totalt beløp det søkes om til tiltaket | BJ3: Svar / Merknad | BK3: header_lvl | CB3: sub_header | CC3: non-data row | CD3: Prosjektet mangler data | CE3: keep_row | CF3: header_lvl | CT3: header_lvl | CU3: Prosjekter
B4: 1.2. | C4: Org.nummer | D4: 0 | E4: 2. | F4: Kompetansetiltak (grunn-, videre- og etterutdanning) | G4: 0 | H4: 0 | I4: =IF(H4='Kompetansetilskudd og BPA'!$E$12,4,IF(E4=0,IF(F4=0,IF(G4=0,FALSE,3),2),1)) -> 1 | J4: =IF(I4=1,E4,IF(I4=2,F4,IF(I4=3,G4,IF(I4=4,G4)))) -> 2. | K4: =IF(I4=1,F4,IF(I4=2,G4,IF(I4=3,H4,IF(I4=4,H4)))) -> Kompetansetiltak (grunn-, videre- og etterutdanning) | L4: {=_xlfn._xlws.FILTER(I4:K150,J4:J150<>FALSE)} -> 1 | M4: 2. | N4: Kompetansetiltak (grunn-, videre- og etterutdanning) | O4: {=_xlfn._xlws.FILTER(L4:N150,M4:M150<>"")} -> 1 | P4: 2. | Q4: Kompetansetiltak (grunn-, videre- og etterutdanning) | R4: ='Forside og oppsummering'!$E$23 -> 0 | S4: =IF(O4=1,P4,S3) -> 2. | T4: =IF(O4=1,Q4,T3) -> Kompetansetiltak (grunn-, videre- og etterutdanning) | U4: =IF(O4=1,"",IF(O4=2,P4,U3)) | V4: =IF(O4=1,"",IF(O4=2,Q4,V3)) | W4: =P4 -> 2. | X4: =IF(O4<3,"",IF(O4=3,Q4,X3)) | Y4: =IF(O5=4,P5) -> FALSE | Z4: =O4=4 -> FALSE | AA4: =IF(Z4,5,O4) -> 1 | AJ4: Kriterie for nivå 3: <>0 | AM4: COL seksjon1: | AN4: 1 | AP4: =COLUMN('Kompetansetilskudd og BPA'!I97) -> 9 | AQ4: =COLUMN('Kompetansetilskudd og BPA'!J97) -> 10 | AR4: =COLUMN('Kompetansetilskudd og BPA'!K97) -> 11 | AT4: =COLUMN('Kompetansetilskudd og BPA'!G97) -> 7 | AU4: 1 | BO4: KEEP ROW | BQ4: P1. | CC4: =AND(BQ4=0,OR(BR4=0,BS4=0)) -> FALSE | CD4: =AND(COUNTIF(CA6:CA9,0)=COUNTA(CA6:CA9),SUM(BW44:CA74)=0) -> TRUE | CE4: =IF(CD4,FALSE,NOT(AND(CC4,CB5=FALSE))) -> FALSE | CF4: =IF(LEN(BQ4)=3,1,IF(CB5,5,IF(CB4,2,IF(BS4="Søknad",3,4)))) -> 1 | CG4: ='Forside og oppsummering'!$E$23 -> 0 | CH4: Prosjekt 1 | CI4: =IF(CF4=1,"",IF(CF4=2,BR4,CI3)) | CJ4: =IF(CF4<3,BQ4,IF(AND(BR4=0,CE4),_xlfn.CONCAT(LEFT(BR3,LEN(BR3)-1),CHAR(CODE(RIGHT(BR3,1))+1)),BR4)) -> P1. | CK4: =BS4 -> 0 | CL4: {=BT4:CA400} -> 0 | CM4: 0 | CN4: 0 | CO4: 0 | CP4: 0 | CQ4: 0 | CR4: 0 | CS4: 0 | CT4: =CF4 -> 1 | CU4: {=IFERROR(_xlfn._xlws.FILTER(CG4:CT400,CE4:CE400),"")}
B5: 1.3. | C5: Kontonummer | D5: 0 | E5: 0 | F5: 2.1. | G5: Videregående skole, fag- og yrkesopplæring innen helse (fagbrev) | H5: 0 | I5: =IF(H5='Kompetansetilskudd og BPA'!$E$12,4,IF(E5=0,IF(F5=0,IF(G5=0,FALSE,3),2),1)) -> 2 | J5: =IF(I5=1,E5,IF(I5=2,F5,IF(I5=3,G5,IF(I5=4,G5)))) -> 2.1. | K5: =IF(I5=1,F5,IF(I5=2,G5,IF(I5=3,H5,IF(I5=4,H5)))) -> Videregående skole, fag- og yrkesopplæring innen helse (fagbrev) | L5: 2 | M5: 2.1. | N5: Videregående skole, fag- og yrkesopplæring innen helse (fagbrev) | O5: 2 | P5: 2.1. | Q5: Videregående skole, fag- og yrkesopplæring innen helse (fagbrev) | R5: ='Forside og oppsummering'!$E$23 -> 0 | S5: =IF(O5=1,P5,S4) -> 2. | T5: =IF(O5=1,Q5,T4) -> Kompetansetiltak (grunn-, videre- og etterutdanning) | U5: =IF(O5=1,"",IF(O5=2,P5,U4)) -> 2.1. | V5: =IF(O5=1,"",IF(O5=2,Q5,V4)) -> Videregående skole, fag- og yrkesopplæring innen helse (fagbrev) | W5: =P5 -> 2.1. | X5: =IF(O5<3,"",IF(O5=3,Q5,X4)) | Y5: =IF(O6=4,P6) -> FALSE | Z5: =O5=4 -> FALSE | AA5: =IF(Z5,5,O5) -> 2 | AE5: =$D$3 -> 0 | AF5: =$A$2 -> 1. | AG5: =$B$2 -> Informasjon om kommunen | AH5: ="" | AI5: ="" | AJ5: =AF5 -> 1. | AK5: ="" | AL5: ="" | AM5: ="" | AN5: ="" | AO5: ="" | AP5: ="" | AQ5: ="" | AR5: ="" | ... AU5: ="" | AV5: =IF(D2=0,"",D2) | AW5: 1 | AX5: {=_xlfn._xlws.FILTER(AE5:AW15,AE2:AW2<>FALSE)} -> 0 | AY5: Informasjon om kommunen | BA5: 1. | BK5: 1 | BO5: TRUE | BQ5: {='Prosjekt 1'!$C$7:$E$42} -> P1.1 | BR5: Overordnede prosjektdetaljer | BS5: 0 | CA5: {='Prosjekt 1'!$G$7:$G$42} -> 0 | CB5: =BQ5>"" -> TRUE | CC5: =AND(BQ5=0,OR(BR5=0,BS5=0)) -> FALSE | CD5: =$CD$4 -> TRUE | CE5: =IF(CD5,FALSE,NOT(AND(CC5,CB6=FALSE))) -> FALSE | CF5: =IF(LEN(BQ5)=3,1,IF(CB6,5,IF(CB5,2,IF(BS5="Søknad",3,4)))) -> 2 | CG5: ='Forside og oppsummering'!$E$23 -> 0 | CH5: Prosjekt 1 | CI5: =IF(CF5=1,"",IF(CF5=2,BR5,CI4)) -> Overordnede prosjektdetaljer | CJ5: =IF(CF5<3,BQ5,IF(AND(BR5=0,CE5),_xlfn.CONCAT(LEFT(BR4,LEN(BR4)-1),CHAR(CODE(RIGHT(BR4,1))+1)),BR5)) -> P1.1 | CK5: =BS5 -> 0 | CL5: 0 | CM5: 0 | CN5: 0 | CO5: 0 | CP5: 0 | CQ5: 0 | CR5: 0 | CS5: 0 | CT5: =CF5 -> 2 | DI5: {=_xlfn._xlws.FILTER(AX5:BK15,BO5:BO15)} -> 0 | DJ5: Informasjon om kommunen | DL5: 1. | DV5: 1
B6: 1.4. | C6: Kontaktperson Én person | D6: 0 | E6: 0 | F6: 0 | G6: 0 | H6: 0 | I6: =IF(H6='Kompetansetilskudd og BPA'!$E$12,4,IF(E6=0,IF(F6=0,IF(G6=0,FALSE,3),2),1)) -> FALSE | J6: =IF(I6=1,E6,IF(I6=2,F6,IF(I6=3,G6,IF(I6=4,G6)))) -> FALSE | K6: =IF(I6=1,F6,IF(I6=2,G6,IF(I6=3,H6,IF(I6=4,H6)))) -> FALSE | L6: 3 | N6: 0 | O6: 3 | P6: 2.1a | Q6: Helsefagarbeider | R6: ='Forside og oppsummering'!$E$23 -> 0 | S6: =IF(O6=1,P6,S5) -> 2. | T6: =IF(O6=1,Q6,T5) -> Kompetansetiltak (grunn-, videre- og etterutdanning) | U6: =IF(O6=1,"",IF(O6=2,P6,U5)) -> 2.1. | V6: =IF(O6=1,"",IF(O6=2,Q6,V5)) -> Videregående skole, fag- og yrkesopplæring innen helse (fagbrev) | W6: =P6 -> 2.1a | X6: =IF(O6<3,"",IF(O6=3,Q6,X5)) -> Helsefagarbeider | Y6: =IF(O7=4,P7) -> FALSE | Z6: =O6=4 -> FALSE | AA6: =IF(Z6,5,O6) -> 3 | AE6: =$D$3 -> 0 | AF6: =$A$2 -> 1. | AG6: =$B$2 -> Informasjon om kommunen | AH6: {=B3:C10} -> 1.1. | AI6: Navn på kommunen | AJ6: =AH6 -> 1.1. | AK6: =AI6 -> Navn på kommunen | AL6: ="" | AM6: ="" | AN6: ="" | AO6: ="" | AP6: ="" | AQ6: ="" | AR6: ="" | AS6: ="" | ... AU6: ="" | AV6: =IF(D3=0,"",D3) | AW6: 4 | AX6: 0 | AY6: Informasjon om kommunen | AZ6: Navn på kommunen | BA6: 1.1. | BB6: Navn på kommunen | BK6: 4 | BO6: TRUE | BQ6: 0 | BR6: P1.1a | BS6: Tittel for innovasjonsprosjektet Skriv inn en tittel som er beskrivende for prosjektet - maks 100 tegn | CA6: 0 | CB6: =BQ6>"" -> FALSE | CC6: =AND(BQ6=0,OR(BR6=0,BS6=0)) -> FALSE | CD6: =$CD$4 -> TRUE | CE6: =IF(CD6,FALSE,NOT(AND(CC6,CB7=FALSE))) -> FALSE | CF6: =IF(LEN(BQ6)=3,1,IF(CB7,5,IF(CB6,2,IF(BS6="Søknad",3,4)))) -> 4 | CG6: ='Forside og oppsummering'!$E$23 -> 0 | CH6: Prosjekt 1 | CI6: =IF(CF6=1,"",IF(CF6=2,BR6,CI5)) -> Overordnede prosjektdetaljer | CJ6: =IF(CF6<3,BQ6,IF(AND(BR6=0,CE6),_xlfn.CONCAT(LEFT(BR5,LEN(BR5)-1),CHAR(CODE(RIGHT(BR5,1))+1)),BR6)) -> P1.1a | CK6: =BS6 -> Tittel for innovasjonsprosjektet Skriv inn en tittel som er beskrivende for prosjektet - maks 100 tegn | CL6: 0 | CM6: 0 | CN6: 0 | CO6: 0 | CP6: 0 | CQ6: 0 | CR6: 0 | CS6: 0 | CT6: =CF6 -> 4 | DI6: 0 | DJ6: Informasjon om kommunen | DK6: Navn på kommunen | DL6: 1.1. | DM6: Navn på kommunen | DV6: 4
B7: 1.5. | C7: E-post Til kontaktperson | D7: 0 | E7: 0 | F7: 0 | G7: 0 | H7: 0 | I7: =IF(H7='Kompetansetilskudd og BPA'!$E$12,4,IF(E7=0,IF(F7=0,IF(G7=0,FALSE,3),2),1)) -> FALSE | J7: =IF(I7=1,E7,IF(I7=2,F7,IF(I7=3,G7,IF(I7=4,G7)))) -> FALSE | K7: =IF(I7=1,F7,IF(I7=2,G7,IF(I7=3,H7,IF(I7=4,H7)))) -> FALSE | L7: 3 | M7: 2.1a | N7: Helsefagarbeider | O7: 3 | P7: 2.1b | Q7: Annen utdanning på videregående skolenivå | R7: ='Forside og oppsummering'!$E$23 -> 0 | S7: =IF(O7=1,P7,S6) -> 2. | T7: =IF(O7=1,Q7,T6) -> Kompetansetiltak (grunn-, videre- og etterutdanning) | U7: =IF(O7=1,"",IF(O7=2,P7,U6)) -> 2.1. | V7: =IF(O7=1,"",IF(O7=2,Q7,V6)) -> Videregående skole, fag- og yrkesopplæring innen helse (fagbrev) | W7: =P7 -> 2.1b | X7: =IF(O7<3,"",IF(O7=3,Q7,X6)) -> Annen utdanning på videregående skolenivå | Y7: =IF(O8=4,P8) -> 2.1c | Z7: =O7=4 -> FALSE | AA7: =IF(Z7,5,O7) -> 3 | AE7: =$D$3 -> 0 | AF7: =$A$2 -> 1. | AG7: =$B$2 -> Informasjon om kommunen | AH7: 1.2. | AI7: Org.nummer | AJ7: =AH7 -> 1.2. | AK7: =AI7 -> Org.nummer | AL7: ="" | AM7: ="" | AN7: ="" | AO7: ="" | AP7: ="" | AQ7: ="" | AR7: ="" | AS7: ="" | ... AU7: ="" | AV7: =IF(D4=0,"",D4) | AW7: 4 | AX7: 0 | AY7: Informasjon om kommunen | AZ7: Org.nummer | BA7: 1.2. | BB7: Org.nummer | BK7: 4 | BO7: TRUE | BQ7: 0 | BR7: P1.1b | BS7: Er dette videreføring av et eksisterende innovasjonsprosjekt? (Ja/Nei) | CA7: 0 | CB7: =BQ7>"" -> FALSE | CC7: =AND(BQ7=0,OR(BR7=0,BS7=0)) -> FALSE | CD7: =$CD$4 -> TRUE | CE7: =IF(CD7,FALSE,NOT(AND(CC7,CB8=FALSE))) -> FALSE | CF7: =IF(LEN(BQ7)=3,1,IF(CB8,5,IF(CB7,2,IF(BS7="Søknad",3,4)))) -> 4 | CG7: ='Forside og oppsummering'!$E$23 -> 0 | CH7: Prosjekt 1 | CI7: =IF(CF7=1,"",IF(CF7=2,BR7,CI6)) -> Overordnede prosjektdetaljer | CJ7: =IF(CF7<3,BQ7,IF(AND(BR7=0,CE7),_xlfn.CONCAT(LEFT(BR6,LEN(BR6)-1),CHAR(CODE(RIGHT(BR6,1))+1)),BR7)) -> P1.1b | CK7: =BS7 -> Er dette videreføring av et eksisterende innovasjonsprosjekt? (Ja/Nei) | CL7: 0 | CM7: 0 | CN7: 0 | CO7: 0 | CP7: 0 | CQ7: 0 | CR7: 0 | CS7: 0 | CT7: =CF7 -> 4 | DI7: 0 | DJ7: Informasjon om kommunen | DK7: Org.nummer | DL7: 1.2. | DM7: Org.nummer | DV7: 4
A8: 0 | B8: 1.6. | C8: Telefon Til kontaktperson | D8: 0 | E8: 0 | F8: 0 | H8: 0 | I8: =IF(H8='Kompetansetilskudd og BPA'!$E$12,4,IF(E8=0,IF(F8=0,IF(G8=0,FALSE,3),2),1)) -> 3 | J8: =IF(I8=1,E8,IF(I8=2,F8,IF(I8=3,G8,IF(I8=4,G8)))) | K8: =IF(I8=1,F8,IF(I8=2,G8,IF(I8=3,H8,IF(I8=4,H8)))) -> 0 | L8: 3 | M8: 2.1b | N8: Annen utdanning på videregående skolenivå | O8: 4 | P8: 2.1c | Q8: Merknader Nærmere om hvilken annen utdanning Forsøk å skrive mindre enn 100 ord | R8: ='Forside og oppsummering'!$E$23 -> 0 | S8: =IF(O8=1,P8,S7) -> 2. | T8: =IF(O8=1,Q8,T7) -> Kompetansetiltak (grunn-, videre- og etterutdanning) | U8: =IF(O8=1,"",IF(O8=2,P8,U7)) -> 2.1. | V8: =IF(O8=1,"",IF(O8=2,Q8,V7)) -> Videregående skole, fag- og yrkesopplæring innen helse (fagbrev) | W8: =P8 -> 2.1c | X8: =IF(O8<3,"",IF(O8=3,Q8,X7)) -> Annen utdanning på videregående skolenivå | Y8: =IF(O9=4,P9) -> FALSE | Z8: =O8=4 -> TRUE | AA8: =IF(Z8,5,O8) -> 5 | AE8: =$D$3 -> 0 | AF8: =$A$2 -> 1. | AG8: =$B$2 -> Informasjon om kommunen | AH8: 1.3. | AI8: Kontonummer | AJ8: =AH8 -> 1.3. | AK8: =AI8 -> Kontonummer | AL8: ="" | AM8: ="" | AN8: ="" | AO8: ="" | AP8: ="" | AQ8: ="" | AR8: ="" | AS8: ="" | ... AU8: ="" | AV8: =IF(D5=0,"",D5) | AW8: 4 | AX8: 0 | AY8: Informasjon om kommunen | AZ8: Kontonummer | BA8: 1.3. | BB8: Kontonummer | BK8: 4 | BO8: TRUE | BQ8: 0 | BR8: P1.1c | BS8: Estimert startdato for innovasjonsprosjektet | CA8: 0 | CB8: =BQ8>"" -> FALSE | CC8: =AND(BQ8=0,OR(BR8=0,BS8=0)) -> FALSE | CD8: =$CD$4 -> TRUE | CE8: =IF(CD8,FALSE,NOT(AND(CC8,CB9=FALSE))) -> FALSE | CF8: =IF(LEN(BQ8)=3,1,IF(CB9,5,IF(CB8,2,IF(BS8="Søknad",3,4)))) -> 4 | CG8: ='Forside og oppsummering'!$E$23 -> 0 | CH8: Prosjekt 1 | CI8: =IF(CF8=1,"",IF(CF8=2,BR8,CI7)) -> Overordnede prosjektdetaljer | CJ8: =IF(CF8<3,BQ8,IF(AND(BR8=0,CE8),_xlfn.CONCAT(LEFT(BR7,LEN(BR7)-1),CHAR(CODE(RIGHT(BR7,1))+1)),BR8)) -> P1.1c | CK8: =BS8 -> Estimert startdato for innovasjonsprosjektet | CL8: 0 | CM8: 0 | CN8: 0 | CO8: 0 | CP8: 0 | CQ8: 0 | CR8: 0 | CS8: 0 | CT8: =CF8 -> 4 | DI8: 0 | DJ8: Informasjon om kommunen | DK8: Kontonummer | DL8: 1.3. | DM8: Kontonummer | DV8: 4 | ET8: 20220125_1016 | EU8: Endret radhøyden på merknadsfelt under kompetansetilskudd og i feltene for prosjektbeskrivelse
A9: 0 | B9: 1.7. | C9: Merknad på utbetalingen | D9: 0 | E9: 0 | F9: 0 | G9: 0 | H9: Utdanningstype | I9: =IF(H9='Kompetansetilskudd og BPA'!$E$12,4,IF(E9=0,IF(F9=0,IF(G9=0,FALSE,3),2),1)) -> FALSE | J9: =IF(I9=1,E9,IF(I9=2,F9,IF(I9=3,G9,IF(I9=4,G9)))) -> FALSE | K9: =IF(I9=1,F9,IF(I9=2,G9,IF(I9=3,H9,IF(I9=4,H9)))) -> FALSE | L9: 4 | M9: 2.1c | N9: Merknader Nærmere om hvilken annen utdanning Forsøk å skrive mindre enn 100 ord | O9: 2 | P9: 2.2. | Q9: Fagskoleutdanning | R9: ='Forside og oppsummering'!$E$23 -> 0 | S9: =IF(O9=1,P9,S8) -> 2. | T9: =IF(O9=1,Q9,T8) -> Kompetansetiltak (grunn-, videre- og etterutdanning) | U9: =IF(O9=1,"",IF(O9=2,P9,U8)) -> 2.2. | V9: =IF(O9=1,"",IF(O9=2,Q9,V8)) -> Fagskoleutdanning | W9: =P9 -> 2.2. | X9: =IF(O9<3,"",IF(O9=3,Q9,X8)) | Y9: =IF(O10=4,P10) -> FALSE | Z9: =O9=4 -> FALSE | AA9: =IF(Z9,5,O9) -> 2 | AE9: =$D$3 -> 0 | AF9: =$A$2 -> 1. | AG9: =$B$2 -> Informasjon om kommunen | AH9: 1.4. | AI9: Kontaktperson Én person | AJ9: =AH9 -> 1.4. | AK9: =AI9 -> Kontaktperson Én person | AL9: ="" | AM9: ="" | AN9: ="" | AO9: ="" | AP9: ="" | AQ9: ="" | AR9: ="" | AS9: ="" | ... AU9: ="" | AV9: =IF(D6=0,"",D6) | AW9: 4 | AX9: 0 | AY9: Informasjon om kommunen | AZ9: Kontaktperson Én person | BA9: 1.4. | BB9: Kontaktperson Én person | BK9: 4 | BO9: TRUE | BQ9: 0 | BR9: P1.1d | BS9: Prioritering i forhold til andre innovasjonsprosjekter (Valgfritt) Dersom dere her søker om flere innovasjonsprosjekter og mener at det kan være ulikt hvor mye nytte de gir så kan dere bruke dette feltet til å opplyse om dette. Angi 1 for innovasjonsprosjektet dere anser at har størst nytte og 2 for innovasjonsprosjektet med nest høyest nytte osv. | CA9: 0 | CB9: =BQ9>"" -> FALSE | CC9: =AND(BQ9=0,OR(BR9=0,BS9=0)) -> FALSE | CD9: =$CD$4 -> TRUE | CE9: =IF(CD9,FALSE,NOT(AND(CC9,CB10=FALSE))) -> FALSE | CF9: =IF(LEN(BQ9)=3,1,IF(CB10,5,IF(CB9,2,IF(BS9="Søknad",3,4)))) -> 4 | CG9: ='Forside og oppsummering'!$E$23 -> 0 | CH9: Prosjekt 1 | CI9: =IF(CF9=1,"",IF(CF9=2,BR9,CI8)) -> Overordnede prosjektdetaljer | CJ9: =IF(CF9<3,BQ9,IF(AND(BR9=0,CE9),_xlfn.CONCAT(LEFT(BR8,LEN(BR8)-1),CHAR(CODE(RIGHT(BR8,1))+1)),BR9)) -> P1.1d | CK9: =BS9 -> Prioritering i forhold til andre innovasjonsprosjekter (Valgfritt) Dersom dere her søker om flere innovasjonsprosjekter og mener at det kan være ulikt hvor mye nytte de gir så kan dere bruke dette feltet til å opplyse om dette. Angi 1 for innovasjonsprosjektet dere anser at har størst nytte og 2 for innovasjonsprosjektet med nest høyest nytte osv. | CL9: 0 | CM9: 0 | CN9: 0 | CO9: 0 | CP9: 0 | CQ9: 0 | CR9: 0 | CS9: 0 | CT9: =CF9 -> 4 | DI9: 0 | DJ9: Informasjon om kommunen | DK9: Kontaktperson Én person | DL9: 1.4. | DM9: Kontaktperson Én person | DV9: 4 | ET9: 20220124_1553
A10: 0 | B10: 1.8. | C10: Har kommunen kompetanseplan? (Ja/Nei) Vedlegges søknaden | D10: 0 | E10: 0 | F10: 0 | G10: 2.1a | H10: Helsefagarbeider | I10: =IF(H10='Kompetansetilskudd og BPA'!$E$12,4,IF(E10=0,IF(F10=0,IF(G10=0,FALSE,3),2),1)) -> 3 | J10: =IF(I10=1,E10,IF(I10=2,F10,IF(I10=3,G10,IF(I10=4,G10)))) -> 2.1a | K10: =IF(I10=1,F10,IF(I10=2,G10,IF(I10=3,H10,IF(I10=4,H10)))) -> Helsefagarbeider | L10: 3 | N10: 0 | O10: 3 | P10: 2.2a | Q10: Psykisk helsearbeid og rusarbeid | R10: ='Forside og oppsummering'!$E$23 -> 0 | S10: =IF(O10=1,P10,S9) -> 2. | T10: =IF(O10=1,Q10,T9) -> Kompetansetiltak (grunn-, videre- og etterutdanning) | U10: =IF(O10=1,"",IF(O10=2,P10,U9)) -> 2.2. | V10: =IF(O10=1,"",IF(O10=2,Q10,V9)) -> Fagskoleutdanning | W10: =P10 -> 2.2a | X10: =IF(O10<3,"",IF(O10=3,Q10,X9)) -> Psykisk helsearbeid og rusarbeid | Y10: =IF(O11=4,P11) -> FALSE | Z10: =O10=4 -> FALSE | AA10: =IF(Z10,5,O10) -> 3 | AE10: =$D$3 -> 0 | AF10: =$A$2 -> 1. | AG10: =$B$2 -> Informasjon om kommunen | AH10: 1.5. | AI10: E-post Til kontaktperson | AJ10: =AH10 -> 1.5. | AK10: =AI10 -> E-post Til kontaktperson | AL10: ="" | AM10: ="" | AN10: ="" | AO10: ="" | AP10: ="" | AQ10: ="" | AR10: ="" | AS10: ="" | ... AU10: ="" | AV10: =IF(D7=0,"",D7) | AW10: 4 | AX10: 0 | AY10: Informasjon om kommunen | AZ10: E-post Til kontaktperson | BA10: 1.5. | BB10: E-post Til kontaktperson | BK10: 4 | BO10: TRUE | BQ10: 0 | BR10: P1.1e | BS10: Status for innovasjonsprosjektet - Besvares dersom dette er videreføring av et eksisterende innovasjonsprosjekt - Beskriv kort hva som er status for innovasjonsprosjektet og hvordan prosjektet ligger an i forhold til den opprinnelige fremdriftsplanen | CA10: 0 | CB10: =BQ10>"" -> FALSE | CC10: =AND(BQ10=0,OR(BR10=0,BS10=0)) -> FALSE | CD10: =$CD$4 -> TRUE | CE10: =IF(CD10,FALSE,NOT(AND(CC10,CB11=FALSE))) -> FALSE | CF10: =IF(LEN(BQ10)=3,1,IF(CB11,5,IF(CB10,2,IF(BS10="Søknad",3,4)))) -> 4 | CG10: ='Forside og oppsummering'!$E$23 -> 0 | CH10: Prosjekt 1 | CI10: =IF(CF10=1,"",IF(CF10=2,BR10,CI9)) -> Overordnede prosjektdetaljer | CJ10: =IF(CF10<3,BQ10,IF(AND(BR10=0,CE10),_xlfn.CONCAT(LEFT(BR9,LEN(BR9)-1),CHAR(CODE(RIGHT(BR9,1))+1)),BR10)) -> P1.1e | CK10: =BS10 -> Status for innovasjonsprosjektet - Besvares dersom dette er videreføring av et eksisterende innovasjonsprosjekt - Beskriv kort hva som er status for innovasjonsprosjektet og hvordan prosjektet ligger an i forhold til den opprinnelige fremdriftsplanen | CL10: 0 | CM10: 0 | CN10: 0 | CO10: 0 | CP10: 0 | CQ10: 0 | CR10: 0 | CS10: 0 | CT10: =CF10 -> 4 | DI10: 0 | DJ10: Informasjon om kommunen | DK10: E-post Til kontaktperson | DL10: 1.5. | DM10: E-post Til kontaktperson | DV10: 4
