Workbook
Name Slicer_Kommune_nr: #N/A
Name Slicer_Kommune_nr1: #N/A
Name Slicer_Region: #N/A
Name Slicer_Region1: #N/A
Name Slicer_År: #N/A
Name Slicer_År1: #N/A
Name Slicer_År2: #N/A
Name Slicer_År3: #N/A

Sheet Aktivitetsdata
A1: År | B1: Region | C1: Kommune | D1: Kommune nr | E1: Parameter | F1: Måleenhet | G1: Antall
A2: 2000 | B2: Innherred | C2: Steinkjer | D2: 5006 Steinkjer | E2: Ungskogpleie | F2: Dekar | G2: 3306
A3: 2001 | B3: Innherred | C3: Steinkjer | D3: 5006 Steinkjer | E3: Ungskogpleie | F3: Dekar | G3: 3680
A4: 2002 | B4: Innherred | C4: Steinkjer | D4: 5006 Steinkjer | E4: Ungskogpleie | F4: Dekar | G4: 4389
A5: 2003 | B5: Innherred | C5: Steinkjer | D5: 5006 Steinkjer | E5: Ungskogpleie | F5: Dekar | G5: 637
A6: 2004 | B6: Innherred | C6: Steinkjer | D6: 5006 Steinkjer | E6: Ungskogpleie | F6: Dekar | G6: 1326
A7: 2005 | B7: Innherred | C7: Steinkjer | D7: 5006 Steinkjer | E7: Ungskogpleie | F7: Dekar | G7: 1387
A8: 2006 | B8: Innherred | C8: Steinkjer | D8: 5006 Steinkjer | E8: Ungskogpleie | F8: Dekar | G8: 950
A9: 2007 | B9: Innherred | C9: Steinkjer | D9: 5006 Steinkjer | E9: Ungskogpleie | F9: Dekar | G9: 2413
A10: 2008 | B10: Innherred | C10: Steinkjer | D10: 5006 Steinkjer | E10: Ungskogpleie | F10: Dekar | G10: 2256
A11: 2009 | B11: Innherred | C11: Steinkjer | D11: 5006 Steinkjer | E11: Ungskogpleie | F11: Dekar | G11: 2444
A12: 2010 | B12: Innherred | C12: Steinkjer | D12: 5006 Steinkjer | E12: Ungskogpleie | F12: Dekar | G12: 2475
A13: 2011 | B13: Innherred | C13: Steinkjer | D13: 5006 Steinkjer | E13: Ungskogpleie | F13: Dekar | G13: 2549
... A378: 2002 | B378: Lensa vest | C378: Heim | D378: 5055 Heim | E378: Ungskogpleie | F378: Dekar | G378: 1131
A379: 2000 | B379: Nidaros | C379: Trondheim | D379: 5001 Trondheim | E379: Ungskogpleie | F379: Dekar
A380: 2004 | B380: Lensa vest | C380: Heim | D380: 5055 Heim | E380: Ungskogpleie | F380: Dekar | G380: 439
A381: 2005 | B381: Lensa vest | C381: Heim | D381: 5055 Heim | E381: Ungskogpleie | F381: Dekar | G381: 429
A382: 2006 | B382: Lensa vest | C382: Heim | D382: 5055 Heim | E382: Ungskogpleie | F382: Dekar | G382: 1085
A383: 2001 | B383: Nidaros | C383: Trondheim | D383: 5001 Trondheim | E383: Ungskogpleie | F383: Dekar
A384: 2008 | B384: Lensa vest | C384: Heim | D384: 5055 Heim | E384: Ungskogpleie | F384: Dekar | G384: 664
A385: 2009 | B385: Lensa vest | C385: Heim | D385: 5055 Heim | E385: Ungskogpleie | F385: Dekar | G385: 300
A386: 2010 | B386: Lensa vest | C386: Heim | D386: 5055 Heim | E386: Ungskogpleie | F386: Dekar | G386: 176
A387: 2011 | B387: Lensa vest | C387: Heim | D387: 5055 Heim | E387: Ungskogpleie | F387: Dekar | G387: 49
A388: 2012 | B388: Lensa vest | C388: Heim | D388: 5055 Heim | E388: Ungskogpleie | F388: Dekar | G388: 237
A389: 2013 | B389: Lensa vest | C389: Heim | D389: 5055 Heim | E389: Ungskogpleie | F389: Dekar | G389: 129
A390: 2014 | B390: Lensa vest | C390: Heim | D390: 5055 Heim | E390: Ungskogpleie | F390: Dekar | G390: 204
A391: 2015 | B391: Lensa vest | C391: Heim | D391: 5055 Heim | E391: Ungskogpleie | F391: Dekar | G391: 242
A392: 2016 | B392: Lensa vest | C392: Heim | D392: 5055 Heim | E392: Ungskogpleie | F392: Dekar | G392: 161
A393: 2002 | B393: Nidaros | C393: Trondheim | D393: 5001 Trondheim | E393: Ungskogpleie | F393: Dekar
A394: 2003 | B394: Nidaros | C394: Trondheim | D394: 5001 Trondheim | E394: Ungskogpleie | F394: Dekar
A395: 2004 | B395: Nidaros | C395: Trondheim | D395: 5001 Trondheim | E395: Ungskogpleie | F395: Dekar
A396: 2001 | B396: Fosen | C396: Ørland | D396: 5057 Ørland | E396: Ungskogpleie | F396: Dekar | G396: 10
A397: 2000 | B397: Lensa vest | C397: Orkland | D397: 5059 Orkland | E397: Ungskogpleie | F397: Dekar | G397: 334
A398: 2001 | B398: Lensa vest | C398: Orkland | D398: 5059 Orkland | E398: Ungskogpleie | F398: Dekar | G398: 316
A399: 2002 | B399: Lensa vest | C399: Orkland | D399: 5059 Orkland | E399: Ungskogpleie | F399: Dekar | G399: 282
A400: 2005 | B400: Nidaros | C400: Trondheim | D400: 5001 Trondheim | E400: Ungskogpleie | F400: Dekar
A401: 2004 | B401: Lensa vest | C401: Orkland | D401: 5059 Orkland | E401: Ungskogpleie | F401: Dekar | G401: 112
A402: 2005 | B402: Lensa vest | C402: Orkland | D402: 5059 Orkland | E402: Ungskogpleie | F402: Dekar | G402: 53
A403: 2006 | B403: Lensa vest | C403: Orkland | D403: 5059 Orkland | E403: Ungskogpleie | F403: Dekar | G403: 65
A404: 2007 | B404: Lensa vest | C404: Orkland | D404: 5059 Orkland | E404: Ungskogpleie | F404: Dekar | G404: 228
A405: 2008 | B405: Lensa vest | C405: Orkland | D405: 5059 Orkland | E405: Ungskogpleie | F405: Dekar | G405: 100
A406: 2009 | B406: Lensa vest | C406: Orkland | D406: 5059 Orkland | E406: Ungskogpleie | F406: Dekar | G406: 150
A407: 2010 | B407: Lensa vest | C407: Orkland | D407: 5059 Orkland | E407: Ungskogpleie | F407: Dekar | G407: 112
A408: 2011 | B408: Lensa vest | C408: Orkland | D408: 5059 Orkland | E408: Ungskogpleie | F408: Dekar | G408: 336
A409: 2012 | B409: Lensa vest | C409: Orkland | D409: 5059 Orkland | E409: Ungskogpleie | F409: Dekar | G409: 27
A410: 2013 | B410: Lensa vest | C410: Orkland | D410: 5059 Orkland | E410: Ungskogpleie | F410: Dekar | G410: 119
A411: 2014 | B411: Lensa vest | C411: Orkland | D411: 5059 Orkland | E411: Ungskogpleie | F411: Dekar | G411: 0
A412: 2015 | B412: Lensa vest | C412: Orkland | D412: 5059 Orkland | E412: Ungskogpleie | F412: Dekar | G412: 218
... A467: 2002 | B467: Fosen | C467: Osen | D467: 5020 Osen | E467: Ungskogpleie | F467: Dekar | G467: 45
A468: 2006 | B468: Nidaros | C468: Trondheim | D468: 5001 Trondheim | E468: Ungskogpleie | F468: Dekar
A469: 2004 | B469: Fosen | C469: Osen | D469: 5020 Osen | E469: Ungskogpleie | F469: Dekar | G469: 268
A470: 2005 | B470: Fosen | C470: Osen | D470: 5020 Osen | E470: Ungskogpleie | F470: Dekar | G470: 105
A471: 2006 | B471: Fosen | C471: Osen | D471: 5020 Osen | E471: Ungskogpleie | F471: Dekar | G471: 12
A472: 2007 | B472: Fosen | C472: Osen | D472: 5020 Osen | E472: Ungskogpleie | F472: Dekar | G472: 10
A473: 2008 | B473: Fosen | C473: Osen | D473: 5020 Osen | E473: Ungskogpleie | F473: Dekar | G473: 92
A474: 2009 | B474: Fosen | C474: Osen | D474: 5020 Osen | E474: Ungskogpleie | F474: Dekar | G474: 228
A475: 2010 | B475: Fosen | C475: Osen | D475: 5020 Osen | E475: Ungskogpleie | F475: Dekar | G475: 150
A476: 2011 | B476: Fosen | C476: Osen | D476: 5020 Osen | E476: Ungskogpleie | F476: Dekar | G476: 82
A477: 2012 | B477: Fosen | C477: Osen | D477: 5020 Osen | E477: Ungskogpleie | F477: Dekar | G477: 35
A478: 2013 | B478: Fosen | C478: Osen | D478: 5020 Osen | E478: Ungskogpleie | F478: Dekar | G478: 231
A479: 2014 | B479: Fosen | C479: Osen | D479: 5020 Osen | E479: Ungskogpleie | F479: Dekar | G479: 154
A480: 2015 | B480: Fosen | C480: Osen | D480: 5020 Osen | E480: Ungskogpleie | F480: Dekar | G480: 50
... A484: 2002 | B484: Gauldalen | C484: Oppdal | D484: 5021 Oppdal | E484: Ungskogpleie | F484: Dekar | G484: 182
A485: 2007 | B485: Nidaros | C485: Trondheim | D485: 5001 Trondheim | E485: Ungskogpleie | F485: Dekar
A486: 2004 | B486: Gauldalen | C486: Oppdal | D486: 5021 Oppdal | E486: Ungskogpleie | F486: Dekar | G486: 143
A487: 2005 | B487: Gauldalen | C487: Oppdal | D487: 5021 Oppdal | E487: Ungskogpleie | F487: Dekar | G487: 102
A488: 2006 | B488: Gauldalen | C488: Oppdal | D488: 5021 Oppdal | E488: Ungskogpleie | F488: Dekar | G488: 9
A489: 2007 | B489: Gauldalen | C489: Oppdal | D489: 5021 Oppdal | E489: Ungskogpleie | F489: Dekar | G489: 34
A490: 2008 | B490: Gauldalen | C490: Oppdal | D490: 5021 Oppdal | E490: Ungskogpleie | F490: Dekar | G490: 87
A491: 2009 | B491: Gauldalen | C491: Oppdal | D491: 5021 Oppdal | E491: Ungskogpleie | F491: Dekar | G491: 106
A492: 2010 | B492: Gauldalen | C492: Oppdal | D492: 5021 Oppdal | E492: Ungskogpleie | F492: Dekar | G492: 138
A493: 2011 | B493: Gauldalen | C493: Oppdal | D493: 5021 Oppdal | E493: Ungskogpleie | F493: Dekar | G493: 26
A494: 2012 | B494: Gauldalen | C494: Oppdal | D494: 5021 Oppdal | E494: Ungskogpleie | F494: Dekar | G494: 39
A495: 2013 | B495: Gauldalen | C495: Oppdal | D495: 5021 Oppdal | E495: Ungskogpleie | F495: Dekar | G495: 103
A496: 2014 | B496: Gauldalen | C496: Oppdal | D496: 5021 Oppdal | E496: Ungskogpleie | F496: Dekar | G496: 23
A497: 2015 | B497: Gauldalen | C497: Oppdal | D497: 5021 Oppdal | E497: Ungskogpleie | F497: Dekar | G497: 0
... A518: 2002 | B518: Lensa vest | C518: Orkland | D518: 5059 Orkland | E518: Ungskogpleie | F518: Dekar | G518: 942
A519: 2008 | B519: Nidaros | C519: Trondheim | D519: 5001 Trondheim | E519: Ungskogpleie | F519: Dekar
A520: 2004 | B520: Lensa vest | C520: Orkland | D520: 5059 Orkland | E520: Ungskogpleie | F520: Dekar | G520: 194
A521: 2005 | B521: Lensa vest | C521: Orkland | D521: 5059 Orkland | E521: Ungskogpleie | F521: Dekar | G521: 354
A522: 2006 | B522: Lensa vest | C522: Orkland | D522: 5059 Orkland | E522: Ungskogpleie | F522: Dekar | G522: 155
A523: 2007 | B523: Lensa vest | C523: Orkland | D523: 5059 Orkland | E523: Ungskogpleie | F523: Dekar | G523: 287
A524: 2008 | B524: Lensa vest | C524: Orkland | D524: 5059 Orkland | E524: Ungskogpleie | F524: Dekar | G524: 218
A525: 2009 | B525: Lensa vest | C525: Orkland | D525: 5059 Orkland | E525: Ungskogpleie | F525: Dekar | G525: 978
A526: 2010 | B526: Lensa vest | C526: Orkland | D526: 5059 Orkland | E526: Ungskogpleie | F526: Dekar | G526: 229
A527: 2011 | B527: Lensa vest | C527: Orkland | D527: 5059 Orkland | E527: Ungskogpleie | F527: Dekar | G527: 474
A528: 2012 | B528: Lensa vest | C528: Orkland | D528: 5059 Orkland | E528: Ungskogpleie | F528: Dekar | G528: 468
A529: 2013 | B529: Lensa vest | C529: Orkland | D529: 5059 Orkland | E529: Ungskogpleie | F529: Dekar | G529: 286
A530: 2014 | B530: Lensa vest | C530: Orkland | D530: 5059 Orkland | E530: Ungskogpleie | F530: Dekar | G530: 552
A531: 2015 | B531: Lensa vest | C531: Orkland | D531: 5059 Orkland | E531: Ungskogpleie | F531: Dekar | G531: 395
... A572: 2005 | B572: Gauldalen | C572: Holtålen | D572: 5026 Holtålen | E572: Ungskogpleie | F572: Dekar | G572: 59
A573: 2009 | B573: Nidaros | C573: Trondheim | D573: 5001 Trondheim | E573: Ungskogpleie | F573: Dekar
A574: 2007 | B574: Gauldalen | C574: Holtålen | D574: 5026 Holtålen | E574: Ungskogpleie | F574: Dekar | G574: 95
A575: 2008 | B575: Gauldalen | C575: Holtålen | D575: 5026 Holtålen | E575: Ungskogpleie | F575: Dekar | G575: 15
A576: 2009 | B576: Gauldalen | C576: Holtålen | D576: 5026 Holtålen | E576: Ungskogpleie | F576: Dekar | G576: 160
A577: 2010 | B577: Gauldalen | C577: Holtålen | D577: 5026 Holtålen | E577: Ungskogpleie | F577: Dekar | G577: 286
A578: 2011 | B578: Gauldalen | C578: Holtålen | D578: 5026 Holtålen | E578: Ungskogpleie | F578: Dekar | G578: 16
A579: 2012 | B579: Gauldalen | C579: Holtålen | D579: 5026 Holtålen | E579: Ungskogpleie | F579: Dekar | G579: 102
A580: 2013 | B580: Gauldalen | C580: Holtålen | D580: 5026 Holtålen | E580: Ungskogpleie | F580: Dekar | G580: 251
A581: 2014 | B581: Gauldalen | C581: Holtålen | D581: 5026 Holtålen | E581: Ungskogpleie | F581: Dekar | G581: 229
...

Sheet Arealtall
C2: Barskog | D2: Blandingsskog | E2: Lauvskog | F2: Skog på myr | G2: Verna prod.skog | H2: Prod skog eksl vern
B3: 5001 Trondheim | C3: 217424 | D3: 8755 | E3: 15528 | F3: 1846 | G3: 9811 | H3: 233742
B4: 5006 Steinkjer | C4: 811487 | D4: 33445 | E4: 13254 | F4: 3679 | G4: 33513 | H4: 828352
B5: 5007 Namsos | C5: 742120 | D5: 25379 | E5: 8982 | F5: 15891 | G5: 58659 | H5: 733713
B6: 5014 Frøya | C6: 1684 | D6: 117 | E6: 10 | F6: 137 | G6: 0 | H6: 1948
B7: 5020 Osen | C7: 48045 | D7: 5294 | E7: 2440 | F7: 139 | G7: 1748 | H7: 54170
B8: 5021 Oppdal | C8: 85370 | D8: 19449 | E8: 24776 | F8: 96 | G8: 3130 | H8: 126561
B9: 5022 Rennebu | C9: 173026 | D9: 42512 | E9: 36454 | F9: 166 | G9: 2582 | H9: 249576
B10: 5025 Røros | C10: 108692 | D10: 15007 | E10: 82865 | F10: 434 | G10: 19469 | H10: 187529
B11: 5026 Holtålen | C11: 101172 | D11: 11321 | E11: 17722 | F11: 355 | G11: 8239 | H11: 122331
B12: 5027 Midtre Gauldal | C12: 372780 | D12: 59275 | E12: 69931 | F12: 903 | G12: 19585 | H12: 483304
B13: 5028 Melhus | C13: 301353 | D13: 7707 | E13: 22316 | F13: 1093 | G13: 1041 | H13: 331428
B14: 5029 Skaun | C14: 125479 | D14: 4248 | E14: 6588 | F14: 2288 | G14: 212 | H14: 138391
... B41: Totalsum | C41: 9154881 | D41: 894096 | E41: 748288 | F41: 76390 | G41: 483463 | H41: 10390192
H42: 10873655

Sheet Kommuneinfo
A1: Kommunenr | B1: Kommune | C1: Region | D1: Skogansvalig | E1: Tlf | F1: E-post
A2: 5001 Trondheim | B2: Trondheim | C2: Nidaros | D2: Kjetil Tolvstad | E2: 975 67 655 | F2: kjetil.tolvstad@trondheim.kommune.no
A3: 5006 Steinkjer | B3: Steinkjer | C3: Innherred | D3: Truls Løfblad | E3: 920 63 238 | F3: truls.lofblad@steinkjer.kommune.no
A4: 5007 Namsos | B4: Namsos | C4: Namdalen | D4: Elin Hovik Skage | E4: 468 62 281 | F4: elin.hovik.skage@namsos.kommune.no
A5: 5014 Frøya | B5: Frøya | C5: Lensa vest | D5: Kjell Inge Mathisen | F5: kjellinge.mathisen@froya.kommune.no
A6: 5020 Osen | B6: Osen | C6: Fosen | D6: Robin Sandvold | E6: 91629740 | F6: robin.sandvold@indrefosen.kommune.no
A7: 5021 Oppdal | B7: Oppdal | C7: Gauldalen | D7: Else Morken | E7: 91896050 | F7: else.morken@oppdal.kommune.no
A8: 5022 Rennebu | B8: Rennebu | C8: Gauldalen | D8: Eirik Gorseth Sønstevold | E8: 948 44 229 | F8: eirik.sonstevold@rennebu.kommune.no
A9: 5025 Røros | B9: Røros | C9: Gauldalen | D9: Tommy Vestøl | E9: 62 47 03 26 | F9: tommy.vestol@os.kommune.no
A10: 5026 Holtålen | B10: Holtålen | C10: Gauldalen | D10: Tore Evavold | E10: 47492091 | F10: tore.evavold@holtalen.kommune.no
A11: 5027 Midtre-Gauldal | B11: Midtre-Gauldal | C11: Gauldalen | D11: Ola Nygård | E11: 41464997 | F11: olanyg@midtre-gauldal.kommune.no
A12: 5028 Melhus | B12: Melhus | C12: Gauldalen | D12: Ronja Wilmannsøien | E12: 46 42 81 04 | F12: ronja.wilmannsoien@melhus.kommune.no
A13: 5029 Skaun | B13: Skaun | C13: Lensa vest | D13: Ole Johan Aune | E13: 72 86 72 53 | F13: ole.johan.aune@skaun.kommune.no
A14: 5031 Malvik | B14: Malvik | C14: Nidaros | D14: Kjetil Tolvstad | E14: 975 67 655 | F14: kjetil.tolvstad@malvik.kommune.no
A15: 5032 Selbu | B15: Selbu | C15: Nidaros | D15: Henrik Selboe | E15: 94 14 35 67 | F15: henrik.selboe@selbu.kommune.no
A16: 5033 Tydal | B16: Tydal | C16: Nidaros | D16: Henrik Selboe | E16: 94 14 35 67 | F16: henrik.selboe@selbu.kommune.no
A17: 5034 Meråker | B17: Meråker | C17: Nidaros | D17: Tore Horten | E17: 74 81 32 26 | F17: tore.horten@meraker.kommune.no
A18: 5035 Stjørdal | B18: Stjørdal | C18: Nidaros | D18: Stian Renbjør Almestad | E18: 74833917 | F18: stian.almestad@stjordal.kommune.no
A19: 5036 Frosta | B19: Frosta | C19: Innherred | D19: Dag O. Bævre | E19: 911 82 403 | F19: Dag.bevre@levanger.kommune.no
A20: 5037 Levanger | B20: Levanger | C20: Innherred | D20: Dag O. Bævre | E20: 911 82 403 | F20: Dag.bevre@levanger.kommune.no
A21: 5038 Verdal | B21: Verdal | C21: Innherred | D21: Roar Leirset | E21: 41446449 | F21: roar.leirset@verdal.kommune.no
A22: 5041 Snåsa | B22: Snåsa | C22: Namdalen | D22: Solfrid Løvhaugen | E22: 97115351 | F22: solfrid.lovhaugen@snasa.kommune.no
A23: 5042 Lierne | B23: Lierne | C23: Namdalen | D23: Andreas Gomo Leistad | E23: 930 96 128 | F23: Andreas.Leistad@lierne.kommune.no
A24: 5043 Røyrvik | B24: Røyrvik | C24: Namdalen | D24: Lars Kristian Bjørnli | E24: 41510952 | F24: lars.kristian.bjornli@lierne.kommune.no
A25: 5044 Namsskogan | B25: Namsskogan | C25: Namdalen | D25: Lars Kristian Bjørnli | E25: 41510952 | F25: lars.kristian.bjornli@lierne.kommune.no
A26: 5045 Grong | B26: Grong | C26: Namdalen | D26: Roy Svarliaunet | E26: 90403518 | F26: roy.svarliaunet@overhalla.kommune.no
A27: 5046 Høylandet | B27: Høylandet | C27: Namdalen | D27: Bård Håvard Viken | E27: 92821549 | F27: Bard.Havard.Viken@hoylandet.kommune.no
A28: 5047 Overhalla | B28: Overhalla | C28: Namdalen | D28: Aksel Håkonsen | E28: 95826704 | F28: aksel.hakonsen@overhalla.kommune.no
A29: 5049 Flatanger | B29: Flatanger | C29: Namdalen | D29: Øivind Strøm | E29: 47637202 | F29: oivind.strom@flatanger.kommune.no
A30: 5052 Leka | B30: Leka | C30: Namdalen | D30: Annette Pettersen | E30: 46881079 | F30: Annette.Pettersen@leka.kommune.no
A31: 5053 Inderøy | B31: Inderøy | C31: Innherred | D31: Lars Ove Lehn | E31: 47488727 | F31: lars.ove.lehn@inderoy.kommune.no
A32: 5054 Indre Fosen | B32: Indre Fosen | C32: Fosen | D32: Robin Sandvold | E32: 91629740 | F32: robin.sandvold@indrefosen.kommune.no
A33: 5055 Heim | B33: Heim | C33: Lensa vest | D33: Kjell Sverre Strøm | E33: 72 46 03 35 | F33: kjell.sverre.strom@heim.kommune.no
A34: 5056 Hitra | B34: Hitra | C34: Lensa vest | D34: Ida Nesset | E34: 72 44 17 08 | F34: ida.nesset@hitra.kommune.no
A35: 5057 Ørland | B35: Ørland | C35: Fosen | D35: Elias Viktor Gangstø | F35: elias.viktor.gangsto@orland.kommune.no
A36: 5058 Åfjord | B36: Åfjord | C36: Fosen | D36: Simon Larsen | E36: 99479767 | F36: Simon.Larsen@indrefosen.kommune.no
A37: 5059 Orkland | B37: Orkland | C37: Lensa vest | D37: Ole Johan Skjærli | E37: 41432071 | F37: ole.skjarli@orkland.kommune.no
A38: 5060 Nærøysund | B38: Nærøysund | C38: Namdalen | D38: Egil Solstad | E38: 90084230 | F38: egil.solstad@naroysund.kommune.no
A39: 5061 Rindal | B39: Rindal | C39: Lensa vest | D39: Ola Myklegard Aarnes | E39: 95118590 | F39: ola.myklegard.aarnes@rindal.kommune.no

Sheet PivotKommune
B1: Parameter | C1: Avvirkning | E1: Parameter | F1: Nyplanting | H1: Parameter | I1: Ungskogpleie | K1: Parameter | L1: Suppleringsplanting | N1: Parameter | O1: Markberedning | Q1: Avvirkning i | R1: Gj.snitt avvirkning (2021-2025) | S1: =AVERAGE(C26:C30) -> 939860.6
B2: Kommune nr | C2: (Flere elementer) | E2: Kommune nr | F2: (Flere elementer) | H2: Kommune nr | I2: (Flere elementer) | K2: Kommune nr | L2: (Flere elementer) | N2: Kommune nr | O2: (Flere elementer) | Q2: Nyplanting i | R2: Gj.snitt planting (2021-2025) | S2: =AVERAGE(F26:F30) -> 4486153.2
Q3: Ungskogpleie i | R3: Planter per m3 | S3: =S2/S1 -> 4.7732113
B4: Radetiketter | C4: Sum av Antall | E4: Radetiketter | F4: Sum av Antall | H4: Radetiketter | I4: Sum av Antall | K4: Radetiketter | L4: Sum av Antall | N4: Radetiketter | O4: Sum av Antall | Q4: Suppleringsplanting i
B5: 2000 | C5: 739147 | E5: 2000 | F5: 6776969 | H5: 2000 | I5: 53002 | K5: 2000 | L5: 269930 | N5: 2000 | O5: 6854 | Q5: Markberedning i
B6: 2001 | C6: 782342 | E6: 2001 | F6: 6622134 | H6: 2001 | I6: 47067 | K6: 2001 | L6: 291906 | N6: 2001 | O6: 6799 | Q6: , 2000-2025
B7: 2002 | C7: 682469 | E7: 2002 | F7: 5801712 | H7: 2002 | I7: 48097 | K7: 2002 | L7: 215920 | N7: 2002 | O7: 6345
B8: 2003 | C8: 659451 | E8: 2003 | F8: 3271556 | H8: 2003 | I8: 6098 | K8: 2003 | L8: 54031 | N8: 2003 | O8: 2378 | Q8: Gjennomsnitlig ungskogpleie siste 5 år | R8: =AVERAGE(I26:I30) -> 25802.2
B9: 2004 | C9: 625293 | E9: 2004 | F9: 3469386 | H9: 2004 | I9: 30775 | K9: 2004 | L9: 57735 | N9: 2004 | O9: 5637 | Q9: Avvirket volum 2009-2019 | R9: =AVERAGE(C14:C24) -> 840510.82
B10: 2005 | C10: 698431 | E10: 2005 | F10: 2370166 | H10: 2005 | I10: 28368 | K10: 2005 | L10: 75861 | N10: 2005 | O10: 4888 | Q10: Antatt årlig avvirkningsareal | R10: =R9/15 -> 56034.055
B11: 2006 | C11: 787030 | E11: 2006 | F11: 3473699 | H11: 2006 | I11: 29042 | K11: 2006 | L11: 86495 | N11: 2006 | O11: 4313 | Q11: Antatt årlig ungskogpleiebehov | R11: =R10*1.5 -> 84051.082
B12: 2007 | C12: 795331 | E12: 2007 | F12: 3902957 | H12: 2007 | I12: 32376 | K12: 2007 | L12: 63610 | N12: 2007 | O12: 7386
B13: 2008 | C13: 813775 | E13: 2008 | F13: 4727511 | H13: 2008 | I13: 29052 | K13: 2008 | L13: 161415 | N13: 2008 | O13: 6365
B14: 2009 | C14: 646315 | E14: 2009 | F14: 4345382 | H14: 2009 | I14: 35119 | K14: 2009 | L14: 157780 | N14: 2009 | O14: 7018
B15: 2010 | C15: 733304 | E15: 2010 | F15: 3362757 | H15: 2010 | I15: 29372 | K15: 2010 | L15: 146294 | N15: 2010 | O15: 4223
B16: 2011 | C16: 704386 | E16: 2011 | F16: 3984574 | H16: 2011 | I16: 30175 | K16: 2011 | L16: 129865 | N16: 2011 | O16: 3551
B17: 2012 | C17: 680065 | E17: 2012 | F17: 3946714 | H17: 2012 | I17: 39025 | K17: 2012 | L17: 141975 | N17: 2012 | O17: 1972
B18: 2013 | C18: 870516 | E18: 2013 | F18: 3968517 | H18: 2013 | I18: 31034 | K18: 2013 | L18: 89470 | N18: 2013 | O18: 3101
B19: 2014 | C19: 1046122 | E19: 2014 | F19: 4270889 | H19: 2014 | I19: 36422 | K19: 2014 | L19: 193035 | N19: 2014 | O19: 2894
B20: 2015 | C20: 1003383 | E20: 2015 | F20: 4574547 | H20: 2015 | I20: 33951 | K20: 2015 | L20: 193690 | N20: 2015 | O20: 3660
B21: 2016 | C21: 934795 | E21: 2016 | F21: 4200212 | H21: 2016 | I21: 31710 | K21: 2016 | L21: 224175 | N21: 2016 | O21: 3916
B22: 2017 | C22: 873623 | E22: 2017 | F22: 4468082 | H22: 2017 | I22: 32719 | K22: 2017 | L22: 197545 | N22: 2017 | O22: 2714
B23: 2018 | C23: 920743 | E23: 2018 | F23: 4854955 | H23: 2018 | I23: 30089 | K23: 2018 | L23: 145130 | N23: 2018 | O23: 3416
... B30: 2025 | C30: 1157061 | E30: 2025 | F30: 4354959 | H30: 2025 | I30: 31870 | K30: 2025 | L30: 226235 | N30: 2025 | O30: 5745
B31: Totalsum | C31: 21364807 | E31: Totalsum | F31: 114217479 | H31: Totalsum | I31: 815826 | K31: Totalsum | L31: 4492763 | N31: Totalsum | O31: 107667
B33: =C2 -> (Flere elementer)

Sheet PivotFylke
B2: Parameter | C2: Avvirkning | E2: Parameter | F2: Nyplanting | H2: Parameter | I2: Ungskogpleie | K2: Parameter | L2: Suppleringsplanting | N2: Parameter | O2: Markberedning
B4: Radetiketter | C4: Sum av Antall | E4: Radetiketter | F4: Sum av Antall | H4: Radetiketter | I4: Sum av Antall | K4: Radetiketter | L4: Sum av Antall | N4: Radetiketter | O4: Sum av Antall
B5: 2000 | C5: 739147 | E5: 2000 | F5: 6776969 | H5: 2000 | I5: 53002 | K5: 2000 | L5: 269930 | N5: 2000 | O5: 6854
B6: 2001 | C6: 782342 | E6: 2001 | F6: 6622134 | H6: 2001 | I6: 47067 | K6: 2001 | L6: 291906 | N6: 2001 | O6: 6799
B7: 2002 | C7: 682469 | E7: 2002 | F7: 5801712 | H7: 2002 | I7: 48097 | K7: 2002 | L7: 215920 | N7: 2002 | O7: 6345
B8: 2003 | C8: 659451 | E8: 2003 | F8: 3271556 | H8: 2003 | I8: 6098 | K8: 2003 | L8: 54031 | N8: 2003 | O8: 2378
B9: 2004 | C9: 625293 | E9: 2004 | F9: 3469386 | H9: 2004 | I9: 30775 | K9: 2004 | L9: 57735 | N9: 2004 | O9: 5637
B10: 2005 | C10: 698431 | E10: 2005 | F10: 2370166 | H10: 2005 | I10: 28368 | K10: 2005 | L10: 75861 | N10: 2005 | O10: 4888
B11: 2006 | C11: 787030 | E11: 2006 | F11: 3473699 | H11: 2006 | I11: 29042 | K11: 2006 | L11: 86495 | N11: 2006 | O11: 4313
B12: 2007 | C12: 795331 | E12: 2007 | F12: 3902957 | H12: 2007 | I12: 32376 | K12: 2007 | L12: 63610 | N12: 2007 | O12: 7386
B13: 2008 | C13: 813775 | E13: 2008 | F13: 4727511 | H13: 2008 | I13: 29052 | K13: 2008 | L13: 161415 | N13: 2008 | O13: 6365
B14: 2009 | C14: 646315 | E14: 2009 | F14: 4345382 | H14: 2009 | I14: 35119 | K14: 2009 | L14: 157780 | N14: 2009 | O14: 7018
B15: 2010 | C15: 733304 | E15: 2010 | F15: 3362757 | H15: 2010 | I15: 29372 | K15: 2010 | L15: 146294 | N15: 2010 | O15: 4223
B16: 2011 | C16: 704386 | E16: 2011 | F16: 3984574 | H16: 2011 | I16: 30175 | K16: 2011 | L16: 129865 | N16: 2011 | O16: 3551
... B30: 2025 | C30: 1157061 | E30: 2025 | F30: 4354959 | H30: 2025 | I30: 31870 | K30: 2025 | L30: 226235 | N30: 2025 | O30: 5745
B31: Totalsum | C31: 21364807 | E31: Totalsum | F31: 114217479 | H31: Totalsum | I31: 815826 | K31: Totalsum | L31: 4492763 | N31: Totalsum | O31: 107667

Sheet PivotRegion
B2: Parameter | C2: Avvirkning | E2: Parameter | F2: Nyplanting | H2: Parameter | I2: Ungskogpleie | K2: Parameter | L2: Suppleringsplanting | N2: Parameter | O2: Markberedning
B3: Region | C3: All | E3: Region | F3: All | H3: Region | I3: All | K3: Region | L3: All | N3: Region | O3: All
B5: Radetiketter | C5: Sum av Antall | E5: Radetiketter | F5: Sum av Antall | H5: Radetiketter | I5: Sum av Antall | K5: Radetiketter | L5: Sum av Antall | N5: Radetiketter | O5: Sum av Antall
B6: 2000 | C6: 739147 | E6: 2000 | F6: 6776969 | H6: 2000 | I6: 53002 | K6: 2000 | L6: 269930 | N6: 2000 | O6: 6854
B7: 2001 | C7: 782342 | E7: 2001 | F7: 6622134 | H7: 2001 | I7: 47067 | K7: 2001 | L7: 291906 | N7: 2001 | O7: 6799
B8: 2002 | C8: 682469 | E8: 2002 | F8: 5801712 | H8: 2002 | I8: 48097 | K8: 2002 | L8: 215920 | N8: 2002 | O8: 6345
B9: 2003 | C9: 659451 | E9: 2003 | F9: 3271556 | H9: 2003 | I9: 6098 | K9: 2003 | L9: 54031 | N9: 2003 | O9: 2378
B10: 2004 | C10: 625293 | E10: 2004 | F10: 3469386 | H10: 2004 | I10: 30775 | K10: 2004 | L10: 57735 | N10: 2004 | O10: 5637
B11: 2005 | C11: 698431 | E11: 2005 | F11: 2370166 | H11: 2005 | I11: 28368 | K11: 2005 | L11: 75861 | N11: 2005 | O11: 4888
B12: 2006 | C12: 787030 | E12: 2006 | F12: 3473699 | H12: 2006 | I12: 29042 | K12: 2006 | L12: 86495 | N12: 2006 | O12: 4313
B13: 2007 | C13: 795331 | E13: 2007 | F13: 3902957 | H13: 2007 | I13: 32376 | K13: 2007 | L13: 63610 | N13: 2007 | O13: 7386
B14: 2008 | C14: 813775 | E14: 2008 | F14: 4727511 | H14: 2008 | I14: 29052 | K14: 2008 | L14: 161415 | N14: 2008 | O14: 6365
B15: 2009 | C15: 646315 | E15: 2009 | F15: 4345382 | H15: 2009 | I15: 35119 | K15: 2009 | L15: 157780 | N15: 2009 | O15: 7018
B16: 2010 | C16: 733304 | E16: 2010 | F16: 3362757 | H16: 2010 | I16: 29372 | K16: 2010 | L16: 146294 | N16: 2010 | O16: 4223
B17: 2011 | C17: 704386 | E17: 2011 | F17: 3984574 | H17: 2011 | I17: 30175 | K17: 2011 | L17: 129865 | N17: 2011 | O17: 3551
... B31: 2025 | C31: 1157061 | E31: 2025 | F31: 4354959 | H31: 2025 | I31: 31870 | K31: 2025 | L31: 226235 | N31: 2025 | O31: 5745
B32: Totalsum | C32: 21364807 | E32: Totalsum | F32: 114217479 | H32: Totalsum | I32: 815826 | K32: Totalsum | L32: 4492763 | N32: Totalsum | O32: 107667

Sheet Oppslag kommune
L24: Skogansvarlig | M24: =VLOOKUP(PivotKommune!B33,Kommuneinfo!A1:F39, 4,FALSE) -> #N/A
L25: Tlf | M25: =VLOOKUP(PivotKommune!B33,Kommuneinfo!A1:F39, 5,FALSE) -> #N/A
L26: E-post | M26: =VLOOKUP(PivotKommune!B33,Kommuneinfo!A1:F39, 6,FALSE) -> #N/A
L28: Antall planter pr m3 i perioden 2021 - 2025
L29: =PivotKommune!S3 -> 4.7732113
L31: Antatt status i ungskogen:
L32: Gjennomsnittlig ungskogpleie siste 5 år | N32: =PivotKommune!R8 -> 25802.2 | O32: dekar
L33: Antatt årlig ungskogpleiebehov | N33: =PivotKommune!R11 -> 84051.082 | O33: dekar
L34: Differanse | N34: =N32-N33 -> -58248.882
L37: Nøkkeltall | N37: i dekar
L38: Barskog
L39: Blandingsskog
L40: Lauvskog
L41: Skog på myr
L42: Vernet
L43: Produktivt skogareal ekskl vern

Sheet Oppslag region

Sheet Oppslag fylket

Sheet Tabell aktivitet
B1: Kommune nr | C1: (Flere elementer)
B3: Sum av Antall | C3: Kolonneetiketter
B4: Radetiketter | C4: Avvirkning | D4: Ferdig bilveg | E4: Ferdig traktorveg | F4: Markberedning | G4: Nyplanting | H4: Suppleringsplanting | I4: Ungskogpleie | J4: Totalsum
B5: 2000 | C5: 739147 | D5: 39123 | E5: 24311 | F5: 6854 | G5: 6776969 | H5: 269930 | I5: 53002 | J5: 7909336
B6: 2001 | C6: 782342 | D6: 34021 | E6: 20203 | F6: 6799 | G6: 6622134 | H6: 291906 | I6: 47067 | J6: 7804472
B7: 2002 | C7: 682469 | D7: 57267 | E7: 59477 | F7: 6345 | G7: 5801712 | H7: 215920 | I7: 48097 | J7: 6871287
B8: 2003 | C8: 659451 | D8: 42714 | E8: 28887 | F8: 2378 | G8: 3271556 | H8: 54031 | I8: 6098 | J8: 4065115
B9: 2004 | C9: 625293 | D9: 19885 | E9: 18730 | F9: 5637 | G9: 3469386 | H9: 57735 | I9: 30775 | J9: 4227441
B10: 2005 | C10: 698431 | D10: 18053 | E10: 26087 | F10: 4888 | G10: 2370166 | H10: 75861 | I10: 28368 | J10: 3221854
B11: 2006 | C11: 787030 | D11: 17403 | E11: 13316 | F11: 4313 | G11: 3473699 | H11: 86495 | I11: 29042 | J11: 4411298
B12: 2007 | C12: 795331 | D12: 16772 | E12: 20187 | F12: 7386 | G12: 3902957 | H12: 63610 | I12: 32376 | J12: 4838619
B13: 2008 | C13: 813775 | D13: 13590 | E13: 13050 | F13: 6365 | G13: 4727511 | H13: 161415 | I13: 29052 | J13: 5764758 | L13: År | M13: Avvirkning | N13: Ferdig bilveg | O13: Ferdig traktorveg | P13: Markeberedning | Q13: Nyplanting | R13: Suppleringsplanting | S13: Ungskogpleie
B14: 2009 | C14: 646315 | D14: 11710 | E14: 25640 | F14: 7018 | G14: 4345382 | H14: 157780 | I14: 35119 | J14: 5228964 | L14: =B5 -> 2000 | M14: =C5 -> 739147 | N14: =D5 -> 39123 | O14: =E5 -> 24311 | P14: =F5 -> 6854 | Q14: =G5 -> 6776969 | R14: =H5 -> 269930 | S14: =I5 -> 53002
B15: 2010 | C15: 733304 | D15: 20889 | E15: 10400 | F15: 4223 | G15: 3362757 | H15: 146294 | I15: 29372 | J15: 4307239 | L15: =B6 -> 2001 | M15: =C6 -> 782342 | N15: =D6 -> 34021 | O15: =E6 -> 20203 | P15: =F6 -> 6799 | Q15: =G6 -> 6622134 | R15: =H6 -> 291906 | S15: =I6 -> 47067
B16: 2011 | C16: 704386 | D16: 27636 | E16: 7650 | F16: 3551 | G16: 3984574 | H16: 129865 | I16: 30175 | J16: 4887837 | L16: =B7 -> 2002 | M16: =C7 -> 682469 | N16: =D7 -> 57267 | O16: =E7 -> 59477 | P16: =F7 -> 6345 | Q16: =G7 -> 5801712 | R16: =H7 -> 215920 | S16: =I7 -> 48097
B17: 2012 | C17: 680065 | D17: 12120 | E17: 5475 | F17: 1972 | G17: 3946714 | H17: 141975 | I17: 39025 | J17: 4827346 | L17: =B8 -> 2003 | M17: =C8 -> 659451 | N17: =D8 -> 42714 | O17: =E8 -> 28887 | P17: =F8 -> 2378 | Q17: =G8 -> 3271556 | R17: =H8 -> 54031 | S17: =I8 -> 6098
B18: 2013 | C18: 870516 | D18: 22914 | E18: 5350 | F18: 3101 | G18: 3968517 | H18: 89470 | I18: 31034 | J18: 4990902 | L18: =B9 -> 2004 | M18: =C9 -> 625293 | N18: =D9 -> 19885 | O18: =E9 -> 18730 | P18: =F9 -> 5637 | Q18: =G9 -> 3469386 | R18: =H9 -> 57735 | S18: =I9 -> 30775
B19: 2014 | C19: 1046122 | D19: 20371 | E19: 5850 | F19: 2894 | G19: 4270889 | H19: 193035 | I19: 36422 | J19: 5575583 | L19: =B10 -> 2005 | M19: =C10 -> 698431 | N19: =D10 -> 18053 | O19: =E10 -> 26087 | P19: =F10 -> 4888 | Q19: =G10 -> 2370166 | R19: =H10 -> 75861 | S19: =I10 -> 28368
B20: 2015 | C20: 1003383 | D20: 25101 | E20: 4500 | F20: 3660 | G20: 4574547 | H20: 193690 | I20: 33951 | J20: 5838832 | L20: =B11 -> 2006 | M20: =C11 -> 787030 | N20: =D11 -> 17403 | O20: =E11 -> 13316 | P20: =F11 -> 4313 | Q20: =G11 -> 3473699 | R20: =H11 -> 86495 | S20: =I11 -> 29042
B21: 2016 | C21: 934795 | D21: 33467 | E21: 9510 | F21: 3916 | G21: 4200212 | H21: 224175 | I21: 31710 | J21: 5437785 | L21: =B12 -> 2007 | M21: =C12 -> 795331 | N21: =D12 -> 16772 | O21: =E12 -> 20187 | P21: =F12 -> 7386 | Q21: =G12 -> 3902957 | R21: =H12 -> 63610 | S21: =I12 -> 32376
B22: 2017 | C22: 873623 | D22: 46517 | E22: 5919 | F22: 2714 | G22: 4468082 | H22: 197545 | I22: 32719 | J22: 5627119 | L22: =B13 -> 2008 | M22: =C13 -> 813775 | N22: =D13 -> 13590 | O22: =E13 -> 13050 | P22: =F13 -> 6365 | Q22: =G13 -> 4727511 | R22: =H13 -> 161415 | S22: =I13 -> 29052
B23: 2018 | C23: 920743 | D23: 59969 | E23: 5105 | F23: 3416 | G23: 4854955 | H23: 145130 | I23: 30089 | J23: 6019407 | L23: =B14 -> 2009 | M23: =C14 -> 646315 | N23: =D14 -> 11710 | O23: =E14 -> 25640 | P23: =F14 -> 7018 | Q23: =G14 -> 4345382 | R23: =H14 -> 157780 | S23: =I14 -> 35119
B24: 2019 | C24: 832367 | D24: 54825 | F24: 2391 | G24: 4623285 | H24: 378525 | I24: 27019 | J24: 5918412 | L24: =B15 -> 2010 | M24: =C15 -> 733304 | N24: =D15 -> 20889 | O24: =E15 -> 10400 | P24: =F15 -> 4223 | Q24: =G15 -> 3362757 | R24: =H15 -> 146294 | S24: =I15 -> 29372
B25: 2020 | C25: 836616 | D25: 38741 | E25: 3080 | F25: 2071 | G25: 4770709 | H25: 266651 | I25: 26303 | J25: 5944171 | L25: =B16 -> 2011 | M25: =C16 -> 704386 | N25: =D16 -> 27636 | O25: =E16 -> 7650 | P25: =F16 -> 3551 | Q25: =G16 -> 3984574 | R25: =H16 -> 129865 | S25: =I16 -> 30175
B26: 2021 | C26: 948718 | D26: 27037 | E26: 1720 | F26: 2224 | G26: 3901331 | H26: 211095 | I26: 21827 | J26: 5113952 | L26: =B17 -> 2012 | M26: =C17 -> 680065 | N26: =D17 -> 12120 | O26: =E17 -> 5475 | P26: =F17 -> 1972 | Q26: =G17 -> 3946714 | R26: =H17 -> 141975 | S26: =I17 -> 39025
B27: 2022 | C27: 845313 | D27: 33955 | E27: 6367 | F27: 3028 | G27: 4880230 | H27: 190485 | I27: 24044 | J27: 5983422 | L27: =B18 -> 2013 | M27: =C18 -> 870516 | N27: =D18 -> 22914 | O27: =E18 -> 5350 | P27: =F18 -> 3101 | Q27: =G18 -> 3968517 | R27: =H18 -> 89470 | S27: =I18 -> 31034
B28: 2023 | C28: 800457 | D28: 32884 | E28: 0 | F28: 1681 | G28: 4552476 | H28: 164420 | I28: 23257 | J28: 5575175 | L28: =B19 -> 2014 | M28: =C19 -> 1046122 | N28: =D19 -> 20371 | O28: =E19 -> 5850 | P28: =F19 -> 2894 | Q28: =G19 -> 4270889 | R28: =H19 -> 193035 | S28: =I19 -> 36422
B29: 2024 | C29: 947754 | D29: 30967 | E29: 4721 | F29: 3097 | G29: 4741770 | H29: 159490 | I29: 28013 | J29: 5915812 | L29: =B20 -> 2015 | M29: =C20 -> 1003383 | N29: =D20 -> 25101 | O29: =E20 -> 4500 | P29: =F20 -> 3660 | Q29: =G20 -> 4574547 | R29: =H20 -> 193690 | S29: =I20 -> 33951
B30: 2025 | C30: 1157061 | D30: 27271 | E30: 655 | F30: 5745 | G30: 4354959 | H30: 226235 | I30: 31870 | J30: 5803796 | L30: =B21 -> 2016 | M30: =C21 -> 934795 | N30: =D21 -> 33467 | O30: =E21 -> 9510 | P30: =F21 -> 3916 | Q30: =G21 -> 4200212 | R30: =H21 -> 224175 | S30: =I21 -> 31710
B31: Totalsum | C31: 21364807 | D31: 785202 | E31: 326190 | F31: 107667 | G31: 114217479 | H31: 4492763 | I31: 815826 | J31: 142109934 | L31: =B22 -> 2017 | M31: =C22 -> 873623 | N31: =D22 -> 46517 | O31: =E22 -> 5919 | P31: =F22 -> 2714 | Q31: =G22 -> 4468082 | R31: =H22 -> 197545 | S31: =I22 -> 32719
L32: =B23 -> 2018 | M32: =C23 -> 920743 | N32: =D23 -> 59969 | O32: =E23 -> 5105 | P32: =F23 -> 3416 | Q32: =G23 -> 4854955 | R32: =H23 -> 145130 | S32: =I23 -> 30089
L33: =B24 -> 2019 | M33: =C24 -> 832367 | N33: =D24 -> 54825 | O33: =E24 -> 0 | P33: =F24 -> 2391 | Q33: =G24 -> 4623285 | R33: =H24 -> 378525 | S33: =I24 -> 27019
L34: =B25 -> 2020 | M34: =C25 -> 836616 | N34: =D25 -> 38741 | O34: =E25 -> 3080 | P34: =F25 -> 2071 | Q34: =G25 -> 4770709 | R34: =H25 -> 266651 | S34: =I25 -> 26303
L35: =B26 -> 2021 | M35: =C26 -> 948718 | N35: =D26 -> 27037 | O35: =E26 -> 1720 | P35: =F26 -> 2224 | Q35: =G26 -> 3901331 | R35: =H26 -> 211095 | S35: =I26 -> 21827
L36: =B27 -> 2022 | M36: =C27 -> 845313 | N36: =D27 -> 33955 | O36: =E27 -> 6367 | P36: =F27 -> 3028 | Q36: =G27 -> 4880230 | R36: =H27 -> 190485 | S36: =I27 -> 24044
L37: =B28 -> 2023 | M37: =C28 -> 800457 | N37: =D28 -> 32884 | O37: =E28 -> 0 | P37: =F28 -> 1681 | Q37: =G28 -> 4552476 | R37: =H28 -> 164420 | S37: =I28 -> 23257
L38: =B29 -> 2024 | M38: =C29 -> 947754 | N38: =D29 -> 30967 | O38: =E29 -> 4721 | P38: =F29 -> 3097 | Q38: =G29 -> 4741770 | R38: =H29 -> 159490 | S38: =I29 -> 28013
L39: =B30 -> 2025 | M39: =C30 -> 1157061 | N39: =D30 -> 27271 | O39: =E30 -> 655 | P39: =F30 -> 5745 | Q39: =G30 -> 4354959 | R39: =H30 -> 226235 | S39: =I30 -> 31870

Sheet Tabell areal
J3: =B17 -> Barskog | K3: =C17 -> Blandingsskog | L3: =D17 -> Lauvskog | M3: =E17 -> Skog på myr | N3: Verna prod.skog | O3: Prod skog eksl vern
I4: =A18 -> 5001 Trondheim | J4: =B18 -> 217424 | K4: =C18 -> 8755 | L4: =D18 -> 15528 | M4: =E18 -> 1846 | N4: =F64 -> 9811 | O4: =J4+K4+L4+M4-N4 -> 233742
I5: =A19 -> 5006 Steinkjer | J5: =B19 -> 811487 | K5: =C19 -> 33445 | L5: =D19 -> 13254 | M5: =E19 -> 3679 | N5: =F65 -> 33513 | O5: =J5+K5+L5+M5-N5 -> 828352
I6: =A20 -> 5007 Namsos | J6: =B20 -> 742120 | K6: =C20 -> 25379 | L6: =D20 -> 8982 | M6: =E20 -> 15891 | N6: =F66 -> 58659 | O6: =J6+K6+L6+M6-N6 -> 733713
I7: =A21 -> 5014 Frøya | J7: =B21 -> 1684 | K7: =C21 -> 117 | L7: =D21 -> 10 | M7: =E21 -> 137 | N7: =F67 -> 0 | O7: =J7+K7+L7+M7-N7 -> 1948
I8: =A22 -> 5020 Osen | J8: =B22 -> 48045 | K8: =C22 -> 5294 | L8: =D22 -> 2440 | M8: =E22 -> 139 | N8: =F68 -> 1748 | O8: =J8+K8+L8+M8-N8 -> 54170
I9: =A23 -> 5021 Oppdal | J9: =B23 -> 85370 | K9: =C23 -> 19449 | L9: =D23 -> 24776 | M9: =E23 -> 96 | N9: =F69 -> 3130 | O9: =J9+K9+L9+M9-N9 -> 126561
I10: =A24 -> 5022 Rennebu | J10: =B24 -> 173026 | K10: =C24 -> 42512 | L10: =D24 -> 36454 | M10: =E24 -> 166 | N10: =F70 -> 2582 | O10: =J10+K10+L10+M10-N10 -> 249576
I11: =A25 -> 5025 Røros | J11: =B25 -> 108692 | K11: =C25 -> 15007 | L11: =D25 -> 82865 | M11: =E25 -> 434 | N11: =F71 -> 19469 | O11: =J11+K11+L11+M11-N11 -> 187529
I12: =A26 -> 5026 Holtålen | J12: =B26 -> 101172 | K12: =C26 -> 11321 | L12: =D26 -> 17722 | M12: =E26 -> 355 | N12: =F72 -> 8239 | O12: =J12+K12+L12+M12-N12 -> 122331
I13: =A27 -> 5027 Midtre Gauldal | J13: =B27 -> 372780 | K13: =C27 -> 59275 | L13: =D27 -> 69931 | M13: =E27 -> 903 | N13: =F73 -> 19585 | O13: =J13+K13+L13+M13-N13 -> 483304
I14: =A28 -> 5028 Melhus | J14: =B28 -> 301353 | K14: =C28 -> 7707 | L14: =D28 -> 22316 | M14: =E28 -> 1093 | N14: =F74 -> 1041 | O14: =J14+K14+L14+M14-N14 -> 331428
I15: =A29 -> 5029 Skaun | J15: =B29 -> 125479 | K15: =C29 -> 4248 | L15: =D29 -> 6588 | M15: =E29 -> 2288 | N15: =F75 -> 212 | O15: =J15+K15+L15+M15-N15 -> 138391
A16: Summer av Daa | B16: Kolonneetiketter | I16: =A30 -> 5031 Malvik | J16: =B30 -> 108694 | K16: =C30 -> 2339 | L16: =D30 -> 1461 | M16: =E30 -> 467 | N16: =F76 -> 2420 | O16: =J16+K16+L16+M16-N16 -> 110541
A17: Radetiketter | B17: Barskog | C17: Blandingsskog | D17: Lauvskog | E17: Skog på myr | I17: =A31 -> 5032 Selbu | J17: =B31 -> 314636 | K17: =C31 -> 8288 | L17: =D31 -> 5990 | M17: =E31 -> 506 | N17: =F77 -> 7521 | O17: =J17+K17+L17+M17-N17 -> 321899
A18: 5001 Trondheim | B18: 217424 | C18: 8755 | D18: 15528 | E18: 1846 | I18: =A32 -> 5033 Tydal | J18: =B32 -> 102601 | K18: =C32 -> 8539 | L18: =D32 -> 33857 | M18: =E32 -> 562 | N18: =F78 -> 496 | O18: =J18+K18+L18+M18-N18 -> 145063
A19: 5006 Steinkjer | B19: 811487 | C19: 33445 | D19: 13254 | E19: 3679 | I19: =A33 -> 5034 Meråker | J19: =B33 -> 183451 | K19: =C33 -> 7804 | L19: =D33 -> 2915 | M19: =E33 -> 418 | N19: =F79 -> 479 | O19: =J19+K19+L19+M19-N19 -> 194109
A20: 5007 Namsos | B20: 742120 | C20: 25379 | D20: 8982 | E20: 15891 | I20: =A34 -> 5035 Stjørdal | J20: =B34 -> 409127 | K20: =C34 -> 13535 | L20: =D34 -> 15840 | M20: =E34 -> 2206 | N20: =F80 -> 5666 | O20: =J20+K20+L20+M20-N20 -> 435042
A21: 5014 Frøya | B21: 1684 | C21: 117 | D21: 10 | E21: 137 | I21: =A35 -> 5036 Frosta | J21: =B35 -> 34173 | K21: =C35 -> 736 | L21: =D35 -> 1882 | M21: =E35 -> 39 | N21: =F81 -> 350 | O21: =J21+K21+L21+M21-N21 -> 36480
A22: 5020 Osen | B22: 48045 | C22: 5294 | D22: 2440 | E22: 139 | I22: =A36 -> 5037 Levanger | J22: =B36 -> 267922 | K22: =C36 -> 11483 | L22: =D36 -> 7533 | M22: =E36 -> 1405 | N22: =F82 -> 15539 | O22: =J22+K22+L22+M22-N22 -> 272804
A23: 5021 Oppdal | B23: 85370 | C23: 19449 | D23: 24776 | E23: 96 | I23: =A37 -> 5038 Verdal | J23: =B37 -> 388395 | K23: =C37 -> 35522 | L23: =D37 -> 13565 | M23: =E37 -> 2473 | N23: =F83 -> 16915 | O23: =J23+K23+L23+M23-N23 -> 423040
A24: 5022 Rennebu | B24: 173026 | C24: 42512 | D24: 36454 | E24: 166 | I24: =A38 -> 5041 Snåsa | J24: =B38 -> 476132 | K24: =C38 -> 53756 | L24: =D38 -> 6249 | M24: =E38 -> 1942 | N24: =F84 -> 83570 | O24: =J24+K24+L24+M24-N24 -> 454509
A25: 5025 Røros | B25: 108692 | C25: 15007 | D25: 82865 | E25: 434 | I25: =A39 -> 5042 Lierne | J25: =B39 -> 514452 | K25: =C39 -> 168393 | L25: =D39 -> 32142 | M25: =E39 -> 4967 | N25: =F85 -> 42029 | O25: =J25+K25+L25+M25-N25 -> 677925
A26: 5026 Holtålen | B26: 101172 | C26: 11321 | D26: 17722 | E26: 355 | I26: =A40 -> 5043 Røyrvik | J26: =B40 -> 91440 | K26: =C40 -> 36245 | L26: =D40 -> 39707 | M26: =E40 -> 390 | N26: =F86 -> 5450 | O26: =J26+K26+L26+M26-N26 -> 162332
A27: 5027 Midtre Gauldal | B27: 372780 | C27: 59275 | D27: 69931 | E27: 903 | I27: =A41 -> 5044 Namsskogan | J27: =B41 -> 293839 | K27: =C41 -> 32037 | L27: =D41 -> 5516 | M27: =E41 -> 3240 | N27: =F87 -> 9339 | O27: =J27+K27+L27+M27-N27 -> 325293
A28: 5028 Melhus | B28: 301353 | C28: 7707 | D28: 22316 | E28: 1093 | I28: =A42 -> 5045 Grong | J28: =B42 -> 445736 | K28: =C42 -> 21931 | L28: =D42 -> 5133 | M28: =E42 -> 3146 | N28: =F88 -> 28696 | O28: =J28+K28+L28+M28-N28 -> 447250
A29: 5029 Skaun | B29: 125479 | C29: 4248 | D29: 6588 | E29: 2288 | I29: =A43 -> 5046 Høylandet | J29: =B43 -> 173725 | K29: =C43 -> 8778 | L29: =D43 -> 3037 | M29: =E43 -> 3885 | N29: =F89 -> 9059 | O29: =J29+K29+L29+M29-N29 -> 180366
... A41: 5044 Namsskogan | B41: 293839 | C41: 32037 | D41: 5516 | E41: 3240 | I41: =A55 -> 5061 Rindal | J41: =B55 -> 67245 | K41: =C55 -> 24251 | L41: =D55 -> 40082 | M41: =E55 -> 2071 | N41: =F101 -> 1031 | O41: =J41+K41+L41+M41-N41 -> 132618
A42: 5045 Grong | B42: 445736 | C42: 21931 | D42: 5133 | E42: 3146 | I42: =A56 -> Totalsum | J42: =B56 -> 9154881 | K42: =C56 -> 894096 | L42: =D56 -> 748288 | M42: =E56 -> 76390 | N42: =SUM(N4:N41) -> 483463 | O42: =J42+K42+L42+M42-N42 -> 10390192
A43: 5046 Høylandet | B43: 173725 | C43: 8778 | D43: 3037 | E43: 3885 | O43: =J42+K42+L42+M42 -> 10873655
A44: 5047 Overhalla | B44: 280641 | C44: 6398 | D44: 6653 | E44: 6290
A45: 5049 Flatanger | B45: 61240 | C45: 11961 | D45: 3743 | E45: 334
A46: 5052 Leka | B46: 4055 | C46: 1865 | D46: 3648 | E46: 4
A47: 5053 Inderøy | B47: 208049 | C47: 8519 | D47: 5496 | E47: 1129
A48: 5054 Indre Fosen | B48: 349339 | C48: 29431 | D48: 22640 | E48: 1212
A49: 5055 Heim | B49: 199294 | C49: 43905 | D49: 57954 | E49: 492
A50: 5056 Hitra | B50: 95278 | C50: 2466 | D50: 6610 | E50: 428
A51: 5057 Ørland | B51: 86147 | C51: 6772 | D51: 9056 | E51: 1426
A52: 5058 Åfjord | B52: 183372 | C52: 16686 | D52: 7668 | E52: 3348
A53: 5059 Orkland | B53: 506450 | C53: 70797 | D53: 86042 | E53: 2605
A54: 5060 Nærøysund | B54: 220816 | C54: 29150 | D54: 23003 | E54: 4378
A55: 5061 Rindal | B55: 67245 | C55: 24251 | D55: 40082 | E55: 2071
A56: Totalsum | B56: 9154881 | C56: 894096 | D56: 748288 | E56: 76390
A62: Summer av Daa | B62: Kolonneetiketter
A63: Radetiketter | B63: Verna barskog | C63: Verna blandingsskog | D63: Verna lauvskog | E63: Verna skog på myr | F63: Totalsum
A64: 5001 Trondheim | B64: 9260 | C64: 285 | D64: 264 | E64: 2 | F64: 9811
A65: 5006 Steinkjer | B65: 30059 | C65: 3065 | D65: 389 | F65: 33513
A66: 5007 Namsos | B66: 54667 | C66: 3364 | D66: 304 | E66: 324 | F66: 58659
A67: 5014 Frøya
A68: 5020 Osen | B68: 1541 | C68: 152 | D68: 55 | F68: 1748
A69: 5021 Oppdal | B69: 679 | C69: 531 | D69: 1920 | F69: 3130
A70: 5022 Rennebu | B70: 1602 | C70: 268 | D70: 712 | F70: 2582
A71: 5025 Røros | B71: 14241 | C71: 912 | D71: 4247 | E71: 69 | F71: 19469
A72: 5026 Holtålen | B72: 6746 | C72: 895 | D72: 598 | F72: 8239
A73: 5027 Midtre Gauldal | B73: 13357 | C73: 1399 | D73: 4829 | F73: 19585
A74: 5028 Melhus | B74: 668 | C74: 48 | D74: 325 | F74: 1041
A75: 5029 Skaun | B75: 200 | C75: 1 | D75: 9 | E75: 2 | F75: 212
A76: 5031 Malvik | B76: 2394 | C76: 26 | F76: 2420
A77: 5032 Selbu | B77: 7254 | C77: 195 | D77: 72 | F77: 7521
A78: 5033 Tydal | B78: 434 | C78: 55 | D78: 5 | E78: 2 | F78: 496
A79: 5034 Meråker | B79: 445 | C79: 34 | F79: 479
A80: 5035 Stjørdal | B80: 5054 | C80: 221 | D80: 367 | E80: 24 | F80: 5666
A81: 5036 Frosta | B81: 279 | C81: 42 | D81: 29 | F81: 350
A82: 5037 Levanger | B82: 13788 | C82: 1428 | D82: 122 | E82: 201 | F82: 15539
A83: 5038 Verdal | B83: 10922 | C83: 5700 | D83: 179 | E83: 114 | F83: 16915
A84: 5041 Snåsa | B84: 67416 | C84: 14937 | D84: 1099 | E84: 118 | F84: 83570
A85: 5042 Lierne | B85: 21767 | C85: 17114 | D85: 3098 | E85: 50 | F85: 42029
A86: 5043 Røyrvik | B86: 3367 | C86: 773 | D86: 1310 | F86: 5450
A87: 5044 Namsskogan | B87: 5915 | C87: 2779 | D87: 645 | F87: 9339
A88: 5045 Grong | B88: 22131 | C88: 6465 | D88: 100 | F88: 28696
A89: 5046 Høylandet | B89: 7621 | C89: 1159 | D89: 279 | F89: 9059
A90: 5047 Overhalla | B90: 13145 | C90: 356 | D90: 225 | F90: 13726
A91: 5049 Flatanger | B91: 5240 | C91: 604 | D91: 25 | F91: 5869
A92: 5052 Leka | B92: 140 | C92: 119 | D92: 1 | F92: 260
A93: 5053 Inderøy | B93: 1550 | C93: 99 | D93: 36 | F93: 1685
A94: 5054 Indre Fosen | B94: 3281 | C94: 191 | D94: 104 | F94: 3576
A95: 5055 Heim | B95: 767 | C95: 45 | D95: 324 | F95: 1136
A96: 5056 Hitra | B96: 1118 | C96: 42 | D96: 14 | F96: 1174
A97: 5057 Ørland | B97: 12401 | C97: 334 | D97: 44 | F97: 12779
... A100: 5060 Nærøysund | B100: 25907 | C100: 4679 | D100: 896 | F100: 31482
A101: 5061 Rindal | B101: 231 | C101: 49 | D101: 743 | E101: 8 | F101: 1031
A102: Totalsum | B102: 384063 | C102: 72237 | D102: 26249 | E102: 914 | F102: 483463

Sheet Metadata
B5: Aktivitet:
B6: Landbruksdirektoratets skogfondsregnskap.
B16: Data over produktivt skogareal som er brukt i denne fila er hentet ut i februar 2020
